{"text_format":"1","workbook":"xlsx","n_sheets":4,"sheets":["Spelprogram Div 1","Spelprogram Div 2","Tabeller","Serieinformation"],"not_rendered":{"charts":0,"images":0,"macros":1,"external_links":0,"defined_names":4,"comments":0,"pivot_tables":0},"unopened":[],"bounds":{"document_bytes":16777216,"sheet_cells":100000,"rows_first":2000,"rows_last":500,"rows_between":2000,"halvings":0,"cell_chars":16384,"cell_head_chars":4096},"cells_cut":0,"cells_raw":0,"read":"whole","date_system":"1900"}

{"sheet":"Spelprogram Div 1","index":0,"n_rows":141,"n_cols":75,"rows_kept":141,"cut":false,"hidden":false,"merged":[]}
[null,null,null,null,null,null,"2023 / 2024",null,null,null,null,null,null,null,null,null,null,null,null,"Antal"]
[null,"Match",null,null,null,null,"Division 1",null,null,null,null,null,null,null,null,null,null,null,"Carlskrona Hsc",{"$f":"COUNTIF(G$4:H$76,\"Carlskrona Hsc\")","v":14}]
["Omgång","NR","Datum","Plats","Kl.","Bana","Hemmalag","Bortalag",null,null,null,null,null,null,null,null,null,null,"Lanternan 1",{"$f":"COUNTIF(G$4:H$76,\"Lanternan 1\")","v":14}]
[1,1,"2023-09-23","Karlskrona","10:00:00",null,"Lanternan 1","Korpen Åseda",null,null,":",null,null,null,null,null,null,null,"Växjö Hsk 1",{"$f":"COUNTIF(G$4:H$76,\"Växjö hsk 1\")","v":14}]
[null,2,null,"Karlskrona","10:00:00",null,"Sibbamåla","Växjö Hsk 1",null,null,":",null,null,null,null,null,null,null,"Korpen Åseda",{"$f":"COUNTIF(G$4:H$76,\"Korpen Åseda\")","v":14}]
[null,3,null,"Länk","10:00:00",null,"Carlskrona Hsc","Vaxholm Hsk",null,null,":",null,null,null,null,null,null,null,"Vaxholm Hsk",{"$f":"COUNTIF(G$4:H$76,\"Vaxholm hsk\")","v":14}]
[null,4,null,"Rådmansö","10:00:00",null,"Balders Hsk 2","Balders Hsk 1",null,null,":",null,null,null,null,null,null,null,"Sibbamåla",{"$f":"COUNTIF(G$4:H$76,\"sibbamåla\")","v":14}]
[null,5,null,"Karlskrona","12:00:00",null,"Korpen Åseda","Sibbamåla",null,null,":",null,null,null,null,null,null,null,"Balders Hsk 2",{"$f":"COUNTIF(G$4:H$76,\"Balders Hsk 2\")","v":14}]
[null,6,null,"Karlskrona","12:00:00",null,"Växjö Hsk 1","Lanternan 1",null,null,":",null,null,null,null,null,null,null,"Balders Hsk 1",{"$f":"COUNTIF(G$4:H$76,\"Balders Hsk 1\")","v":14}]
[null,7,null,"Länk","12:00:00",null,"Balders Hsk 2","Carlskrona Hsc",null,null,":"]
[null,8,null,"??","12:00:00",null,"Vaxholm Hsk","Balders Hsk 1",null,null,":"]
[]
[2,15,"2023-10-28","Åseda","10:00:00",null,"Carlskrona Hsc","Växjö Hsk 1",null,null,":"]
[null,16,null,"Länk","10:00:00",null,"Korpen Åseda","Balders Hsk 1",null,null,":"]
[null,17,null,"Länk","10:00:00",null,"Lanternan 1","Vaxholm Hsk",null,null,":"]
[null,18,null,"Länk","10:00:00",null,"Sibbamåla","Balders Hsk 2",null,null,":"]
[null,19,null,"Åseda","12:00:00",null,"Carlskrona Hsc","Korpen Åseda",null,null,":"]
[null,20,null,"Länk","12:00:00",null,"Balders Hsk 1","Växjö Hsk 1",null,null,":"]
[null,21,null,"Karlskrona","12:00:00",null,"Lanternan 1","Sibbamåla",null,null,":"]
[null,22,null,"??","12:00:00",null,"Vaxholm Hsk","Balders Hsk 2",null,null,":"]
[]
[3,29,"2023-11-25","Länk","10:00:00",null,"Växjö Hsk 1","Balders Hsk 2",null,null,":"]
[null,30,null,"Länk","10:00:00",null,"Korpen Åseda","Vaxholm Hsk",null,null,":"]
[null,31,null,"Länk","10:00:00",null,"Balders Hsk 1","Lanternan 1",null,null,":"]
[null,32,null,"Karlskrona","10:00:00",null,"Sibbamåla","Carlskrona Hsc",null,null,":"]
[null,33,null,"Länk","12:00:00",null,"Växjö Hsk 1","Vaxholm Hsk",null,null,":"]
[null,34,null,"Länk","12:00:00",null,"Korpen Åseda","Balders Hsk 2",null,null,":"]
[null,35,null,"Länk","12:00:00",null,"Sibbamåla","Balders Hsk 1",null,null,":"]
[null,36,null,"Karlskrona","12:00:00",null,"Carlskrona Hsc","Lanternan 1",null,null,":"]
[]
[4,43,"2024-01-20","Växjö/Lidhult","10:00:00",null,"Växjö Hsk 1","Korpen Åseda",null,null,":"]
[null,44,null,"Länk","10:00:00",null,"Vaxholm Hsk","Sibbamåla",null,null,":"]
[null,45,null,"Länk","10:00:00",null,"Balders Hsk 1","Carlskrona Hsc",null,null,":"]
[null,46,null,"Länk","10:00:00",null,"Balders Hsk 2","Lanternan 1",null,null,":"]
[null,47,null,"Växjö/Lidhult","12:00:00",null,"Korpen Åseda","Växjö Hsk 1",null,null,":"]
[null,48,null,"Länk","12:00:00",null,"Vaxholm Hsk","Lanternan 1",null,null,":"]
[null,49,null,"Länk","12:00:00",null,"Carlskrona Hsc","Balders Hsk 2",null,null,":"]
[null,50,null,"Länk","12:00:00",null,"Balders Hsk 1","Sibbamåla",null,null,":"]
[]
[5,57,"2024-02-24","Åseda","10:00:00",null,"Korpen Åseda","Lanternan 1",null,null,":"]
[null,58,null,"Åseda","10:00:00",null,"Växjö Hsk 1","Sibbamåla",null,null,":"]
[null,59,null,"Länk","10:00:00",null,"Vaxholm Hsk","Carlskrona Hsc",null,null,":"]
[null,60,null,"Rådmansö","10:00:00",null,"Balders Hsk 1","Balders Hsk 2",null,null,":"]
[null,61,null,"Åseda","12:00:00",null,"Lanternan 1","Växjö Hsk 1",null,null,":"]
[null,62,null,"Åseda","12:00:00",null,"Sibbamåla","Korpen Åseda",null,null,":"]
[null,63,null,"Länk","12:00:00",null,"Carlskrona Hsc","Balders Hsk 1",null,null,":"]
[null,64,null,"??","12:00:00",null,"Balders Hsk 2","Vaxholm Hsk",null,null,":"]
[]
[6,71,"2024-03-17","Länk","10:00:00",null,"Balders Hsk 2","Växjö Hsk 1",null,null,":"]
[null,72,null,"Länk","10:00:00",null,"Balders Hsk 1","Korpen Åseda",null,null,":"]
[null,73,null,"Länk","10:00:00",null,"Sibbamåla","Vaxholm Hsk",null,null,":"]
[null,74,null,"Karlskrona","10:00:00",null,"Lanternan 1","Carlskrona Hsc",null,null,":"]
[null,75,null,"Länk","12:00:00",null,"Växjö Hsk 1","Balders Hsk 1",null,null,":"]
[null,76,null,"Länk","12:00:00",null,"Vaxholm Hsk","Korpen Åseda",null,null,":"]
[null,77,null,"Länk","12:00:00",null,"Lanternan 1","Balders Hsk 2",null,null,":"]
[null,78,null,"Karlskrona","12:00:00",null,"Carlskrona Hsc","Sibbamåla",null,null,":"]
[]
[7,85,"2024-04-20","Åseda","10:00:00",null,"Växjö Hsk 1","Carlskrona Hsc",null,null,":"]
[null,86,null,"Länk","10:00:00",null,"Balders Hsk 2","Korpen Åseda",null,null,":"]
[null,87,null,"Karlskrona","10:00:00",null,"Sibbamåla","Lanternan 1",null,null,":"]
[null,88,null,"??","10:00:00",null,"Balders Hsk 1","Vaxholm Hsk",null,null,":"]
[null,89,null,"Åseda","12:00:00",null,"Korpen Åseda","Carlskrona Hsc",null,null,":"]
[null,90,null,"Länk","12:00:00",null,"Vaxholm Hsk","Växjö Hsk 1",null,null,":"]
[null,91,null,"Länk","12:00:00",null,"Balders Hsk 2","Sibbamåla",null,null,":"]
[null,92,null,"Länk","12:00:00",null,"Lanternan 1","Balders Hsk 1",null,null,":"]
[null,null,"OBS!!! Sista seriespelsmatchen skall vara spelad senast lördagen den 20 april"]
[]
[]
[]
[]
[]
[]
[]
[]
[null,null,null,null,null,null,null,null,null,null,null,null,null,null,null,null,null,null,null,null,null,null,null,null,null,null,null,null,null,null,null,"Sibbamåla ",null,null,null,null,"Balders Hsk 2",null,null,null,null,"Korpen Åseda",null,null,null,null,"Växjö Hsk 1",null,null,null,null,"Carlskrona Hsc",null,null,null,null,"Vaxholm Hsk",null,null,null,null,null,null,null,null,null,"Balders Hsk 1",null,null,null,null,"Lanternan 1"]
[null,null,null,null,null,null,null,null,null,null,null,null,null,null,null,null,null,null,null,"Sp.m","3p","2p","1p","0p",null,null,"Matchkvot",null,null,"Poäng"]
[null,"OBS!!!!",null,null,null,null,null,null,null,null,null,null,null,null,null,null,null,null,{"$f":"AF75","v":"Sibbamåla "},{"$f":"COUNT(AF77:AI151)/(2)","v":0},{"$f":"SUM(T77,-V77,-W77,-X77)","v":0},{"$f":"COUNTIF(AH77:AI151,5)","v":0},{"$f":"COUNTIF(AF77:AG151,5)","v":0},{"$f":"COUNTIF(AF77:AG151,\"<5\")","v":0},null,{"$f":"SUM(AF77:AG151)","v":0},null,{"$f":"SUM(AH77:AI151)","v":0},{"$f":"Z77-AB77","v":0},{"$f":"SUM(U77*3)+(V77*2)+(W77*1)","v":0},null,{"$f":"IF(J4=\"\",\"-\",IF(G4=\"Sibbamåla\",J4,\"-\"))","v":"-"},{"$f":"IF(L4=\"\",\"-\",IF(H4=\"Sibbamåla\",L4,\"-\"))","v":"-"},{"$f":"IF(AF77<7,L4,\"-\")","v":"-"},{"$f":"IF(AG77<7,J4,\"-\")","v":"-"},null,{"$f":"IF(J4=\"\",\"-\",IF(G4=\"Balders Hsk 2\",J4,\"-\"))","v":"-"},{"$f":"IF(L4=\"\",\"-\",IF(H4=\"Balders Hsk 2\",L4,\"-\"))","v":"-"},{"$f":"IF(AK77<7,L4,\"-\")","v":"-"},{"$f":"IF(AL77<7,J4,\"-\")","v":"-"},null,{"$f":"IF(J4=\"\",\"-\",IF(G4=\"Korpen Åseda\",J4,\"-\"))","v":"-"},{"$f":"IF(L4=\"\",\"-\",IF(H4=\"Korpen Åseda\",L4,\"-\"))","v":"-"},{"$f":"IF(AP77<7,L4,\"-\")","v":"-"},{"$f":"IF(AQ77<7,J4,\"-\")","v":"-"},null,{"$f":"IF(J4=\"\",\"-\",IF(G4=\"Växjö Hsk 1\",J4,\"-\"))","v":"-"},{"$f":"IF(L4=\"\",\"-\",IF(H4=\"Växjö hsk 1\",L4,\"-\"))","v":"-"},{"$f":"IF(AU77<7,L4,\"-\")","v":"-"},{"$f":"IF(AV77<7,J4,\"-\")","v":"-"},null,{"$f":"IF(J4=\"\",\"-\",IF(G4=\"Carlskrona Hsc\",J4,\"-\"))","v":"-"},{"$f":"IF(L4=\"\",\"-\",IF(H4=\"Carlskrona hsc\",L4,\"-\"))","v":"-"},{"$f":"IF(AZ77<7,L4,\"-\")","v":"-"},{"$f":"IF(BA77<7,J4,\"-\")","v":"-"},null,{"$f":"IF(J4=\"\",\"-\",IF(G4=\"Vaxholm hsk\",J4,\"-\"))","v":"-"},{"$f":"IF(L4=\"\",\"-\",IF(H4=\"Vaxholm hsk\",L4,\"-\"))","v":"-"},{"$f":"IF(BE77<7,L4,\"-\")","v":"-"},{"$f":"IF(BF77<7,J4,\"-\")","v":"-"},null,null,null,null,null,null,{"$f":"IF(J4=\"\",\"-\",IF(G4=\"Balders Hsk 1\",J4,\"-\"))","v":"-"},{"$f":"IF(L4=\"\",\"-\",IF(H4=\"Balders hsk 1\",L4,\"-\"))","v":"-"},{"$f":"IF(BO77<7,L4,\"-\")","v":"-"},{"$f":"IF(BP77<7,J4,\"-\")","v":"-"},null,{"$f":"IF(J4=\"\",\"-\",IF(G4=\"Lanternan 1\",J4,\"-\"))","v":"-"},{"$f":"IF(L4=\"\",\"-\",IF(H4=\"Lanternan 1\",L4,\"-\"))","v":"-"},{"$f":"IF(BT77<7,L4,\"-\")","v":"-"},{"$f":"IF(BU77<7,J4,\"-\")","v":"-"}]
[null,"Arrangör skickar in matchresultat via SMS till Tomas Lindahl direkt efter avslutade matcher ",null,null,null,null,null,null,null,null,null,null,null,null,null,null,null,null,{"$f":"AK75","v":"Balders Hsk 2"},{"$f":"COUNT(AK77:AN151)/(2)","v":0},0,{"$f":"COUNTIF(AM77:AN151,5)","v":0},{"$f":"COUNTIF(AK77:AL151,5)","v":0},{"$f":"COUNTIF(AK77:AL151,\"<5\")","v":0},null,{"$f":"SUM(AK77:AL151)","v":0},null,{"$f":"SUM(AM77:AN151)","v":0},0,0,null,{"$f":"IF(J5=\"\",\"-\",IF(G5=\"Sibbamåla\",J5,\"-\"))","v":"-"},{"$f":"IF(L5=\"\",\"-\",IF(H5=\"Sibbamåla\",L5,\"-\"))","v":"-"},{"$f":"IF(AF78<7,L5,\"-\")","v":"-"},{"$f":"IF(AG78<7,J5,\"-\")","v":"-"},null,{"$f":"IF(J5=\"\",\"-\",IF(G5=\"Balders Hsk 2\",J5,\"-\"))","v":"-"},{"$f":"IF(L5=\"\",\"-\",IF(H5=\"Balders Hsk 2\",L5,\"-\"))","v":"-"},{"$f":"IF(AK78<7,L5,\"-\")","v":"-"},{"$f":"IF(AL78<7,J5,\"-\")","v":"-"},null,{"$f":"IF(J5=\"\",\"-\",IF(G5=\"Korpen Åseda\",J5,\"-\"))","v":"-"},{"$f":"IF(L5=\"\",\"-\",IF(H5=\"Korpen Åseda\",L5,\"-\"))","v":"-"},{"$f":"IF(AP78<7,L5,\"-\")","v":"-"},{"$f":"IF(AQ78<7,J5,\"-\")","v":"-"},null,{"$f":"IF(J5=\"\",\"-\",IF(G5=\"Växjö Hsk 1\",J5,\"-\"))","v":"-"},{"$f":"IF(L5=\"\",\"-\",IF(H5=\"Växjö hsk 1\",L5,\"-\"))","v":"-"},{"$f":"IF(AU78<7,L5,\"-\")","v":"-"},{"$f":"IF(AV78<7,J5,\"-\")","v":"-"},null,{"$f":"IF(J5=\"\",\"-\",IF(G5=\"Carlskrona Hsc\",J5,\"-\"))","v":"-"},{"$f":"IF(L5=\"\",\"-\",IF(H5=\"Carlskrona hsc\",L5,\"-\"))","v":"-"},{"$f":"IF(AZ78<7,L5,\"-\")","v":"-"},{"$f":"IF(BA78<7,J5,\"-\")","v":"-"},null,{"$f":"IF(J5=\"\",\"-\",IF(G5=\"Vaxholm hsk\",J5,\"-\"))","v":"-"},{"$f":"IF(L5=\"\",\"-\",IF(H5=\"Vaxholm hsk\",L5,\"-\"))","v":"-"},{"$f":"IF(BE78<7,L5,\"-\")","v":"-"},{"$f":"IF(BF78<7,J5,\"-\")","v":"-"},null,null,null,null,null,null,{"$f":"IF(J5=\"\",\"-\",IF(G5=\"Balders Hsk 1\",J5,\"-\"))","v":"-"},{"$f":"IF(L5=\"\",\"-\",IF(H5=\"Balders hsk 1\",L5,\"-\"))","v":"-"},{"$f":"IF(BO78<7,L5,\"-\")","v":"-"},{"$f":"IF(BP78<7,J5,\"-\")","v":"-"},null,{"$f":"IF(J5=\"\",\"-\",IF(G5=\"Lanternan 1\",J5,\"-\"))","v":"-"},{"$f":"IF(L5=\"\",\"-\",IF(H5=\"Lanternan 1\",L5,\"-\"))","v":"-"},{"$f":"IF(BT78<7,L5,\"-\")","v":"-"},{"$f":"IF(BU78<7,J5,\"-\")","v":"-"}]
[null,"Tel. 073-4004693 skriv matchnummer enligt spelprogram följt av resultatet i matchen.",null,null,null,null,null,null,null,null,null,null,null,null,null,null,null,null,{"$f":"AP75","v":"Korpen Åseda"},{"$f":"COUNT(AP77:AS151)/(2)","v":0},0,{"$f":"COUNTIF(AR77:AS151,5)","v":0},{"$f":"COUNTIF(AP77:AQ151,5)","v":0},{"$f":"COUNTIF(AP77:AQ151,\"<5\")","v":0},null,{"$f":"SUM(AP77:AQ151)","v":0},null,{"$f":"SUM(AR77:AS151)","v":0},0,0,null,"-","-","-","-",null,"-","-","-","-",null,"-","-","-","-",null,"-","-","-","-",null,"-","-","-","-",null,"-","-","-","-",null,null,null,null,null,null,"-","-","-","-",null,"-","-","-","-"]
[null,"Matchprotokollet skickas till Gert Karlsson via e-post:  gert.karlsson@svhkf.se ",null,null,null,null,null,null,null,null,null,null,null,null,null,null,null,null,{"$f":"AU75","v":"Växjö Hsk 1"},{"$f":"COUNT(AU77:AX151)/(2)","v":0},0,{"$f":"COUNTIF(AW77:AX151,5)","v":0},{"$f":"COUNTIF(AU77:AV151,5)","v":0},{"$f":"COUNTIF(AU77:AV151,\"<5\")","v":0},null,{"$f":"SUM(AU77:AV151)","v":0},null,{"$f":"SUM(AW77:AX151)","v":0},0,0,null,"-","-","-","-",null,"-","-","-","-",null,"-","-","-","-",null,"-","-","-","-",null,"-","-","-","-",null,"-","-","-","-",null,null,null,null,null,null,"-","-","-","-",null,"-","-","-","-"]
[null,"för uppdatering av rankingtabell.",null,null,null,null,null,null,null,null,null,null,null,null,null,null,null,null,{"$f":"AZ75","v":"Carlskrona Hsc"},{"$f":"COUNT(AZ77:BC151)/(2)","v":0},0,{"$f":"COUNTIF(BB77:BC151,5)","v":0},{"$f":"COUNTIF(AZ77:BA151,5)","v":0},{"$f":"COUNTIF(AZ77:BA151,\"<5\")","v":0},null,{"$f":"SUM(AZ77:BA151)","v":0},null,{"$f":"SUM(BB77:BC151)","v":0},0,0,null,"-","-","-","-",null,"-","-","-","-",null,"-","-","-","-",null,"-","-","-","-",null,"-","-","-","-",null,"-","-","-","-",null,null,null,null,null,null,"-","-","-","-",null,"-","-","-","-"]
[null,null,null,null,null,null,null,null,null,null,null,null,null,null,null,null,null,null,{"$f":"BE75","v":"Vaxholm Hsk"},{"$f":"COUNT(BE77:BH151)/(2)","v":0},0,{"$f":"COUNTIF(BG77:BH151,5)","v":0},{"$f":"COUNTIF(BE77:BF151,5)","v":0},{"$f":"COUNTIF(BE77:BF151,\"<5\")","v":0},null,{"$f":"SUM(BE77:BF151)","v":0},null,{"$f":"SUM(BG77:BH151)","v":0},0,0,null,"-","-","-","-",null,"-","-","-","-",null,"-","-","-","-",null,"-","-","-","-",null,"-","-","-","-",null,"-","-","-","-",null,null,null,null,null,null,"-","-","-","-",null,"-","-","-","-"]
[null,null,null,null,null,null,null,null,null,null,null,null,null,null,null,null,null,null,{"$f":"BJ75","v":0},{"$f":"COUNT(BJ77:BM151)/(2)","v":0},0,{"$f":"COUNTIF(BL77:BM151,5)","v":0},{"$f":"COUNTIF(BJ77:BK151,5)","v":0},{"$f":"COUNTIF(BJ77:BK151,\"<5\")","v":0},null,{"$f":"SUM(BJ77:BK151)","v":0},null,{"$f":"SUM(BL77:BM151)","v":0},0,0,null,"-","-","-","-",null,"-","-","-","-",null,"-","-","-","-",null,"-","-","-","-",null,"-","-","-","-",null,"-","-","-","-",null,null,null,null,null,null,"-","-","-","-",null,"-","-","-","-"]
[null,null,null,null,null,null,null,null,null,null,null,null,null,null,null,null,null,null,{"$f":"BO75","v":"Balders Hsk 1"},{"$f":"COUNT(BO77:BR151)/(2)","v":0},0,{"$f":"COUNTIF(BQ77:BR151,5)","v":0},{"$f":"COUNTIF(BO77:BP151,5)","v":0},{"$f":"COUNTIF(BO77:BP151,\"<5\")","v":0},null,{"$f":"SUM(BO77:BP151)","v":0},null,{"$f":"SUM(BQ77:BR151)","v":0},0,0,null,"-","-","-","-",null,"-","-","-","-",null,"-","-","-","-",null,"-","-","-","-",null,"-","-","-","-",null,"-","-","-","-",null,null,null,null,null,null,"-","-","-","-",null,"-","-","-","-"]
[null,null,null,null,null,null,null,null,null,null,null,null,null,null,null,null,null,null,{"$f":"BT75","v":"Lanternan 1"},{"$f":"COUNT(BT77:BW151)/(2)","v":0},0,{"$f":"COUNTIF(BV77:BW151,5)","v":0},{"$f":"COUNTIF(BT77:BU151,5)","v":0},{"$f":"COUNTIF(BT77:BU151,\"<5\")","v":0},null,{"$f":"SUM(BT77:BU151)","v":0},null,{"$f":"SUM(BV77:BW151)","v":0},0,0,null,"-","-","-","-",null,"-","-","-","-",null,"-","-","-","-",null,"-","-","-","-",null,"-","-","-","-",null,"-","-","-","-",null,null,null,null,null,null,"-","-","-","-",null,"-","-","-","-"]
[null,null,null,null,null,null,null,null,null,null,null,null,null,null,null,null,null,null,{"$f":"BY75","v":0},{"$f":"COUNT(BY77:CB151)/(2)","v":0},0,{"$f":"COUNTIF(CA77:CB151,5)","v":0},{"$f":"COUNTIF(BY77:BZ151,5)","v":0},{"$f":"COUNTIF(BY77:BZ151,\"<5\")","v":0},null,{"$f":"SUM(BY77:BZ151)","v":0},null,{"$f":"SUM(CA77:CB152)","v":0},0,0,null,"-","-","-","-",null,"-","-","-","-",null,"-","-","-","-",null,"-","-","-","-",null,"-","-","-","-",null,"-","-","-","-",null,null,null,null,null,null,"-","-","-","-",null,"-","-","-","-"]
[null,null,null,null,null,null,null,null,null,null,null,null,null,null,null,null,null,null,null,null,null,null,null,null,null,null,null,null,null,null,null,"-","-","-","-",null,"-","-","-","-",null,"-","-","-","-",null,"-","-","-","-",null,"-","-","-","-",null,"-","-","-","-",null,null,null,null,null,null,"-","-","-","-",null,"-","-","-","-"]
[null,null,null,null,null,null,null,null,null,null,null,null,null,null,null,null,null,null,null,null,null,null,null,null,null,null,null,null,null,null,null,"-","-","-","-",null,"-","-","-","-",null,"-","-","-","-",null,"-","-","-","-",null,"-","-","-","-",null,"-","-","-","-",null,null,null,null,null,null,"-","-","-","-",null,"-","-","-","-"]
[null,null,null,null,null,null,null,null,null,null,null,null,null,null,null,null,null,null,null,null,null,null,null,null,null,null,null,null,null,null,null,"-","-","-","-",null,"-","-","-","-",null,"-","-","-","-",null,"-","-","-","-",null,"-","-","-","-",null,"-","-","-","-",null,null,null,null,null,null,"-","-","-","-",null,"-","-","-","-"]
[null,null,null,null,null,null,null,null,null,null,null,null,null,null,null,null,null,null,null,null,null,null,null,null,null,null,null,null,null,null,null,"-","-","-","-",null,"-","-","-","-",null,"-","-","-","-",null,"-","-","-","-",null,"-","-","-","-",null,"-","-","-","-",null,null,null,null,null,null,"-","-","-","-",null,"-","-","-","-"]
[null,null,null,null,null,null,null,null,null,null,null,null,null,null,null,null,null,null,null,null,null,null,null,null,null,null,null,null,null,null,null,"-","-","-","-",null,"-","-","-","-",null,"-","-","-","-",null,"-","-","-","-",null,"-","-","-","-",null,"-","-","-","-",null,null,null,null,null,null,"-","-","-","-",null,"-","-","-","-"]
[null,null,null,null,null,null,null,null,null,null,null,null,null,null,null,null,null,null,null,null,null,null,null,null,null,null,null,null,null,null,null,"-","-","-","-",null,"-","-","-","-",null,"-","-","-","-",null,"-","-","-","-",null,"-","-","-","-",null,"-","-","-","-",null,null,null,null,null,null,"-","-","-","-",null,"-","-","-","-"]
[null,null,null,null,null,null,null,null,null,null,null,null,null,null,null,null,null,null,null,null,null,null,null,null,null,null,null,null,null,null,null,"-","-","-","-",null,"-","-","-","-",null,"-","-","-","-",null,"-","-","-","-",null,"-","-","-","-",null,"-","-","-","-",null,null,null,null,null,null,"-","-","-","-",null,"-","-","-","-"]
[null,null,null,null,null,null,null,null,null,null,null,null,null,null,null,null,null,null,null,null,null,null,null,null,null,null,null,null,null,null,null,"-","-","-","-",null,"-","-","-","-",null,"-","-","-","-",null,"-","-","-","-",null,"-","-","-","-",null,"-","-","-","-",null,null,null,null,null,null,"-","-","-","-",null,"-","-","-","-"]
[null,null,null,null,null,null,null,null,null,null,null,null,null,null,null,null,null,null,null,null,null,null,null,null,null,null,null,null,null,null,null,"-","-","-","-",null,"-","-","-","-",null,"-","-","-","-",null,"-","-","-","-",null,"-","-","-","-",null,"-","-","-","-",null,null,null,null,null,null,"-","-","-","-",null,"-","-","-","-"]
[null,null,null,null,null,null,null,null,null,null,null,null,null,null,null,null,null,null,null,null,null,null,null,null,null,null,null,null,null,null,null,"-","-","-","-",null,"-","-","-","-",null,"-","-","-","-",null,"-","-","-","-",null,"-","-","-","-",null,"-","-","-","-",null,null,null,null,null,null,"-","-","-","-",null,"-","-","-","-"]
[null,null,null,null,null,null,null,null,null,null,null,null,null,null,null,null,null,null,null,null,null,null,null,null,null,null,null,null,null,null,null,"-","-","-","-",null,"-","-","-","-",null,"-","-","-","-",null,"-","-","-","-",null,"-","-","-","-",null,"-","-","-","-",null,null,null,null,null,null,"-","-","-","-",null,"-","-","-","-"]
[null,null,null,null,null,null,null,null,null,null,null,null,null,null,null,null,null,null,null,null,null,null,null,null,null,null,null,null,null,null,null,"-","-","-","-",null,"-","-","-","-",null,"-","-","-","-",null,"-","-","-","-",null,"-","-","-","-",null,"-","-","-","-",null,null,null,null,null,null,"-","-","-","-",null,"-","-","-","-"]
[null,null,null,null,null,null,null,null,null,null,null,null,null,null,null,null,null,null,null,null,null,null,null,null,null,null,null,null,null,null,null,"-","-","-","-",null,"-","-","-","-",null,"-","-","-","-",null,"-","-","-","-",null,"-","-","-","-",null,"-","-","-","-",null,null,null,null,null,null,"-","-","-","-",null,"-","-","-","-"]
[null,null,null,null,null,null,null,null,null,null,null,null,null,null,null,null,null,null,null,null,null,null,null,null,null,null,null,null,null,null,null,"-","-","-","-",null,"-","-","-","-",null,"-","-","-","-",null,"-","-","-","-",null,"-","-","-","-",null,"-","-","-","-",null,null,null,null,null,null,"-","-","-","-",null,"-","-","-","-"]
[null,null,null,null,null,null,null,null,null,null,null,null,null,null,null,null,null,null,null,null,null,null,null,null,null,null,null,null,null,null,null,"-","-","-","-",null,"-","-","-","-",null,"-","-","-","-",null,"-","-","-","-",null,"-","-","-","-",null,"-","-","-","-",null,null,null,null,null,null,"-","-","-","-",null,"-","-","-","-"]
[null,null,null,null,null,null,null,null,null,null,null,null,null,null,null,null,null,null,null,null,null,null,null,null,null,null,null,null,null,null,null,"-","-","-","-",null,"-","-","-","-",null,"-","-","-","-",null,"-","-","-","-",null,"-","-","-","-",null,"-","-","-","-",null,null,null,null,null,null,"-","-","-","-",null,"-","-","-","-"]
[null,null,null,null,null,null,null,null,null,null,null,null,null,null,null,null,null,null,null,null,null,null,null,null,null,null,null,null,null,null,null,"-","-","-","-",null,"-","-","-","-",null,"-","-","-","-",null,"-","-","-","-",null,"-","-","-","-",null,"-","-","-","-",null,null,null,null,null,null,"-","-","-","-",null,"-","-","-","-"]
[null,null,null,null,null,null,null,null,null,null,null,null,null,null,null,null,null,null,null,null,null,null,null,null,null,null,null,null,null,null,null,"-","-","-","-",null,"-","-","-","-",null,"-","-","-","-",null,"-","-","-","-",null,"-","-","-","-",null,"-","-","-","-",null,null,null,null,null,null,"-","-","-","-",null,"-","-","-","-"]
[null,null,null,null,null,null,null,null,null,null,null,null,null,null,null,null,null,null,null,null,null,null,null,null,null,null,null,null,null,null,null,"-","-","-","-",null,"-","-","-","-",null,"-","-","-","-",null,"-","-","-","-",null,"-","-","-","-",null,"-","-","-","-",null,null,null,null,null,null,"-","-","-","-",null,"-","-","-","-"]
[null,null,null,null,null,null,null,null,null,null,null,null,null,null,null,null,null,null,null,null,null,null,null,null,null,null,null,null,null,null,null,"-","-","-","-",null,"-","-","-","-",null,"-","-","-","-",null,"-","-","-","-",null,"-","-","-","-",null,"-","-","-","-",null,null,null,null,null,null,"-","-","-","-",null,"-","-","-","-"]
[null,null,null,null,null,null,null,null,null,null,null,null,null,null,null,null,null,null,null,null,null,null,null,null,null,null,null,null,null,null,null,"-","-","-","-",null,"-","-","-","-",null,"-","-","-","-",null,"-","-","-","-",null,"-","-","-","-",null,"-","-","-","-",null,null,null,null,null,null,"-","-","-","-",null,"-","-","-","-"]
[null,null,null,null,null,null,null,null,null,null,null,null,null,null,null,null,null,null,null,null,null,null,null,null,null,null,null,null,null,null,null,"-","-","-","-",null,"-","-","-","-",null,"-","-","-","-",null,"-","-","-","-",null,"-","-","-","-",null,"-","-","-","-",null,null,null,null,null,null,"-","-","-","-",null,"-","-","-","-"]
[null,null,null,null,null,null,null,null,null,null,null,null,null,null,null,null,null,null,null,null,null,null,null,null,null,null,null,null,null,null,null,"-","-","-","-",null,"-","-","-","-",null,"-","-","-","-",null,"-","-","-","-",null,"-","-","-","-",null,"-","-","-","-",null,null,null,null,null,null,"-","-","-","-",null,"-","-","-","-"]
[null,null,null,null,null,null,null,null,null,null,null,null,null,null,null,null,null,null,null,null,null,null,null,null,null,null,null,null,null,null,null,"-","-","-","-",null,"-","-","-","-",null,"-","-","-","-",null,"-","-","-","-",null,"-","-","-","-",null,"-","-","-","-",null,null,null,null,null,null,"-","-","-","-",null,"-","-","-","-"]
[null,null,null,null,null,null,null,null,null,null,null,null,null,null,null,null,null,null,null,null,null,null,null,null,null,null,null,null,null,null,null,"-","-","-","-",null,"-","-","-","-",null,"-","-","-","-",null,"-","-","-","-",null,"-","-","-","-",null,"-","-","-","-",null,null,null,null,null,null,"-","-","-","-",null,"-","-","-","-"]
[null,null,null,null,null,null,null,null,null,null,null,null,null,null,null,null,null,null,null,null,null,null,null,null,null,null,null,null,null,null,null,"-","-","-","-",null,"-","-","-","-",null,"-","-","-","-",null,"-","-","-","-",null,"-","-","-","-",null,"-","-","-","-",null,null,null,null,null,null,"-","-","-","-",null,"-","-","-","-"]
[null,null,null,null,null,null,null,null,null,null,null,null,null,null,null,null,null,null,null,null,null,null,null,null,null,null,null,null,null,null,null,"-","-","-","-",null,"-","-","-","-",null,"-","-","-","-",null,"-","-","-","-",null,"-","-","-","-",null,"-","-","-","-",null,null,null,null,null,null,"-","-","-","-",null,"-","-","-","-"]
[null,null,null,null,null,null,null,null,null,null,null,null,null,null,null,null,null,null,null,null,null,null,null,null,null,null,null,null,null,null,null,"-","-","-","-",null,"-","-","-","-",null,"-","-","-","-",null,"-","-","-","-",null,"-","-","-","-",null,"-","-","-","-",null,null,null,null,null,null,"-","-","-","-",null,"-","-","-","-"]
[null,null,null,null,null,null,null,null,null,null,null,null,null,null,null,null,null,null,null,null,null,null,null,null,null,null,null,null,null,null,null,"-","-","-","-",null,"-","-","-","-",null,"-","-","-","-",null,"-","-","-","-",null,"-","-","-","-",null,"-","-","-","-",null,null,null,null,null,null,"-","-","-","-",null,"-","-","-","-"]
[null,null,null,null,null,null,null,null,null,null,null,null,null,null,null,null,null,null,null,null,null,null,null,null,null,null,null,null,null,null,null,"-","-","-","-",null,"-","-","-","-",null,"-","-","-","-",null,"-","-","-","-",null,"-","-","-","-",null,"-","-","-","-",null,null,null,null,null,null,"-","-","-","-",null,"-","-","-","-"]
[null,null,null,null,null,null,null,null,null,null,null,null,null,null,null,null,null,null,null,null,null,null,null,null,null,null,null,null,null,null,null,"-","-","-","-",null,"-","-","-","-",null,"-","-","-","-",null,"-","-","-","-",null,"-","-","-","-",null,"-","-","-","-",null,null,null,null,null,null,"-","-","-","-",null,"-","-","-","-"]
[null,null,null,null,null,null,null,null,null,null,null,null,null,null,null,null,null,null,null,null,null,null,null,null,null,null,null,null,null,null,null,"-","-","-","-",null,"-","-","-","-",null,"-","-","-","-",null,"-","-","-","-",null,"-","-","-","-",null,"-","-","-","-",null,null,null,null,null,null,"-","-","-","-",null,"-","-","-","-"]
[null,null,null,null,null,null,null,null,null,null,null,null,null,null,null,null,null,null,null,null,null,null,null,null,null,null,null,null,null,null,null,"-","-","-","-",null,"-","-","-","-",null,"-","-","-","-",null,"-","-","-","-",null,"-","-","-","-",null,"-","-","-","-",null,null,null,null,null,null,"-","-","-","-",null,"-","-","-","-"]
[null,null,null,null,null,null,null,null,null,null,null,null,null,null,null,null,null,null,null,null,null,null,null,null,null,null,null,null,null,null,null,"-","-","-","-",null,"-","-","-","-",null,"-","-","-","-",null,"-","-","-","-",null,"-","-","-","-",null,"-","-","-","-",null,null,null,null,null,null,"-","-","-","-",null,"-","-","-","-"]
[null,null,null,null,null,null,null,null,null,null,null,null,null,null,null,null,null,null,null,null,null,null,null,null,null,null,null,null,null,null,null,"-","-","-","-",null,"-","-","-","-",null,"-","-","-","-",null,"-","-","-","-",null,"-","-","-","-",null,"-","-","-","-",null,null,null,null,null,null,"-","-","-","-",null,"-","-","-","-"]
[null,null,null,null,null,null,null,null,null,null,null,null,null,null,null,null,null,null,null,null,null,null,null,null,null,null,null,null,null,null,null,"-","-","-","-",null,"-","-","-","-",null,"-","-","-","-",null,"-","-","-","-",null,"-","-","-","-",null,"-","-","-","-",null,null,null,null,null,null,"-","-","-","-",null,"-","-","-","-"]
[null,null,null,null,null,null,null,null,null,null,null,null,null,null,null,null,null,null,null,null,null,null,null,null,null,null,null,null,null,null,null,"-","-","-","-",null,"-","-","-","-",null,"-","-","-","-",null,"-","-","-","-",null,"-","-","-","-",null,"-","-","-","-",null,null,null,null,null,null,"-","-","-","-",null,"-","-","-","-"]
[null,null,null,null,null,null,null,null,null,null,null,null,null,null,null,null,null,null,null,null,null,null,null,null,null,null,null,null,null,null,null,"-","-","-","-",null,"-","-","-","-",null,"-","-","-","-",null,"-","-","-","-",null,"-","-","-","-",null,"-","-","-","-",null,null,null,null,null,null,"-","-","-","-",null,"-","-","-","-"]
[null,null,null,null,null,null,null,null,null,null,null,null,null,null,null,null,null,null,null,null,null,null,null,null,null,null,null,null,null,null,null,"-","-","-","-",null,"-","-","-","-",null,"-","-","-","-",null,"-","-","-","-",null,"-","-","-","-",null,"-","-","-","-",null,null,null,null,null,null,"-","-","-","-",null,"-","-","-","-"]
[null,null,null,null,null,null,null,null,null,null,null,null,null,null,null,null,null,null,null,null,null,null,null,null,null,null,null,null,null,null,null,"-","-","-","-",null,"-","-","-","-",null,"-","-","-","-",null,"-","-","-","-",null,"-","-","-","-",null,"-","-","-","-",null,null,null,null,null,null,"-","-","-","-",null,"-","-","-","-"]
[null,null,null,null,null,null,null,null,null,null,null,null,null,null,null,null,null,null,null,null,null,null,null,null,null,null,null,null,null,null,null,"-","-","-","-",null,"-","-","-","-",null,"-","-","-","-",null,"-","-","-","-",null,"-","-","-","-",null,"-","-","-","-",null,null,null,null,null,null,"-","-","-","-",null,"-","-","-","-"]
[null,null,null,null,null,null,null,null,null,null,null,null,null,null,null,null,null,null,null,null,null,null,null,null,null,null,null,null,null,null,null,"-","-","-","-",null,"-","-","-","-",null,"-","-","-","-",null,"-","-","-","-",null,"-","-","-","-",null,"-","-","-","-",null,null,null,null,null,null,"-","-","-","-",null,"-","-","-","-"]
[null,null,null,null,null,null,null,null,null,null,null,null,null,null,null,null,null,null,null,null,null,null,null,null,null,null,null,null,null,null,null,"-","-","-","-",null,"-","-","-","-",null,"-","-","-","-",null,"-","-","-","-",null,"-","-","-","-",null,"-","-","-","-",null,null,null,null,null,null,"-","-","-","-",null,"-","-","-","-"]
[null,null,null,null,null,null,null,null,null,null,null,null,null,null,null,null,null,null,null,null,null,null,null,null,null,null,null,null,null,null,null,"-","-","-","-",null,"-","-","-","-",null,"-","-","-","-",null,"-","-","-","-",null,"-","-","-","-",null,"-","-","-","-",null,null,null,null,null,null,"-","-","-","-",null,"-","-","-","-"]
[null,null,null,null,null,null,null,null,null,null,null,null,null,null,null,null,null,null,null,null,null,null,null,null,null,null,null,null,null,null,null,"-","-","-","-",null,"-","-","-","-",null,"-","-","-","-",null,"-","-","-","-",null,"-","-","-","-",null,"-","-","-","-",null,null,null,null,null,null,"-","-","-","-",null,"-","-","-","-"]
[null,null,null,null,null,null,null,null,null,null,null,null,null,null,null,null,null,null,null,null,null,null,null,null,null,null,null,null,null,null,null,"-","-","-","-",null,"-","-","-","-",null,"-","-","-","-",null,"-","-","-","-",null,"-","-","-","-",null,"-","-","-","-",null,null,null,null,null,null,"-","-","-","-",null,"-","-","-","-"]
[null,null,null,null,null,null,null,null,null,null,null,null,null,null,null,null,null,null,null,null,null,null,null,null,null,null,null,null,null,null,null,"-","-","-","-",null,"-","-","-","-",null,"-","-","-","-",null,"-","-","-","-",null,"-","-","-","-",null,"-","-","-","-",null,null,null,null,null,null,"-","-","-","-",null,"-","-","-","-"]
[null,null,null,null,null,null,null,null,null,null,null,null,null,null,null,null,null,null,null,null,null,null,null,null,null,null,null,null,null,null,null,"-","-","-","-",null,"-","-","-","-",null,"-","-","-","-",null,"-","-","-","-",null,"-","-","-","-",null,"-","-","-","-",null,null,null,null,null,null,"-","-","-","-",null,"-","-","-","-"]
[null,null,null,null,null,null,null,null,null,null,null,null,null,null,null,null,null,null,null,null,null,null,null,null,null,null,null,null,null,null,null,"-","-","-","-",null,"-","-","-","-",null,"-","-","-","-",null,"-","-","-","-",null,"-","-","-","-",null,"-","-","-","-",null,null,null,null,null,null,"-","-","-","-",null,"-","-","-","-"]
[null,null,null,null,null,null,null,null,null,null,null,null,null,null,null,null,null,null,null,null,null,null,null,null,null,null,null,null,null,null,null,"-","-","-","-",null,"-","-","-","-",null,"-","-","-","-",null,"-","-","-","-",null,"-","-","-","-",null,"-","-","-","-",null,null,null,null,null,null,"-","-","-","-",null,"-","-","-","-"]
[null,null,null,null,null,null,null,null,null,null,null,null,null,null,null,null,null,null,null,null,null,null,null,null,null,null,null,null,null,null,null,"-","-","-","-",null,"-","-","-","-",null,"-","-","-","-",null,"-","-","-","-",null,"-","-","-","-",null,"-","-","-","-",null,null,null,null,null,null,"-","-","-","-",null,"-","-","-","-"]
[null,null,null,null,null,null,null,null,null,null,null,null,null,null,null,null,null,null,null,null,null,null,null,null,null,null,null,null,null,null,null,"-","-","-","-",null,"-","-","-","-",null,"-","-","-","-",null,"-","-","-","-",null,"-","-","-","-",null,"-","-","-","-",null,null,null,null,null,null,"-","-","-","-",null,"-","-","-","-"]
[null,null,null,null,null,null,null,null,null,null,null,null,null,null,null,null,null,null,null,null,null,null,null,null,null,null,null,null,null,null,null,"-","-","-","-",null,"-","-","-","-",null,"-","-","-","-",null,"-","-","-","-",null,"-","-","-","-",null,"-","-","-","-",null,null,null,null,null,null,"-","-","-","-",null,"-","-","-","-"]
[null,null,null,null,null,null,null,null,null,null,null,null,null,null,null,null,null,null,null,null,null,null,null,null,null,null,null,null,null,null,null,"-","-","-","-",null,"-","-","-","-",null,"-","-","-","-",null,"-","-","-","-",null,"-","-","-","-",null,"-","-","-","-",null,null,null,null,null,null,"-","-","-","-",null,"-","-","-","-"]
[null,null,null,null,null,null,null,null,null,null,null,null,null,null,null,null,null,null,null,null,null,null,null,null,null,null,null,null,null,null,null,"-","-","-","-",null,"-","-","-","-",null,"-","-","-","-",null,"-","-","-","-",null,"-","-","-","-",null,"-","-","-","-",null,null,null,null,null,null,"-","-","-","-",null,"-","-","-","-"]

{"sheet":"Spelprogram Div 2","index":1,"n_rows":174,"n_cols":80,"rows_kept":174,"cut":false,"hidden":false,"merged":[]}
[null,null,null,null,null,null,"2023 / 2024"]
[null,null,null,null,null,null,"Division 2"]
["Omgång","MatchNR:","Datum","Plats","Kl.","Bana","Hemmalag","Bortalag",null,null,null,null,null,null,null,null,null,null,null,"Antal"]
[1,9,"2023-09-23","Karlskrona","10:00:00",null,"Jämjö Hsk","Värends Hsk 1",null,null,":",null,null,null,null,null,null,null,"Tingsryd Hsc 1",{"$f":"COUNTIF(G$4:H$76,\"Tingsryd hsc 1\")","v":12}]
[null,10,null,"Länk",null,null,"Balders Hsk 3","Korpen Nybro",null,null,":",null,null,null,null,null,null,null,"Lanternan 2",{"$f":"COUNTIF(G$4:H$76,\"Lanternan 2\")","v":12}]
[null,11,null,"Länk",null,null,"Viby HS","Tingsryd Hsc 1",null,null,":",null,null,null,null,null,null,null,"Jämjö Hsk ",{"$f":"COUNTIF(G$4:H$76,\"jämjö hsk\")","v":12}]
[null,null,null,null,null,null,null,null,null,null,null,null,null,null,null,null,null,null,"Korpen Nybro",{"$f":"COUNTIF(G$4:H$76,\"korpen Nybro\")","v":12}]
[null,12,null,"Karlskrona","12:00:00",null,"Värends Hsk 1","Lanternan 2",null,null,":",null,null,null,null,null,null,null,"Viby HS",{"$f":"COUNTIF(G$4:H$76,\"Viby HS\")","v":12}]
[null,13,null,"Länk",null,null,"Korpen Nybro","Viby HS",null,null,":",null,null,null,null,null,null,null,"Värends Hsk 1",{"$f":"COUNTIF(G$4:H$76,\"värends hsk 1\")","v":12}]
[null,14,null,"Länk",null,null,"Tingsryd Hsc 1","Balders Hsk 3",null,null,":",null,null,null,null,null,null,null,"Balders Hsk 3",{"$f":"COUNTIF(G$4:H$76,\"Balders Hsk 3\")","v":12}]
[]
[2,23,"2023-10-28","Tingsryd","10:00:00",null,"Tingsryd Hsc 1","Lanternan 2",null,null,":"]
[null,24,null,"Tingsryd","10:00:00",null,"Korpen Nybro","Jämjö Hsk",null,null,":"]
[null,25,null,"Länk",null,null,"Värends Hsk 1","Balders Hsk 3",null,null,":"]
[]
[null,26,null,"Tingsryd","12:00:00",null,"Lanternan 2","Korpen Nybro",null,null,":"]
[null,27,null,"Tingsryd","12:00:00",null,"Jämjö Hsk","Tingsryd Hsc 1",null,null,":"]
[null,28,null,"Länk",null,null,"Viby HS","Värends Hsk 1",null,null,":"]
[]
[3,37,"2023-11-25","Karlskrona","10:00:00",null,"Jämjö Hsk","Lanternan 2",null,null,":"]
[null,38,null,"??",null,null,"Balders Hsk 3","Viby HS",null,null,":"]
[null,39,null,"Nybro alt. Kväll",null,null,"Korpen Nybro","Värends Hsk 1",null,null,":"]
[]
[null,40,null,"Länk",null,null,"Lanternan 2","Balders Hsk 3",null,null,":"]
[null,41,null,"Länk",null,null,"Viby HS","Jämjö Hsk",null,null,":"]
[null,42,null,"Kväll",null,null,"Värends Hsk 1","Tingsryd Hsc 1",null,null,":"]
[]
[4,51,"2024-01-20","Länk",null,null,"Balders Hsk 3","Jämjö Hsk",null,null,":"]
[null,52,null,"Länk",null,null,"Lanternan 2","Viby HS",null,null,":"]
[null,53,null,"Nybro","10:00:00",null,"Tingsryd Hsc 1","Korpen Nybro",null,null,":"]
[null,null,null,null,null,null,null,null,null,null,null,null,null,null,null,"Halva"]
[null,54,null,"Karlskrona","12:00:00",null,"Lanternan 2","Jämjö Hsk",null,null,":"]
[null,55,null,"??",null,null,"Viby HS","Balders Hsk 3",null,null,":"]
[null,56,null,"Nybro","12:00:00",null,"Korpen Nybro","Tingsryd Hsc 1",null,null,":"]
[]
[5,65,"2024-02-24","Karlskrona","10:00:00",null,"Lanternan 2","Tingsryd Hsc 1",null,null,":"]
[null,66,null,"Karlskrona","10:00:00",null,"Jämjö Hsk","Korpen Nybro",null,null,":"]
[null,67,null,"Länk",null,null,"Värends Hsk 1","Viby HS",null,null,":"]
[]
[null,68,null,"Karlskrona","12:00:00",null,"Tingsryd Hsc 1","Jämjö Hsk",null,null,":"]
[null,69,null,"Karlskrona","12:00:00",null,"Korpen Nybro","Lanternan 2",null,null,":"]
[null,70,null,"Länk",null,null,"Balders Hsk 3","Värends Hsk 1",null,null,":"]
[]
[6,79,"2024-03-17","Växjö","10:00:00",null,"Lanternan 2","Värends Hsk 1",null,null,":"]
[null,80,null,"Länk",null,null,"Tingsryd Hsc 1","Viby HS",null,null,":"]
[null,81,null,"Länk",null,null,"Korpen Nybro","Balders Hsk 3",null,null,":"]
[]
[null,82,null,"Växjö","12:00:00",null,"Värends Hsk 1","Jämjö Hsk",null,null,":"]
[null,83,null,"Länk",null,null,"Balders Hsk 3","Tingsryd Hsc 1",null,null,":"]
[null,84,null,"Länk",null,null,"Viby HS","Korpen Nybro",null,null,":"]
[]
[7,93,"V 15","Länk",null,null,"Viby HS","Lanternan 2",null,null,":"]
[null,94,null,"Länk",null,null,"Jämjö Hsk","Balders Hsk 3",null,null,":"]
[null,95,null,"Kväll",null,null,"Tingsryd Hsc 1","Värends Hsk 1",null,null,":"]
[]
[null,96,"V 16","Länk",null,null,"Balders Hsk 3","Lanternan 2",null,null,":"]
[null,97,null,"Länk",null,null,"Jämjö Hsk","Viby HS",null,null,":"]
[null,98,null,"Kväll",null,null,"Värends Hsk 1","Korpen Nybro",null,null,":"]
[null,null,"OBS!!! Sista seriespelsmatchen skall vara spelad senast lördagen den 20 april"]
[]
[null,"OBS!!!!"]
[null,"Arrangör skickar in matchresultat via SMS till Tomas Lindahl direkt efter avslutade matcher "]
[null,"Tel. 073-4004693 skriv matchnummer enligt spelprogram följt av resultatet i matchen."]
[null,"Matchprotokollet skickas till Gert Karlsson via e-post:  gert.karlsson@svhkf.se "]
[null,"för uppdatering av rankingtabell."]
[]
[]
[]
[]
[]
[]
[]
[]
[]
[null,null,null,null,null,null,null,null,null,null,null,null,null,null,null,null,null,null,null,null,null,null,null,null,null,null,null,null,null,null,null,"Lanternan 2",null,null,null,null,"Viby HS",null,null,null,null,"Tingsryd Hsc 1",null,null,null,null,null,null,null,null,null,null,null,null,null,null,"Jämjö Hsk ",null,null,null,null,"Balders Hsk 3",null,null,null,null,"Värends Hsk 1 ",null,null,null,null,"Korpen Nybro"]
[null,null,null,null,null,null,null,null,null,null,null,null,null,null,null,null,null,null,null,"Sp.m","3p","2p","1p","0p",null,null,"Matchkvot",null,null,"Poäng"]
[null,null,null,null,null,null,null,null,null,null,null,null,null,null,null,null,null,null,{"$f":"AF75","v":"Lanternan 2"},{"$f":"COUNT(AF$77:AI$174)/(2)","v":0},{"$f":"SUM(T77,-V77,-W77,-X77)","v":0},{"$f":"COUNTIF(AH$77:AI$174,5)","v":0},{"$f":"COUNTIF(AF$77:AG$174,5)","v":0},{"$f":"COUNTIF(AF$77:AG$174,\"<5\")","v":0},null,{"$f":"SUM(AF$77:AG$174)","v":0},":",{"$f":"SUM(AH$77:AI$174)","v":0},{"$f":"Z77-AB77","v":0},{"$f":"SUM(U77*3)+(V77*2)+(W77*1)","v":0},null,{"$f":"IF(J4=\"\",\"-\",IF(G4=\"Lanternan 2\",J4,\"-\"))","v":"-"},{"$f":"IF(L4=\"\",\"-\",IF(H4=\"Lanternan 2\",L4,\"-\"))","v":"-"},{"$f":"IF(AF77<7,L4,\"-\")","v":"-"},{"$f":"IF(AG77<7,J4,\"-\")","v":"-"},null,{"$f":"IF(J4=\"\",\"-\",IF(G4=\"Viby HS\",J4,\"-\"))","v":"-"},{"$f":"IF(L4=\"\",\"-\",IF(H4=\"Viby HS\",L4,\"-\"))","v":"-"},{"$f":"IF(AK77<7,L4,\"-\")","v":"-"},{"$f":"IF(AL77<7,J4,\"-\")","v":"-"},null,{"$f":"IF(J4=\"\",\"-\",IF(G4=\"Tingsryd Hsc 1\",J4,\"-\"))","v":"-"},{"$f":"IF(L4=\"\",\"-\",IF(H4=\"Tingsryd Hsc 1\",L4,\"-\"))","v":"-"},{"$f":"IF(AP77<7,L4,\"-\")","v":"-"},{"$f":"IF(AQ77<7,J4,\"-\")","v":"-"},null,{"$f":"IF(J4=\"\",\"-\",IF(G4=\"Vaxholm Hsk\",J4,\"-\"))","v":"-"},{"$f":"IF(L4=\"\",\"-\",IF(H4=\"Vaxholm Hsk\",L4,\"-\"))","v":"-"},{"$f":"IF(AU77<7,L4,\"-\")","v":"-"},{"$f":"IF(AV77<7,J4,\"-\")","v":"-"},null,{"$f":"IF(J4=\"\",\"-\",IF(G4=\"Balders Hsk 2\",J4,\"-\"))","v":"-"},{"$f":"IF(L4=\"\",\"-\",IF(H4=\"Balders Hsk 2\",L4,\"-\"))","v":"-"},{"$f":"IF(AZ77<7,L4,\"-\")","v":"-"},{"$f":"IF(BA77<7,J4,\"-\")","v":"-"},null,{"$f":"IF(J4=\"\",\"-\",IF(G4=\"Jämjö hsk\",J4,\"-\"))","v":"-"},{"$f":"IF(L4=\"\",\"-\",IF(H4=\"Jämjö hsk\",L4,\"-\"))","v":"-"},{"$f":"IF(BE77<7,L4,\"-\")","v":"-"},{"$f":"IF(BF77<7,J4,\"-\")","v":"-"},null,{"$f":"IF(J4=\"\",\"-\",IF(G4=\"Balders Hsk 3\",J4,\"-\"))","v":"-"},{"$f":"IF(L4=\"\",\"-\",IF(H4=\"Balders Hsk 3\",L4,\"-\"))","v":"-"},{"$f":"IF(BJ77<7,L4,\"-\")","v":"-"},{"$f":"IF(BK77<7,J4,\"-\")","v":"-"},null,{"$f":"IF(J4=\"\",\"-\",IF(G4=\"Värends Hsk 1\",J4,\"-\"))","v":"-"},{"$f":"IF(L4=\"\",\"-\",IF(H4=\"Värends Hsk 1\",L4,\"-\"))","v":"-"},{"$f":"IF(BO77<7,L4,\"-\")","v":"-"},{"$f":"IF(BP77<7,J4,\"-\")","v":"-"},null,{"$f":"IF(J4=\"\",\"-\",IF(G4=\"Korpen Nybro\",J4,\"-\"))","v":"-"},{"$f":"IF(L4=\"\",\"-\",IF(H4=\"Korpen Nybro\",L4,\"-\"))","v":"-"},{"$f":"IF(BT77<7,L4,\"-\")","v":"-"},{"$f":"IF(BU77<7,J4,\"-\")","v":"-"},null,{"$f":"IF(J4=\"\",\"-\",IF(G4=\"Värends Hsk 2\",J4,\"-\"))","v":"-"},{"$f":"IF(L4=\"\",\"-\",IF(H4=\"Värends Hsk 2\",L4,\"-\"))","v":"-"},{"$f":"IF(BY77<7,L4,\"-\")","v":"-"},{"$f":"IF(BZ77<7,J4,\"-\")","v":"-"}]
[null,null,null,null,null,null,null,null,null,null,null,null,null,null,null,null,null,null,{"$f":"AK75","v":"Viby HS"},{"$f":"COUNT(AK$77:AN$174)/(2)","v":0},{"$f":"SUM(T78,-V78,-W78,-X78)","v":0},{"$f":"COUNTIF(AM$77:AN$174,5)","v":0},{"$f":"COUNTIF(AK$77:AL$174,5)","v":0},{"$f":"COUNTIF(AK$77:AL$174,\"<5\")","v":0},null,{"$f":"SUM(AK$77:AL$174)","v":0},":",{"$f":"SUM(AM$77:AN$174)","v":0},{"$f":"Z78-AB78","v":0},{"$f":"SUM(U78*3)+(V78*2)+(W78*1)","v":0},null,"-","-","-","-",null,"-","-","-","-",null,"-","-","-","-",null,"-","-","-","-",null,"-","-","-","-",null,"-","-","-","-",null,"-","-","-","-",null,"-","-","-","-",null,"-","-","-","-",null,"-","-","-","-"]
[null,null,null,null,null,null,null,null,null,null,null,null,null,null,null,null,null,null,{"$f":"AP75","v":"Tingsryd Hsc 1"},{"$f":"COUNT(AP$77:AS$174)/(2)","v":0},0,{"$f":"COUNTIF(AR$77:AS$174,5)","v":0},{"$f":"COUNTIF(AP$77:AQ$174,5)","v":0},{"$f":"COUNTIF(AP$77:AQ$174,\"<5\")","v":0},null,{"$f":"SUM(AP$77:AQ$174)","v":0},":",{"$f":"SUM(AR$77:AS$174)","v":0},0,0,null,"-","-","-","-",null,"-","-","-","-",null,"-","-","-","-",null,"-","-","-","-",null,"-","-","-","-",null,"-","-","-","-",null,"-","-","-","-",null,"-","-","-","-",null,"-","-","-","-",null,"-","-","-","-"]
[null,null,null,null,null,null,null,null,null,null,null,null,null,null,null,null,null,null,{"$f":"AU75","v":0},{"$f":"COUNT(AU$77:AX$174)/(2)","v":0},0,{"$f":"COUNTIF(AW$77:AX$174,5)","v":0},{"$f":"COUNTIF(AU$77:AV$174,5)","v":0},{"$f":"COUNTIF(AU$77:AV$174,\"<5\")","v":0},null,{"$f":"SUM(AU$77:AV$174)","v":0},":",{"$f":"SUM(AW$77:AX$174)","v":0},0,0,null,"-","-","-","-",null,"-","-","-","-",null,"-","-","-","-",null,"-","-","-","-",null,"-","-","-","-",null,"-","-","-","-",null,"-","-","-","-",null,"-","-","-","-",null,"-","-","-","-",null,"-","-","-","-"]
[null,null,null,null,null,null,null,null,null,null,null,null,null,null,null,null,null,null,{"$f":"AZ75","v":0},{"$f":"COUNT(AZ$77:BC$174)/(2)","v":0},0,{"$f":"COUNTIF(BB$77:BC$174,5)","v":0},{"$f":"COUNTIF(AZ$77:BA$174,5)","v":0},{"$f":"COUNTIF(AZ$77:BA$174,\"<5\")","v":0},null,{"$f":"SUM(AZ$77:BA$174)","v":0},":",{"$f":"SUM(BB$77:BC$174)","v":0},0,0,null,"-","-","-","-",null,"-","-","-","-",null,"-","-","-","-",null,"-","-","-","-",null,"-","-","-","-",null,"-","-","-","-",null,"-","-","-","-",null,"-","-","-","-",null,"-","-","-","-",null,"-","-","-","-"]
[null,null,null,null,null,null,null,null,null,null,null,null,null,null,null,null,null,null,{"$f":"BE75","v":"Jämjö Hsk "},{"$f":"COUNT(BE$77:BH$174)/(2)","v":0},0,{"$f":"COUNTIF(BG$77:BH$174,5)","v":0},{"$f":"COUNTIF(BE$77:BF$174,5)","v":0},{"$f":"COUNTIF(BE$77:BF$174,\"<5\")","v":0},null,{"$f":"SUM(BE$77:BF$174)","v":0},":",{"$f":"SUM(BG$77:BH$174)","v":0},0,0,null,"-","-","-","-",null,"-","-","-","-",null,"-","-","-","-",null,"-","-","-","-",null,"-","-","-","-",null,"-","-","-","-",null,"-","-","-","-",null,"-","-","-","-",null,"-","-","-","-",null,"-","-","-","-"]
[null,null,null,null,null,null,null,null,null,null,null,null,null,null,null,null,null,null,{"$f":"BJ75","v":"Balders Hsk 3"},{"$f":"COUNT(BJ$77:BM$174)/(2)","v":0},0,{"$f":"COUNTIF(BL$77:BM$174,5)","v":0},{"$f":"COUNTIF(BJ$77:BK$174,5)","v":0},{"$f":"COUNTIF(BJ$77:BK$174,\"<5\")","v":0},null,{"$f":"SUM(BJ$77:BK$174)","v":0},":",{"$f":"SUM(BL$77:BM$174)","v":0},0,0,null,"-","-","-","-",null,"-","-","-","-",null,"-","-","-","-",null,"-","-","-","-",null,"-","-","-","-",null,"-","-","-","-",null,"-","-","-","-",null,"-","-","-","-",null,"-","-","-","-",null,"-","-","-","-"]
[null,null,null,null,null,null,null,null,null,null,null,null,null,null,null,null,null,null,{"$f":"BO75","v":"Värends Hsk 1 "},{"$f":"COUNT(BO$77:BR$174)/(2)","v":0},0,{"$f":"COUNTIF(BQ$77:BR$174,5)","v":0},{"$f":"COUNTIF(BO$77:BP$174,5)","v":0},{"$f":"COUNTIF(BO$77:BP$174,\"<5\")","v":0},null,{"$f":"SUM(BO$77:BP$174)","v":0},":",{"$f":"SUM(BQ$77:BR$174)","v":0},0,0,null,{"$f":"IF(J11=\"\",\"-\",IF(G11=\"Lanternan 2\",J11,\"-\"))","v":"-"},{"$f":"IF(L11=\"\",\"-\",IF(H11=\"Lanternan 2\",L11,\"-\"))","v":"-"},{"$f":"IF(AF84<7,L11,\"-\")","v":"-"},{"$f":"IF(AG84<7,J11,\"-\")","v":"-"},null,{"$f":"IF(J11=\"\",\"-\",IF(G11=\"Viby HS\",J11,\"-\"))","v":"-"},{"$f":"IF(L11=\"\",\"-\",IF(H11=\"Viby HS\",L11,\"-\"))","v":"-"},{"$f":"IF(AK84<7,L11,\"-\")","v":"-"},{"$f":"IF(AL84<7,J11,\"-\")","v":"-"},null,{"$f":"IF(J11=\"\",\"-\",IF(G11=\"Tingsryd Hsc 1\",J11,\"-\"))","v":"-"},{"$f":"IF(L11=\"\",\"-\",IF(H11=\"Tingsryd Hsc 1\",L11,\"-\"))","v":"-"},{"$f":"IF(AP84<7,L11,\"-\")","v":"-"},{"$f":"IF(AQ84<7,J11,\"-\")","v":"-"},null,{"$f":"IF(J11=\"\",\"-\",IF(G11=\"Vaxholm Hsk\",J11,\"-\"))","v":"-"},{"$f":"IF(L11=\"\",\"-\",IF(H11=\"Vaxholm Hsk\",L11,\"-\"))","v":"-"},{"$f":"IF(AU84<7,L11,\"-\")","v":"-"},{"$f":"IF(AV84<7,J11,\"-\")","v":"-"},null,{"$f":"IF(J11=\"\",\"-\",IF(G11=\"Balders Hsk 2\",J11,\"-\"))","v":"-"},{"$f":"IF(L11=\"\",\"-\",IF(H11=\"Balders Hsk 2\",L11,\"-\"))","v":"-"},{"$f":"IF(AZ84<7,L11,\"-\")","v":"-"},{"$f":"IF(BA84<7,J11,\"-\")","v":"-"},null,{"$f":"IF(J11=\"\",\"-\",IF(G11=\"Jämjö hsk\",J11,\"-\"))","v":"-"},{"$f":"IF(L11=\"\",\"-\",IF(H11=\"Jämjö hsk\",L11,\"-\"))","v":"-"},{"$f":"IF(BE84<7,L11,\"-\")","v":"-"},{"$f":"IF(BF84<7,J11,\"-\")","v":"-"},null,{"$f":"IF(J11=\"\",\"-\",IF(G11=\"Balders Hsk 3\",J11,\"-\"))","v":"-"},{"$f":"IF(L11=\"\",\"-\",IF(H11=\"Balders Hsk 3\",L11,\"-\"))","v":"-"},{"$f":"IF(BJ84<7,L11,\"-\")","v":"-"},{"$f":"IF(BK84<7,J11,\"-\")","v":"-"},null,{"$f":"IF(J11=\"\",\"-\",IF(G11=\"Värends Hsk 1\",J11,\"-\"))","v":"-"},{"$f":"IF(L11=\"\",\"-\",IF(H11=\"Värends Hsk 1\",L11,\"-\"))","v":"-"},{"$f":"IF(BO84<7,L11,\"-\")","v":"-"},{"$f":"IF(BP84<7,J11,\"-\")","v":"-"},null,{"$f":"IF(J11=\"\",\"-\",IF(G11=\"Korpen Nybro\",J11,\"-\"))","v":"-"},{"$f":"IF(L11=\"\",\"-\",IF(H11=\"Korpen Nybro\",L11,\"-\"))","v":"-"},{"$f":"IF(BT84<7,L11,\"-\")","v":"-"},{"$f":"IF(BU84<7,J11,\"-\")","v":"-"},null,{"$f":"IF(J11=\"\",\"-\",IF(G11=\"Värends Hsk 2\",J11,\"-\"))","v":"-"},{"$f":"IF(L11=\"\",\"-\",IF(H11=\"Värends Hsk 2\",L11,\"-\"))","v":"-"},{"$f":"IF(BY84<7,L11,\"-\")","v":"-"},{"$f":"IF(BZ84<7,J11,\"-\")","v":"-"}]
[null,null,null,null,null,null,null,null,null,null,null,null,null,null,null,null,null,null,{"$f":"BT75","v":"Korpen Nybro"},{"$f":"COUNT(BT$77:BW$174)/(2)","v":0},0,{"$f":"COUNTIF(BV$77:BW$174,5)","v":0},{"$f":"COUNTIF(BT$77:BU$174,5)","v":0},{"$f":"COUNTIF(BT$77:BU$174,\"<5\")","v":0},null,{"$f":"SUM(BT$77:BU$174)","v":0},":",{"$f":"SUM(BV$77:BW$174)","v":0},0,0,null,{"$f":"IF(J12=\"\",\"-\",IF(G12=\"Lanternan 2\",J12,\"-\"))","v":"-"},{"$f":"IF(L12=\"\",\"-\",IF(H12=\"Lanternan 2\",L12,\"-\"))","v":"-"},{"$f":"IF(AF85<7,L12,\"-\")","v":"-"},{"$f":"IF(AG85<7,J12,\"-\")","v":"-"},null,{"$f":"IF(J12=\"\",\"-\",IF(G12=\"Viby HS\",J12,\"-\"))","v":"-"},{"$f":"IF(L12=\"\",\"-\",IF(H12=\"Viby HS\",L12,\"-\"))","v":"-"},{"$f":"IF(AK85<7,L12,\"-\")","v":"-"},{"$f":"IF(AL85<7,J12,\"-\")","v":"-"},null,{"$f":"IF(J12=\"\",\"-\",IF(G12=\"Tingsryd Hsc 1\",J12,\"-\"))","v":"-"},{"$f":"IF(L12=\"\",\"-\",IF(H12=\"Tingsryd Hsc 1\",L12,\"-\"))","v":"-"},{"$f":"IF(AP85<7,L12,\"-\")","v":"-"},{"$f":"IF(AQ85<7,J12,\"-\")","v":"-"},null,{"$f":"IF(J12=\"\",\"-\",IF(G12=\"Vaxholm Hsk\",J12,\"-\"))","v":"-"},{"$f":"IF(L12=\"\",\"-\",IF(H12=\"Vaxholm Hsk\",L12,\"-\"))","v":"-"},{"$f":"IF(AU85<7,L12,\"-\")","v":"-"},{"$f":"IF(AV85<7,J12,\"-\")","v":"-"},null,{"$f":"IF(J12=\"\",\"-\",IF(G12=\"Balders Hsk 2\",J12,\"-\"))","v":"-"},{"$f":"IF(L12=\"\",\"-\",IF(H12=\"Balders Hsk 2\",L12,\"-\"))","v":"-"},{"$f":"IF(AZ85<7,L12,\"-\")","v":"-"},{"$f":"IF(BA85<7,J12,\"-\")","v":"-"},null,{"$f":"IF(J12=\"\",\"-\",IF(G12=\"Jämjö hsk\",J12,\"-\"))","v":"-"},{"$f":"IF(L12=\"\",\"-\",IF(H12=\"Jämjö hsk\",L12,\"-\"))","v":"-"},{"$f":"IF(BE85<7,L12,\"-\")","v":"-"},{"$f":"IF(BF85<7,J12,\"-\")","v":"-"},null,{"$f":"IF(J12=\"\",\"-\",IF(G12=\"Balders Hsk 3\",J12,\"-\"))","v":"-"},{"$f":"IF(L12=\"\",\"-\",IF(H12=\"Balders Hsk 3\",L12,\"-\"))","v":"-"},{"$f":"IF(BJ85<7,L12,\"-\")","v":"-"},{"$f":"IF(BK85<7,J12,\"-\")","v":"-"},null,{"$f":"IF(J12=\"\",\"-\",IF(G12=\"Värends Hsk 1\",J12,\"-\"))","v":"-"},{"$f":"IF(L12=\"\",\"-\",IF(H12=\"Värends Hsk 1\",L12,\"-\"))","v":"-"},{"$f":"IF(BO85<7,L12,\"-\")","v":"-"},{"$f":"IF(BP85<7,J12,\"-\")","v":"-"},null,{"$f":"IF(J12=\"\",\"-\",IF(G12=\"Korpen Nybro\",J12,\"-\"))","v":"-"},{"$f":"IF(L12=\"\",\"-\",IF(H12=\"Korpen Nybro\",L12,\"-\"))","v":"-"},{"$f":"IF(BT85<7,L12,\"-\")","v":"-"},{"$f":"IF(BU85<7,J12,\"-\")","v":"-"},null,{"$f":"IF(J12=\"\",\"-\",IF(G12=\"Värends Hsk 2\",J12,\"-\"))","v":"-"},{"$f":"IF(L12=\"\",\"-\",IF(H12=\"Värends Hsk 2\",L12,\"-\"))","v":"-"},{"$f":"IF(BY85<7,L12,\"-\")","v":"-"},{"$f":"IF(BZ85<7,J12,\"-\")","v":"-"}]
[null,null,null,null,null,null,null,null,null,null,null,null,null,null,null,null,null,null,{"$f":"BY75","v":0},{"$f":"COUNT(BY$77:CB$174)/(2)","v":0},0,{"$f":"COUNTIF(CA$77:CB$174,5)","v":0},{"$f":"COUNTIF(BY$77:BZ$174,5)","v":0},{"$f":"COUNTIF(BY$77:BZ$174,\"<5\")","v":0},null,{"$f":"SUM(BY$77:BZ$174)","v":0},":",{"$f":"SUM(CA$77:CB$174)","v":0},0,0,null,"-","-","-","-",null,"-","-","-","-",null,"-","-","-","-",null,"-","-","-","-",null,"-","-","-","-",null,"-","-","-","-",null,"-","-","-","-",null,"-","-","-","-",null,"-","-","-","-",null,"-","-","-","-"]
[null,null,null,null,null,null,null,null,null,null,null,null,null,null,null,null,null,null,null,null,null,null,null,null,null,null,null,null,null,null,null,"-","-","-","-",null,"-","-","-","-",null,"-","-","-","-",null,"-","-","-","-",null,"-","-","-","-",null,"-","-","-","-",null,"-","-","-","-",null,"-","-","-","-",null,"-","-","-","-",null,"-","-","-","-"]
[null,null,null,null,null,null,null,null,null,null,null,null,null,null,null,null,null,null,null,null,null,null,null,null,null,null,null,null,null,null,null,"-","-","-","-",null,"-","-","-","-",null,"-","-","-","-",null,"-","-","-","-",null,"-","-","-","-",null,"-","-","-","-",null,"-","-","-","-",null,"-","-","-","-",null,"-","-","-","-",null,"-","-","-","-"]
[null,null,null,null,null,null,null,null,null,null,null,null,null,null,null,null,null,null,null,null,null,null,null,null,null,null,null,null,null,null,null,"-","-","-","-",null,"-","-","-","-",null,"-","-","-","-",null,"-","-","-","-",null,"-","-","-","-",null,"-","-","-","-",null,"-","-","-","-",null,"-","-","-","-",null,"-","-","-","-",null,"-","-","-","-"]
[null,null,null,null,null,null,null,null,null,null,null,null,null,null,null,null,null,null,null,null,null,null,null,null,null,null,null,null,null,null,null,"-","-","-","-",null,"-","-","-","-",null,"-","-","-","-",null,"-","-","-","-",null,"-","-","-","-",null,"-","-","-","-",null,"-","-","-","-",null,"-","-","-","-",null,"-","-","-","-",null,"-","-","-","-"]
[null,null,null,null,null,null,null,null,null,null,null,null,null,null,null,null,null,null,null,null,null,null,null,null,null,null,null,null,null,null,null,"-","-","-","-",null,"-","-","-","-",null,"-","-","-","-",null,"-","-","-","-",null,"-","-","-","-",null,"-","-","-","-",null,"-","-","-","-",null,"-","-","-","-",null,"-","-","-","-",null,"-","-","-","-"]
[null,null,null,null,null,null,null,null,null,null,null,null,null,null,null,null,null,null,null,null,null,null,null,null,null,null,null,null,null,null,null,"-","-","-","-",null,"-","-","-","-",null,"-","-","-","-",null,"-","-","-","-",null,"-","-","-","-",null,"-","-","-","-",null,"-","-","-","-",null,"-","-","-","-",null,"-","-","-","-",null,"-","-","-","-"]
[null,null,null,null,null,null,null,null,null,null,null,null,null,null,null,null,null,null,null,null,null,null,null,null,null,null,null,null,null,null,null,"-","-","-","-",null,"-","-","-","-",null,"-","-","-","-",null,"-","-","-","-",null,"-","-","-","-",null,"-","-","-","-",null,"-","-","-","-",null,"-","-","-","-",null,"-","-","-","-",null,"-","-","-","-"]
[null,null,null,null,null,null,null,null,null,null,null,null,null,null,null,null,null,null,null,null,null,null,null,null,null,null,null,null,null,null,null,"-","-","-","-",null,"-","-","-","-",null,"-","-","-","-",null,"-","-","-","-",null,"-","-","-","-",null,"-","-","-","-",null,"-","-","-","-",null,"-","-","-","-",null,"-","-","-","-",null,"-","-","-","-"]
[null,null,null,null,null,null,null,null,null,null,null,null,null,null,null,null,null,null,null,null,null,null,null,null,null,null,null,null,null,null,null,"-","-","-","-",null,"-","-","-","-",null,"-","-","-","-",null,"-","-","-","-",null,"-","-","-","-",null,"-","-","-","-",null,"-","-","-","-",null,"-","-","-","-",null,"-","-","-","-",null,"-","-","-","-"]
[null,null,null,null,null,null,null,null,null,null,null,null,null,null,null,null,null,null,null,null,null,null,null,null,null,null,null,null,null,null,null,"-","-","-","-",null,"-","-","-","-",null,"-","-","-","-",null,"-","-","-","-",null,"-","-","-","-",null,"-","-","-","-",null,"-","-","-","-",null,"-","-","-","-",null,"-","-","-","-",null,"-","-","-","-"]
[null,null,null,null,null,null,null,null,null,null,null,null,null,null,null,null,null,null,null,null,null,null,null,null,null,null,null,null,null,null,null,"-","-","-","-",null,"-","-","-","-",null,"-","-","-","-",null,"-","-","-","-",null,"-","-","-","-",null,"-","-","-","-",null,"-","-","-","-",null,"-","-","-","-",null,"-","-","-","-",null,"-","-","-","-"]
[null,null,null,null,null,null,null,null,null,null,null,null,null,null,null,null,null,null,null,null,null,null,null,null,null,null,null,null,null,null,null,"-","-","-","-",null,"-","-","-","-",null,"-","-","-","-",null,"-","-","-","-",null,"-","-","-","-",null,"-","-","-","-",null,"-","-","-","-",null,"-","-","-","-",null,"-","-","-","-",null,"-","-","-","-"]
[null,null,null,null,null,null,null,null,null,null,null,null,null,null,null,null,null,null,null,null,null,null,null,null,null,null,null,null,null,null,null,"-","-","-","-",null,"-","-","-","-",null,"-","-","-","-",null,"-","-","-","-",null,"-","-","-","-",null,"-","-","-","-",null,"-","-","-","-",null,"-","-","-","-",null,"-","-","-","-",null,"-","-","-","-"]
[null,null,null,null,null,null,null,null,null,null,null,null,null,null,null,null,null,null,null,null,null,null,null,null,null,null,null,null,null,null,null,"-","-","-","-",null,"-","-","-","-",null,"-","-","-","-",null,"-","-","-","-",null,"-","-","-","-",null,"-","-","-","-",null,"-","-","-","-",null,"-","-","-","-",null,"-","-","-","-",null,"-","-","-","-"]
[null,null,null,null,null,null,null,null,null,null,null,null,null,null,null,null,null,null,null,null,null,null,null,null,null,null,null,null,null,null,null,"-","-","-","-",null,"-","-","-","-",null,"-","-","-","-",null,"-","-","-","-",null,"-","-","-","-",null,"-","-","-","-",null,"-","-","-","-",null,"-","-","-","-",null,"-","-","-","-",null,"-","-","-","-"]
[null,null,null,null,null,null,null,null,null,null,null,null,null,null,null,null,null,null,null,null,null,null,null,null,null,null,null,null,null,null,null,"-","-","-","-",null,"-","-","-","-",null,"-","-","-","-",null,"-","-","-","-",null,"-","-","-","-",null,"-","-","-","-",null,"-","-","-","-",null,"-","-","-","-",null,"-","-","-","-",null,"-","-","-","-"]
[null,null,null,null,null,null,null,null,null,null,null,null,null,null,null,null,null,null,null,null,null,null,null,null,null,null,null,null,null,null,null,"-","-","-","-",null,"-","-","-","-",null,"-","-","-","-",null,"-","-","-","-",null,"-","-","-","-",null,"-","-","-","-",null,"-","-","-","-",null,"-","-","-","-",null,"-","-","-","-",null,"-","-","-","-"]
[null,null,null,null,null,null,null,null,null,null,null,null,null,null,null,null,null,null,null,null,null,null,null,null,null,null,null,null,null,null,null,"-","-","-","-",null,"-","-","-","-",null,"-","-","-","-",null,"-","-","-","-",null,"-","-","-","-",null,"-","-","-","-",null,"-","-","-","-",null,"-","-","-","-",null,"-","-","-","-",null,"-","-","-","-"]
[null,null,null,null,null,null,null,null,null,null,null,null,null,null,null,null,null,null,null,null,null,null,null,null,null,null,null,null,null,null,null,"-","-","-","-",null,"-","-","-","-",null,"-","-","-","-",null,"-","-","-","-",null,"-","-","-","-",null,"-","-","-","-",null,"-","-","-","-",null,"-","-","-","-",null,"-","-","-","-",null,"-","-","-","-"]
[null,null,null,null,null,null,null,null,null,null,null,null,null,null,null,null,null,null,null,null,null,null,null,null,null,null,null,null,null,null,null,"-","-","-","-",null,"-","-","-","-",null,"-","-","-","-",null,"-","-","-","-",null,"-","-","-","-",null,"-","-","-","-",null,"-","-","-","-",null,"-","-","-","-",null,"-","-","-","-",null,"-","-","-","-"]
[null,null,null,null,null,null,null,null,null,null,null,null,null,null,null,null,null,null,null,null,null,null,null,null,null,null,null,null,null,null,null,"-","-","-","-",null,"-","-","-","-",null,"-","-","-","-",null,"-","-","-","-",null,"-","-","-","-",null,"-","-","-","-",null,"-","-","-","-",null,"-","-","-","-",null,"-","-","-","-",null,"-","-","-","-"]
[null,null,null,null,null,null,null,null,null,null,null,null,null,null,null,null,null,null,null,null,null,null,null,null,null,null,null,null,null,null,null,"-","-","-","-",null,"-","-","-","-",null,"-","-","-","-",null,"-","-","-","-",null,"-","-","-","-",null,"-","-","-","-",null,"-","-","-","-",null,"-","-","-","-",null,"-","-","-","-",null,"-","-","-","-"]
[null,null,null,null,null,null,null,null,null,null,null,null,null,null,null,null,null,null,null,null,null,null,null,null,null,null,null,null,null,null,null,"-","-","-","-",null,"-","-","-","-",null,"-","-","-","-",null,"-","-","-","-",null,"-","-","-","-",null,"-","-","-","-",null,"-","-","-","-",null,"-","-","-","-",null,"-","-","-","-",null,"-","-","-","-"]
[null,null,null,null,null,null,null,null,null,null,null,null,null,null,null,null,null,null,null,null,null,null,null,null,null,null,null,null,null,null,null,"-","-","-","-",null,"-","-","-","-",null,"-","-","-","-",null,"-","-","-","-",null,"-","-","-","-",null,"-","-","-","-",null,"-","-","-","-",null,"-","-","-","-",null,"-","-","-","-",null,"-","-","-","-"]
[null,null,null,null,null,null,null,null,null,null,null,null,null,null,null,null,null,null,null,null,null,null,null,null,null,null,null,null,null,null,null,"-","-","-","-",null,"-","-","-","-",null,"-","-","-","-",null,"-","-","-","-",null,"-","-","-","-",null,"-","-","-","-",null,"-","-","-","-",null,"-","-","-","-",null,"-","-","-","-",null,"-","-","-","-"]
[null,null,null,null,null,null,null,null,null,null,null,null,null,null,null,null,null,null,null,null,null,null,null,null,null,null,null,null,null,null,null,"-","-","-","-",null,"-","-","-","-",null,"-","-","-","-",null,"-","-","-","-",null,"-","-","-","-",null,"-","-","-","-",null,"-","-","-","-",null,"-","-","-","-",null,"-","-","-","-",null,"-","-","-","-"]
[null,null,null,null,null,null,null,null,null,null,null,null,null,null,null,null,null,null,null,null,null,null,null,null,null,null,null,null,null,null,null,"-","-","-","-",null,"-","-","-","-",null,"-","-","-","-",null,"-","-","-","-",null,"-","-","-","-",null,"-","-","-","-",null,"-","-","-","-",null,"-","-","-","-",null,"-","-","-","-",null,"-","-","-","-"]
[null,null,null,null,null,null,null,null,null,null,null,null,null,null,null,null,null,null,null,null,null,null,null,null,null,null,null,null,null,null,null,"-","-","-","-",null,"-","-","-","-",null,"-","-","-","-",null,"-","-","-","-",null,"-","-","-","-",null,"-","-","-","-",null,"-","-","-","-",null,"-","-","-","-",null,"-","-","-","-",null,"-","-","-","-"]
[null,null,null,null,null,null,null,null,null,null,null,null,null,null,null,null,null,null,null,null,null,null,null,null,null,null,null,null,null,null,null,"-","-","-","-",null,"-","-","-","-",null,"-","-","-","-",null,"-","-","-","-",null,"-","-","-","-",null,"-","-","-","-",null,"-","-","-","-",null,"-","-","-","-",null,"-","-","-","-",null,"-","-","-","-"]
[null,null,null,null,null,null,null,null,null,null,null,null,null,null,null,null,null,null,null,null,null,null,null,null,null,null,null,null,null,null,null,"-","-","-","-",null,"-","-","-","-",null,"-","-","-","-",null,"-","-","-","-",null,"-","-","-","-",null,"-","-","-","-",null,"-","-","-","-",null,"-","-","-","-",null,"-","-","-","-",null,"-","-","-","-"]
[null,null,null,null,null,null,null,null,null,null,null,null,null,null,null,null,null,null,null,null,null,null,null,null,null,null,null,null,null,null,null,"-","-","-","-",null,"-","-","-","-",null,"-","-","-","-",null,"-","-","-","-",null,"-","-","-","-",null,"-","-","-","-",null,"-","-","-","-",null,"-","-","-","-",null,"-","-","-","-",null,"-","-","-","-"]
[null,"OBS!!!!",null,null,null,null,null,null,null,null,null,null,null,null,null,null,null,null,null,null,null,null,null,null,null,null,null,null,null,null,null,"-","-","-","-",null,"-","-","-","-",null,"-","-","-","-",null,"-","-","-","-",null,"-","-","-","-",null,"-","-","-","-",null,"-","-","-","-",null,"-","-","-","-",null,"-","-","-","-",null,"-","-","-","-"]
[null,"Arrangör skickar in matchresultat via SMS till Tomas Lindahl direkt efter avslutade matcher ",null,null,null,null,null,null,null,null,null,null,null,null,null,null,null,null,null,null,null,null,null,null,null,null,null,null,null,null,null,"-","-","-","-",null,"-","-","-","-",null,"-","-","-","-",null,"-","-","-","-",null,"-","-","-","-",null,"-","-","-","-",null,"-","-","-","-",null,"-","-","-","-",null,"-","-","-","-",null,"-","-","-","-"]
[null,"Tel. 073-4004693 skriv matchnummer enligt spelprogram följt av resultatet i matchen.",null,null,null,null,null,null,null,null,null,null,null,null,null,null,null,null,null,null,null,null,null,null,null,null,null,null,null,null,null,"-","-","-","-",null,"-","-","-","-",null,"-","-","-","-",null,"-","-","-","-",null,"-","-","-","-",null,"-","-","-","-",null,"-","-","-","-",null,"-","-","-","-",null,"-","-","-","-",null,"-","-","-","-"]
[null,"Matchprotokollet skickas till Gert Karlsson via e-post:  gert.karlsson@svhkf.se ",null,null,null,null,null,null,null,null,null,null,null,null,null,null,null,null,null,null,null,null,null,null,null,null,null,null,null,null,null,"-","-","-","-",null,"-","-","-","-",null,"-","-","-","-",null,"-","-","-","-",null,"-","-","-","-",null,"-","-","-","-",null,"-","-","-","-",null,"-","-","-","-",null,"-","-","-","-",null,"-","-","-","-"]
[null,"för uppdatering av rankingtabell.",null,null,null,null,null,null,null,null,null,null,null,null,null,null,null,null,null,null,null,null,null,null,null,null,null,null,null,null,null,"-","-","-","-",null,"-","-","-","-",null,"-","-","-","-",null,"-","-","-","-",null,"-","-","-","-",null,"-","-","-","-",null,"-","-","-","-",null,"-","-","-","-",null,"-","-","-","-",null,"-","-","-","-"]
[null,null,null,null,null,null,null,null,null,null,null,null,null,null,null,null,null,null,null,null,null,null,null,null,null,null,null,null,null,null,null,"-","-","-","-",null,"-","-","-","-",null,"-","-","-","-",null,"-","-","-","-",null,"-","-","-","-",null,"-","-","-","-",null,"-","-","-","-",null,"-","-","-","-",null,"-","-","-","-",null,"-","-","-","-"]
[null,null,null,null,null,null,null,null,null,null,null,null,null,null,null,null,null,null,null,null,null,null,null,null,null,null,null,null,null,null,null,"-","-","-","-",null,"-","-","-","-",null,"-","-","-","-",null,"-","-","-","-",null,"-","-","-","-",null,"-","-","-","-",null,"-","-","-","-",null,"-","-","-","-",null,"-","-","-","-",null,"-","-","-","-"]
[null,null,null,null,null,null,null,null,null,null,null,null,null,null,null,null,null,null,null,null,null,null,null,null,null,null,null,null,null,null,null,"-","-","-","-",null,"-","-","-","-",null,"-","-","-","-",null,"-","-","-","-",null,"-","-","-","-",null,"-","-","-","-",null,"-","-","-","-",null,"-","-","-","-",null,"-","-","-","-",null,"-","-","-","-"]
[null,null,null,null,null,null,null,null,null,null,null,null,null,null,null,null,null,null,null,null,null,null,null,null,null,null,null,null,null,null,null,"-","-","-","-",null,"-","-","-","-",null,"-","-","-","-",null,"-","-","-","-",null,"-","-","-","-",null,"-","-","-","-",null,"-","-","-","-",null,"-","-","-","-",null,"-","-","-","-",null,"-","-","-","-"]
[null,null,null,null,null,null,null,null,null,null,null,null,null,null,null,null,null,null,null,null,null,null,null,null,null,null,null,null,null,null,null,"-","-","-","-",null,"-","-","-","-",null,"-","-","-","-",null,"-","-","-","-",null,"-","-","-","-",null,"-","-","-","-",null,"-","-","-","-",null,"-","-","-","-",null,"-","-","-","-",null,"-","-","-","-"]
[null,null,null,null,null,null,null,null,null,null,null,null,null,null,null,null,null,null,null,null,null,null,null,null,null,null,null,null,null,null,null,"-","-","-","-",null,"-","-","-","-",null,"-","-","-","-",null,"-","-","-","-",null,"-","-","-","-",null,"-","-","-","-",null,"-","-","-","-",null,"-","-","-","-",null,"-","-","-","-",null,"-","-","-","-"]
[null,null,null,null,null,null,null,null,null,null,null,null,null,null,null,null,null,null,null,null,null,null,null,null,null,null,null,null,null,null,null,"-","-","-","-",null,"-","-","-","-",null,"-","-","-","-",null,"-","-","-","-",null,"-","-","-","-",null,"-","-","-","-",null,"-","-","-","-",null,"-","-","-","-",null,"-","-","-","-",null,"-","-","-","-"]
[null,null,null,null,null,null,null,null,null,null,null,null,null,null,null,null,null,null,null,null,null,null,null,null,null,null,null,null,null,null,null,"-","-","-","-",null,"-","-","-","-",null,"-","-","-","-",null,"-","-","-","-",null,"-","-","-","-",null,"-","-","-","-",null,"-","-","-","-",null,"-","-","-","-",null,"-","-","-","-",null,"-","-","-","-"]
[null,null,null,null,null,null,null,null,null,null,null,null,null,null,null,null,null,null,null,null,null,null,null,null,null,null,null,null,null,null,null,"-","-","-","-",null,"-","-","-","-",null,"-","-","-","-",null,"-","-","-","-",null,"-","-","-","-",null,"-","-","-","-",null,"-","-","-","-",null,"-","-","-","-",null,"-","-","-","-",null,"-","-","-","-"]
[null,null,null,null,null,null,null,null,null,null,null,null,null,null,null,null,null,null,null,null,null,null,null,null,null,null,null,null,null,null,null,"-","-","-","-",null,"-","-","-","-",null,"-","-","-","-",null,"-","-","-","-",null,"-","-","-","-",null,"-","-","-","-",null,"-","-","-","-",null,"-","-","-","-",null,"-","-","-","-",null,"-","-","-","-"]
[null,null,null,null,null,null,null,null,null,null,null,null,null,null,null,null,null,null,null,null,null,null,null,null,null,null,null,null,null,null,null,"-","-","-","-",null,"-","-","-","-",null,"-","-","-","-",null,"-","-","-","-",null,"-","-","-","-",null,"-","-","-","-",null,"-","-","-","-",null,"-","-","-","-",null,"-","-","-","-",null,"-","-","-","-"]
[null,null,null,null,null,null,null,null,null,null,null,null,null,null,null,null,null,null,null,null,null,null,null,null,null,null,null,null,null,null,null,"-","-","-","-",null,"-","-","-","-",null,"-","-","-","-",null,"-","-","-","-",null,"-","-","-","-",null,"-","-","-","-",null,"-","-","-","-",null,"-","-","-","-",null,"-","-","-","-",null,"-","-","-","-"]
[null,null,null,null,null,null,null,null,null,null,null,null,null,null,null,null,null,null,null,null,null,null,null,null,null,null,null,null,null,null,null,"-","-","-","-",null,"-","-","-","-",null,"-","-","-","-",null,"-","-","-","-",null,"-","-","-","-",null,"-","-","-","-",null,"-","-","-","-",null,"-","-","-","-",null,"-","-","-","-",null,"-","-","-","-"]
[null,null,null,null,null,null,null,null,null,null,null,null,null,null,null,null,null,null,null,null,null,null,null,null,null,null,null,null,null,null,null,"-","-","-","-",null,"-","-","-","-",null,"-","-","-","-",null,"-","-","-","-",null,"-","-","-","-",null,"-","-","-","-",null,"-","-","-","-",null,"-","-","-","-",null,"-","-","-","-",null,"-","-","-","-"]
[null,null,null,null,null,null,null,null,null,null,null,null,null,null,null,null,null,null,null,null,null,null,null,null,null,null,null,null,null,null,null,"-","-","-","-",null,"-","-","-","-",null,"-","-","-","-",null,"-","-","-","-",null,"-","-","-","-",null,"-","-","-","-",null,"-","-","-","-",null,"-","-","-","-",null,"-","-","-","-",null,"-","-","-","-"]
[null,null,null,null,null,null,null,null,null,null,null,null,null,null,null,null,null,null,null,null,null,null,null,null,null,null,null,null,null,null,null,"-","-","-","-",null,"-","-","-","-",null,"-","-","-","-",null,"-","-","-","-",null,"-","-","-","-",null,"-","-","-","-",null,"-","-","-","-",null,"-","-","-","-",null,"-","-","-","-",null,"-","-","-","-"]
[null,null,null,null,null,null,null,null,null,null,null,null,null,null,null,null,null,null,null,null,null,null,null,null,null,null,null,null,null,null,null,"-","-","-","-",null,"-","-","-","-",null,"-","-","-","-",null,"-","-","-","-",null,"-","-","-","-",null,"-","-","-","-",null,"-","-","-","-",null,"-","-","-","-",null,"-","-","-","-",null,"-","-","-","-"]
[null,null,null,null,null,null,null,null,null,null,null,null,null,null,null,null,null,null,null,null,null,null,null,null,null,null,null,null,null,null,null,"-","-","-","-",null,"-","-","-","-",null,"-","-","-","-",null,"-","-","-","-",null,"-","-","-","-",null,"-","-","-","-",null,"-","-","-","-",null,"-","-","-","-",null,"-","-","-","-",null,"-","-","-","-"]
[null,null,null,null,null,null,null,null,null,null,null,null,null,null,null,null,null,null,null,null,null,null,null,null,null,null,null,null,null,null,null,"-","-","-","-",null,"-","-","-","-",null,"-","-","-","-",null,"-","-","-","-",null,"-","-","-","-",null,"-","-","-","-",null,"-","-","-","-",null,"-","-","-","-",null,"-","-","-","-",null,"-","-","-","-"]
[null,null,null,null,null,null,null,null,null,null,null,null,null,null,null,null,null,null,null,null,null,null,null,null,null,null,null,null,null,null,null,"-","-","-","-",null,"-","-","-","-",null,"-","-","-","-",null,"-","-","-","-",null,"-","-","-","-",null,"-","-","-","-",null,"-","-","-","-",null,"-","-","-","-",null,"-","-","-","-",null,"-","-","-","-"]
[null,null,null,null,null,null,null,null,null,null,null,null,null,null,null,null,null,null,null,null,null,null,null,null,null,null,null,null,null,null,null,"-","-","-","-",null,"-","-","-","-",null,"-","-","-","-",null,"-","-","-","-",null,"-","-","-","-",null,"-","-","-","-",null,"-","-","-","-",null,"-","-","-","-",null,"-","-","-","-",null,"-","-","-","-"]
[null,null,null,null,null,null,null,null,null,null,null,null,null,null,null,null,null,null,null,null,null,null,null,null,null,null,null,null,null,null,null,"-","-","-","-",null,"-","-","-","-",null,"-","-","-","-",null,"-","-","-","-",null,"-","-","-","-",null,"-","-","-","-",null,"-","-","-","-",null,"-","-","-","-",null,"-","-","-","-",null,"-","-","-","-"]
[null,null,null,null,null,null,null,null,null,null,null,null,null,null,null,null,null,null,null,null,null,null,null,null,null,null,null,null,null,null,null,"-","-","-","-",null,"-","-","-","-",null,"-","-","-","-",null,"-","-","-","-",null,"-","-","-","-",null,"-","-","-","-",null,"-","-","-","-",null,"-","-","-","-",null,"-","-","-","-",null,"-","-","-","-"]
[null,null,null,null,null,null,null,null,null,null,null,null,null,null,null,null,null,null,null,null,null,null,null,null,null,null,null,null,null,null,null,"-","-","-","-",null,"-","-","-","-",null,"-","-","-","-",null,"-","-","-","-",null,"-","-","-","-",null,"-","-","-","-",null,"-","-","-","-",null,"-","-","-","-",null,"-","-","-","-",null,"-","-","-","-"]
[null,null,null,null,null,null,null,null,null,null,null,null,null,null,null,null,null,null,null,null,null,null,null,null,null,null,null,null,null,null,null,"-","-","-","-",null,"-","-","-","-",null,"-","-","-","-",null,"-","-","-","-",null,"-","-","-","-",null,"-","-","-","-",null,"-","-","-","-",null,"-","-","-","-",null,"-","-","-","-",null,"-","-","-","-"]
[null,null,null,null,null,null,null,null,null,null,null,null,null,null,null,null,null,null,null,null,null,null,null,null,null,null,null,null,null,null,null,"-","-","-","-",null,"-","-","-","-",null,"-","-","-","-",null,"-","-","-","-",null,"-","-","-","-",null,"-","-","-","-",null,"-","-","-","-",null,"-","-","-","-",null,"-","-","-","-",null,"-","-","-","-"]
[null,null,null,null,null,null,null,null,null,null,null,null,null,null,null,null,null,null,null,null,null,null,null,null,null,null,null,null,null,null,null,{"$f":"IF(J76=\"\",\"-\",IF(G76=\"Lanternan 2\",J76,\"-\"))","v":"-"},{"$f":"IF(L76=\"\",\"-\",IF(H76=\"Lanternan 2\",L76,\"-\"))","v":"-"},{"$f":"IF(AF149<7,L76,\"-\")","v":"-"},{"$f":"IF(AG149<7,J76,\"-\")","v":"-"},null,{"$f":"IF(J76=\"\",\"-\",IF(G76=\"Viby HS\",J76,\"-\"))","v":"-"},{"$f":"IF(L76=\"\",\"-\",IF(H76=\"Viby HS\",L76,\"-\"))","v":"-"},{"$f":"IF(AK149<7,L76,\"-\")","v":"-"},{"$f":"IF(AL149<7,J76,\"-\")","v":"-"},null,{"$f":"IF(J76=\"\",\"-\",IF(G76=\"Tingsryd Hsc 1\",J76,\"-\"))","v":"-"},{"$f":"IF(L76=\"\",\"-\",IF(H76=\"Tingsryd Hsc 1\",L76,\"-\"))","v":"-"},{"$f":"IF(AP149<7,L76,\"-\")","v":"-"},{"$f":"IF(AQ149<7,J76,\"-\")","v":"-"},null,{"$f":"IF(J76=\"\",\"-\",IF(G76=\"Vaxholm Hsk\",J76,\"-\"))","v":"-"},{"$f":"IF(L76=\"\",\"-\",IF(H76=\"Vaxholm Hsk\",L76,\"-\"))","v":"-"},{"$f":"IF(AU149<7,L76,\"-\")","v":"-"},{"$f":"IF(AV149<7,J76,\"-\")","v":"-"},null,{"$f":"IF(J76=\"\",\"-\",IF(G76=\"Balders Hsk 2\",J76,\"-\"))","v":"-"},{"$f":"IF(L76=\"\",\"-\",IF(H76=\"Balders Hsk 2\",L76,\"-\"))","v":"-"},{"$f":"IF(AZ149<7,L76,\"-\")","v":"-"},{"$f":"IF(BA149<7,J76,\"-\")","v":"-"},null,{"$f":"IF(J76=\"\",\"-\",IF(G76=\"Jämjö hsk\",J76,\"-\"))","v":"-"},{"$f":"IF(L76=\"\",\"-\",IF(H76=\"Jämjö hsk\",L76,\"-\"))","v":"-"},{"$f":"IF(BE149<7,L76,\"-\")","v":"-"},{"$f":"IF(BF149<7,J76,\"-\")","v":"-"},null,{"$f":"IF(J76=\"\",\"-\",IF(G76=\"Balders Hsk 3\",J76,\"-\"))","v":"-"},{"$f":"IF(L76=\"\",\"-\",IF(H76=\"Balders Hsk 3\",L76,\"-\"))","v":"-"},{"$f":"IF(BJ149<7,L76,\"-\")","v":"-"},{"$f":"IF(BK149<7,J76,\"-\")","v":"-"},null,{"$f":"IF(J76=\"\",\"-\",IF(G76=\"Värends Hsk 1\",J76,\"-\"))","v":"-"},{"$f":"IF(L76=\"\",\"-\",IF(H76=\"Värends Hsk 1\",L76,\"-\"))","v":"-"},{"$f":"IF(BO149<7,L76,\"-\")","v":"-"},{"$f":"IF(BP149<7,J76,\"-\")","v":"-"},null,{"$f":"IF(J76=\"\",\"-\",IF(G76=\"Korpen Nybro\",J76,\"-\"))","v":"-"},{"$f":"IF(L76=\"\",\"-\",IF(H76=\"Korpen Nybro\",L76,\"-\"))","v":"-"},{"$f":"IF(BT149<7,L76,\"-\")","v":"-"},{"$f":"IF(BU149<7,J76,\"-\")","v":"-"},null,{"$f":"IF(J76=\"\",\"-\",IF(G76=\"Värends Hsk 2\",J76,\"-\"))","v":"-"},{"$f":"IF(L76=\"\",\"-\",IF(H76=\"Värends Hsk 2\",L76,\"-\"))","v":"-"},{"$f":"IF(BY149<7,L76,\"-\")","v":"-"},{"$f":"IF(BZ149<7,J76,\"-\")","v":"-"}]
[null,null,null,null,null,null,null,null,null,null,null,null,null,null,null,null,null,null,null,null,null,null,null,null,null,null,null,null,null,null,null,"-","-","-","-",null,"-","-","-","-",null,"-","-","-","-",null,"-","-","-","-",null,"-","-","-","-",null,"-","-","-","-",null,"-","-","-","-",null,"-","-","-","-",null,"-","-","-","-",null,"-","-","-","-"]
[null,null,null,null,null,null,null,null,null,null,null,null,null,null,null,null,null,null,null,null,null,null,null,null,null,null,null,null,null,null,null,"-","-","-","-",null,"-","-","-","-",null,"-","-","-","-",null,"-","-","-","-",null,"-","-","-","-",null,"-","-","-","-",null,"-","-","-","-",null,"-","-","-","-",null,"-","-","-","-",null,"-","-","-","-"]
[null,null,null,null,null,null,null,null,null,null,null,null,null,null,null,null,null,null,null,null,null,null,null,null,null,null,null,null,null,null,null,"-","-","-","-",null,"-","-","-","-",null,"-","-","-","-",null,"-","-","-","-",null,"-","-","-","-",null,"-","-","-","-",null,"-","-","-","-",null,"-","-","-","-",null,"-","-","-","-",null,"-","-","-","-"]
[null,null,null,null,null,null,null,null,null,null,null,null,null,null,null,null,null,null,null,null,null,null,null,null,null,null,null,null,null,null,null,"-","-","-","-",null,"-","-","-","-",null,"-","-","-","-",null,"-","-","-","-",null,"-","-","-","-",null,"-","-","-","-",null,"-","-","-","-",null,"-","-","-","-",null,"-","-","-","-",null,"-","-","-","-"]
[null,null,null,null,null,null,null,null,null,null,null,null,null,null,null,null,null,null,null,null,null,null,null,null,null,null,null,null,null,null,null,"-","-","-","-",null,"-","-","-","-",null,"-","-","-","-",null,"-","-","-","-",null,"-","-","-","-",null,"-","-","-","-",null,"-","-","-","-",null,"-","-","-","-",null,"-","-","-","-",null,"-","-","-","-"]
[null,null,null,null,null,null,null,null,null,null,null,null,null,null,null,null,null,null,null,null,null,null,null,null,null,null,null,null,null,null,null,"-","-","-","-",null,"-","-","-","-",null,"-","-","-","-",null,"-","-","-","-",null,"-","-","-","-",null,"-","-","-","-",null,"-","-","-","-",null,"-","-","-","-",null,"-","-","-","-",null,"-","-","-","-"]
[null,null,null,null,null,null,null,null,null,null,null,null,null,null,null,null,null,null,null,null,null,null,null,null,null,null,null,null,null,null,null,"-","-","-","-",null,"-","-","-","-",null,"-","-","-","-",null,"-","-","-","-",null,"-","-","-","-",null,"-","-","-","-",null,"-","-","-","-",null,"-","-","-","-",null,"-","-","-","-",null,"-","-","-","-"]
[null,null,null,null,null,null,null,null,null,null,null,null,null,null,null,null,null,null,null,null,null,null,null,null,null,null,null,null,null,null,null,"-","-","-","-",null,"-","-","-","-",null,"-","-","-","-",null,"-","-","-","-",null,"-","-","-","-",null,"-","-","-","-",null,"-","-","-","-",null,"-","-","-","-",null,"-","-","-","-",null,"-","-","-","-"]
[null,null,null,null,null,null,null,null,null,null,null,null,null,null,null,null,null,null,null,null,null,null,null,null,null,null,null,null,null,null,null,"-","-","-","-",null,"-","-","-","-",null,"-","-","-","-",null,"-","-","-","-",null,"-","-","-","-",null,"-","-","-","-",null,"-","-","-","-",null,"-","-","-","-",null,"-","-","-","-",null,"-","-","-","-"]
[null,null,null,null,null,null,null,null,null,null,null,null,null,null,null,null,null,null,null,null,null,null,null,null,null,null,null,null,null,null,null,"-","-","-","-",null,"-","-","-","-",null,"-","-","-","-",null,"-","-","-","-",null,"-","-","-","-",null,"-","-","-","-",null,"-","-","-","-",null,"-","-","-","-",null,"-","-","-","-",null,"-","-","-","-"]
[null,null,null,null,null,null,null,null,null,null,null,null,null,null,null,null,null,null,null,null,null,null,null,null,null,null,null,null,null,null,null,"-","-","-","-",null,"-","-","-","-",null,"-","-","-","-",null,"-","-","-","-",null,"-","-","-","-",null,"-","-","-","-",null,"-","-","-","-",null,"-","-","-","-",null,"-","-","-","-",null,"-","-","-","-"]
[null,null,null,null,null,null,null,null,null,null,null,null,null,null,null,null,null,null,null,null,null,null,null,null,null,null,null,null,null,null,null,"-","-","-","-",null,"-","-","-","-",null,"-","-","-","-",null,"-","-","-","-",null,"-","-","-","-",null,"-","-","-","-",null,"-","-","-","-",null,"-","-","-","-",null,"-","-","-","-",null,"-","-","-","-"]
[null,null,null,null,null,null,null,null,null,null,null,null,null,null,null,null,null,null,null,null,null,null,null,null,null,null,null,null,null,null,null,"-","-","-","-",null,"-","-","-","-",null,"-","-","-","-",null,"-","-","-","-",null,"-","-","-","-",null,"-","-","-","-",null,"-","-","-","-",null,"-","-","-","-",null,"-","-","-","-",null,"-","-","-","-"]
[null,null,null,null,null,null,null,null,null,null,null,null,null,null,null,null,null,null,null,null,null,null,null,null,null,null,null,null,null,null,null,"-","-","-","-",null,"-","-","-","-",null,"-","-","-","-",null,"-","-","-","-",null,"-","-","-","-",null,"-","-","-","-",null,"-","-","-","-",null,"-","-","-","-",null,"-","-","-","-",null,"-","-","-","-"]
[null,null,null,null,null,null,null,null,null,null,null,null,null,null,null,null,null,null,null,null,null,null,null,null,null,null,null,null,null,null,null,"-","-","-","-",null,"-","-","-","-",null,"-","-","-","-",null,"-","-","-","-",null,"-","-","-","-",null,"-","-","-","-",null,"-","-","-","-",null,"-","-","-","-",null,"-","-","-","-",null,"-","-","-","-"]
[null,null,null,null,null,null,null,null,null,null,null,null,null,null,null,null,null,null,null,null,null,null,null,null,null,null,null,null,null,null,null,"-","-","-","-",null,"-","-","-","-",null,"-","-","-","-",null,"-","-","-","-",null,"-","-","-","-",null,"-","-","-","-",null,"-","-","-","-",null,"-","-","-","-",null,"-","-","-","-",null,"-","-","-","-"]
[null,null,null,null,null,null,null,null,null,null,null,null,null,null,null,null,null,null,null,null,null,null,null,null,null,null,null,null,null,null,null,"-","-","-","-",null,"-","-","-","-",null,"-","-","-","-",null,"-","-","-","-",null,"-","-","-","-",null,"-","-","-","-",null,"-","-","-","-",null,"-","-","-","-",null,"-","-","-","-",null,"-","-","-","-"]
[null,null,null,null,null,null,null,null,null,null,null,null,null,null,null,null,null,null,null,null,null,null,null,null,null,null,null,null,null,null,null,"-","-","-","-",null,"-","-","-","-",null,"-","-","-","-",null,"-","-","-","-",null,"-","-","-","-",null,"-","-","-","-",null,"-","-","-","-",null,"-","-","-","-",null,"-","-","-","-",null,"-","-","-","-"]
[null,null,null,null,null,null,null,null,null,null,null,null,null,null,null,null,null,null,null,null,null,null,null,null,null,null,null,null,null,null,null,"-","-","-","-",null,"-","-","-","-",null,"-","-","-","-",null,"-","-","-","-",null,"-","-","-","-",null,"-","-","-","-",null,"-","-","-","-",null,"-","-","-","-",null,"-","-","-","-",null,"-","-","-","-"]
[null,null,null,null,null,null,null,null,null,null,null,null,null,null,null,null,null,null,null,null,null,null,null,null,null,null,null,null,null,null,null,"-","-","-","-",null,"-","-","-","-",null,"-","-","-","-",null,"-","-","-","-",null,"-","-","-","-",null,"-","-","-","-",null,"-","-","-","-",null,"-","-","-","-",null,"-","-","-","-",null,"-","-","-","-"]
[null,null,null,null,null,null,null,null,null,null,null,null,null,null,null,null,null,null,null,null,null,null,null,null,null,null,null,null,null,null,null,"-","-","-","-",null,"-","-","-","-",null,"-","-","-","-",null,"-","-","-","-",null,"-","-","-","-",null,"-","-","-","-",null,"-","-","-","-",null,"-","-","-","-",null,"-","-","-","-",null,"-","-","-","-"]
[null,null,null,null,null,null,null,null,null,null,null,null,null,null,null,null,null,null,null,null,null,null,null,null,null,null,null,null,null,null,null,"-","-","-","-",null,"-","-","-","-",null,"-","-","-","-",null,"-","-","-","-",null,"-","-","-","-",null,"-","-","-","-",null,"-","-","-","-",null,"-","-","-","-",null,"-","-","-","-",null,"-","-","-","-"]
[null,null,null,null,null,null,null,null,null,null,null,null,null,null,null,null,null,null,null,null,null,null,null,null,null,null,null,null,null,null,null,"-","-","-","-",null,"-","-","-","-",null,"-","-","-","-",null,"-","-","-","-",null,"-","-","-","-",null,"-","-","-","-",null,"-","-","-","-",null,"-","-","-","-",null,"-","-","-","-",null,"-","-","-","-"]
[null,null,null,null,null,null,null,null,null,null,null,null,null,null,null,null,null,null,null,null,null,null,null,null,null,null,null,null,null,null,null,"-","-","-","-",null,"-","-","-","-",null,"-","-","-","-",null,"-","-","-","-",null,"-","-","-","-",null,"-","-","-","-",null,"-","-","-","-",null,"-","-","-","-",null,"-","-","-","-",null,"-","-","-","-"]
[null,null,null,null,null,null,null,null,null,null,null,null,null,null,null,null,null,null,null,null,null,null,null,null,null,null,null,null,null,null,null,"-","-","-","-",null,"-","-","-","-",null,"-","-","-","-",null,"-","-","-","-",null,"-","-","-","-",null,"-","-","-","-",null,"-","-","-","-",null,"-","-","-","-",null,"-","-","-","-",null,"-","-","-","-"]

{"sheet":"Tabeller","index":2,"n_rows":30,"n_cols":13,"rows_kept":30,"cut":false,"hidden":false,"merged":[]}
[null,"Seriespel säsongen 2023/ 2024"]
[null,"Division 1"]
["Plac",null,"Sp.m","3p","2p","1p","0p",null,null,"Matchkvot",null,"(+/-)","Poäng"]
[{"$f":"IF(SUM(C$4:C$13)<1,0,1)","v":0},{"$f":"'Spelprogram Div 1'!S81","v":"Carlskrona Hsc"},{"$f":"'Spelprogram Div 1'!T81","v":0},{"$f":"'Spelprogram Div 1'!U81","v":0},{"$f":"'Spelprogram Div 1'!V81","v":0},{"$f":"'Spelprogram Div 1'!W81","v":0},{"$f":"'Spelprogram Div 1'!X81","v":0},null,{"$f":"'Spelprogram Div 1'!Z81","v":0},":",{"$f":"'Spelprogram Div 1'!AB81","v":0},{"$f":"'Spelprogram Div 1'!AC81","v":0},{"$f":"'Spelprogram Div 1'!AD81","v":0}]
[{"$f":"IF(SUM(C$4:C$13)<1,0,IF($M5<$M4,2,IF($L5<$L4,2,IF($I5<$I4,2,$A4))))","v":0},{"$f":"'Spelprogram Div 1'!S77","v":"Sibbamåla "},{"$f":"'Spelprogram Div 1'!T77","v":0},{"$f":"'Spelprogram Div 1'!U77","v":0},{"$f":"'Spelprogram Div 1'!V77","v":0},{"$f":"'Spelprogram Div 1'!W77","v":0},{"$f":"'Spelprogram Div 1'!X77","v":0},null,{"$f":"'Spelprogram Div 1'!Z77","v":0},":",{"$f":"'Spelprogram Div 1'!AB77","v":0},{"$f":"'Spelprogram Div 1'!AC77","v":0},{"$f":"'Spelprogram Div 1'!AD77","v":0}]
[{"$f":"IF(SUM(C$4:C$13)<1,0,IF($M6<$M5,3,IF($L6<$L5,3,IF($I6<$I5,3,$A5))))","v":0},{"$f":"'Spelprogram Div 1'!S80","v":"Växjö Hsk 1"},{"$f":"'Spelprogram Div 1'!T80","v":0},{"$f":"'Spelprogram Div 1'!U80","v":0},{"$f":"'Spelprogram Div 1'!V80","v":0},{"$f":"'Spelprogram Div 1'!W80","v":0},{"$f":"'Spelprogram Div 1'!X80","v":0},null,{"$f":"'Spelprogram Div 1'!Z80","v":0},":",{"$f":"'Spelprogram Div 1'!AB80","v":0},{"$f":"'Spelprogram Div 1'!AC80","v":0},{"$f":"'Spelprogram Div 1'!AD80","v":0}]
[{"$f":"IF(SUM(C$4:C$13)<1,0,IF($M7<$M6,4,IF($L7<$L6,4,IF($I7<$I6,4,$A6))))","v":0},{"$f":"'Spelprogram Div 1'!S84","v":"Balders Hsk 1"},{"$f":"'Spelprogram Div 1'!T84","v":0},{"$f":"'Spelprogram Div 1'!U84","v":0},{"$f":"'Spelprogram Div 1'!V84","v":0},{"$f":"'Spelprogram Div 1'!W84","v":0},{"$f":"'Spelprogram Div 1'!X84","v":0},null,{"$f":"'Spelprogram Div 1'!Z84","v":0},":",{"$f":"'Spelprogram Div 1'!AB84","v":0},{"$f":"'Spelprogram Div 1'!AC84","v":0},{"$f":"'Spelprogram Div 1'!AD84","v":0}]
[{"$f":"IF(SUM(C$4:C$13)<1,0,IF($M8<$M7,5,IF($L8<$L7,5,IF($I8<$I7,5,$A7))))","v":0},{"$f":"'Spelprogram Div 1'!S79","v":"Korpen Åseda"},{"$f":"'Spelprogram Div 1'!T79","v":0},{"$f":"'Spelprogram Div 1'!U79","v":0},{"$f":"'Spelprogram Div 1'!V79","v":0},{"$f":"'Spelprogram Div 1'!W79","v":0},{"$f":"'Spelprogram Div 1'!X79","v":0},null,{"$f":"'Spelprogram Div 1'!Z79","v":0},":",{"$f":"'Spelprogram Div 1'!AB79","v":0},{"$f":"'Spelprogram Div 1'!AC79","v":0},{"$f":"'Spelprogram Div 1'!AD79","v":0}]
[{"$f":"IF(SUM(C$4:C$13)<1,0,IF($M9<$M8,6,IF($L9<$L8,6,IF($I9<$I8,6,$A8))))","v":0},{"$f":"'Spelprogram Div 1'!S78","v":"Balders Hsk 2"},{"$f":"'Spelprogram Div 1'!T78","v":0},{"$f":"'Spelprogram Div 1'!U78","v":0},{"$f":"'Spelprogram Div 1'!V78","v":0},{"$f":"'Spelprogram Div 1'!W78","v":0},{"$f":"'Spelprogram Div 1'!X78","v":0},null,{"$f":"'Spelprogram Div 1'!Z78","v":0},":",{"$f":"'Spelprogram Div 1'!AB78","v":0},{"$f":"'Spelprogram Div 1'!AC78","v":0},{"$f":"'Spelprogram Div 1'!AD78","v":0}]
[{"$f":"IF(SUM(C$4:C$13)<1,0,IF($M10<$M9,7,IF($L10<$L9,7,IF($I10<$I9,7,$A9))))","v":0},{"$f":"'Spelprogram Div 1'!S82","v":"Vaxholm Hsk"},{"$f":"'Spelprogram Div 1'!T82","v":0},{"$f":"'Spelprogram Div 1'!U82","v":0},{"$f":"'Spelprogram Div 1'!V82","v":0},{"$f":"'Spelprogram Div 1'!W82","v":0},{"$f":"'Spelprogram Div 1'!X82","v":0},null,{"$f":"'Spelprogram Div 1'!Z82","v":0},":",{"$f":"'Spelprogram Div 1'!AB82","v":0},{"$f":"'Spelprogram Div 1'!AC82","v":0},{"$f":"'Spelprogram Div 1'!AD82","v":0}]
[{"$f":"IF(SUM(C$4:C$13)<1,0,IF($M11<$M10,8,IF($L11<$L10,8,IF($I11<$I10,8,$A10))))","v":0},{"$f":"'Spelprogram Div 1'!S85","v":"Lanternan 1"},{"$f":"'Spelprogram Div 1'!T85","v":0},{"$f":"'Spelprogram Div 1'!U85","v":0},{"$f":"'Spelprogram Div 1'!V85","v":0},{"$f":"'Spelprogram Div 1'!W85","v":0},{"$f":"'Spelprogram Div 1'!X85","v":0},null,{"$f":"'Spelprogram Div 1'!Z85","v":0},":",{"$f":"'Spelprogram Div 1'!AB85","v":0},{"$f":"'Spelprogram Div 1'!AC85","v":0},{"$f":"'Spelprogram Div 1'!AD85","v":0}]
[]
[]
[]
[]
[]
[]
[]
[null,"Division 2"]
["Plac",null,"Sp.m","3p","2p","1p","0p",null,null,"Matchkvot",null,"(+/-)","Poäng"]
[{"$f":"IF(SUM(C$21:C$30)<1,0,1)","v":0},{"$f":"'Spelprogram Div 2'!S78","v":"Viby HS"},{"$f":"'Spelprogram Div 2'!T78","v":0},{"$f":"'Spelprogram Div 2'!U78","v":0},{"$f":"'Spelprogram Div 2'!V78","v":0},{"$f":"'Spelprogram Div 2'!W78","v":0},{"$f":"'Spelprogram Div 2'!X78","v":0},null,{"$f":"'Spelprogram Div 2'!Z78","v":0},{"$f":"'Spelprogram Div 2'!AA78","v":":"},{"$f":"'Spelprogram Div 2'!AB78","v":0},{"$f":"'Spelprogram Div 2'!AC78","v":0},{"$f":"'Spelprogram Div 2'!AD78","v":0}]
[{"$f":"IF(SUM(C$21:C$30)<1,0,IF($M22<$M21,2,IF($L22<$L21,2,IF($I22<$I21,2,$A21))))","v":0},{"$f":"'Spelprogram Div 2'!S77","v":"Lanternan 2"},{"$f":"'Spelprogram Div 2'!T77","v":0},{"$f":"'Spelprogram Div 2'!U77","v":0},{"$f":"'Spelprogram Div 2'!V77","v":0},{"$f":"'Spelprogram Div 2'!W77","v":0},{"$f":"'Spelprogram Div 2'!X77","v":0},null,{"$f":"'Spelprogram Div 2'!Z77","v":0},{"$f":"'Spelprogram Div 2'!AA77","v":":"},{"$f":"'Spelprogram Div 2'!AB77","v":0},{"$f":"'Spelprogram Div 2'!AC77","v":0},{"$f":"'Spelprogram Div 2'!AD77","v":0}]
[{"$f":"IF(SUM(C$21:C$30)<1,0,IF($M23<$M22,3,IF($L23<$L22,3,IF($I23<$I22,3,$A22))))","v":0},{"$f":"'Spelprogram Div 2'!S85","v":"Korpen Nybro"},{"$f":"'Spelprogram Div 2'!T85","v":0},{"$f":"'Spelprogram Div 2'!U85","v":0},{"$f":"'Spelprogram Div 2'!V85","v":0},{"$f":"'Spelprogram Div 2'!W85","v":0},{"$f":"'Spelprogram Div 2'!X85","v":0},null,{"$f":"'Spelprogram Div 2'!Z85","v":0},{"$f":"'Spelprogram Div 2'!AA80","v":":"},{"$f":"'Spelprogram Div 2'!AB85","v":0},{"$f":"'Spelprogram Div 2'!AC85","v":0},{"$f":"'Spelprogram Div 2'!AD85","v":0}]
[{"$f":"IF(SUM(C$21:C$30)<1,0,IF($M24<$M23,4,IF($L24<$L23,4,IF($I24<$I23,4,$A23))))","v":0},{"$f":"'Spelprogram Div 2'!S84","v":"Värends Hsk 1 "},{"$f":"'Spelprogram Div 2'!T84","v":0},{"$f":"'Spelprogram Div 2'!U84","v":0},{"$f":"'Spelprogram Div 2'!V84","v":0},{"$f":"'Spelprogram Div 2'!W84","v":0},{"$f":"'Spelprogram Div 2'!X84","v":0},null,{"$f":"'Spelprogram Div 2'!Z84","v":0},{"$f":"'Spelprogram Div 2'!AA84","v":":"},{"$f":"'Spelprogram Div 2'!AB84","v":0},{"$f":"'Spelprogram Div 2'!AC84","v":0},{"$f":"'Spelprogram Div 2'!AD84","v":0}]
[{"$f":"IF(SUM(C$21:C$30)<1,0,IF($M25<$M24,5,IF($L25<$L24,5,IF($I25<$I24,5,$A24))))","v":0},{"$f":"'Spelprogram Div 2'!S79","v":"Tingsryd Hsc 1"},{"$f":"'Spelprogram Div 2'!T79","v":0},{"$f":"'Spelprogram Div 2'!U79","v":0},{"$f":"'Spelprogram Div 2'!V79","v":0},{"$f":"'Spelprogram Div 2'!W79","v":0},{"$f":"'Spelprogram Div 2'!X79","v":0},null,{"$f":"'Spelprogram Div 2'!Z79","v":0},{"$f":"'Spelprogram Div 2'!AA86","v":":"},{"$f":"'Spelprogram Div 2'!AB79","v":0},{"$f":"'Spelprogram Div 2'!AC79","v":0},{"$f":"'Spelprogram Div 2'!AD79","v":0}]
[{"$f":"IF(SUM(C$21:C$30)<1,0,IF($M26<$M25,6,IF($L26<$L25,6,IF($I26<$I25,6,$A25))))","v":0},{"$f":"'Spelprogram Div 2'!S82","v":"Jämjö Hsk "},{"$f":"'Spelprogram Div 2'!T82","v":0},{"$f":"'Spelprogram Div 2'!U82","v":0},{"$f":"'Spelprogram Div 2'!V82","v":0},{"$f":"'Spelprogram Div 2'!W82","v":0},{"$f":"'Spelprogram Div 2'!X82","v":0},null,{"$f":"'Spelprogram Div 2'!Z82","v":0},{"$f":"'Spelprogram Div 2'!AA82","v":":"},{"$f":"'Spelprogram Div 2'!AB82","v":0},{"$f":"'Spelprogram Div 2'!AC82","v":0},{"$f":"'Spelprogram Div 2'!AD82","v":0}]
[{"$f":"IF(SUM(C$21:C$30)<1,0,IF($M27<$M26,7,IF($L27<$L26,7,IF($I27<$I26,7,$A26))))","v":0},{"$f":"'Spelprogram Div 2'!S83","v":"Balders Hsk 3"},{"$f":"'Spelprogram Div 2'!T83","v":0},{"$f":"'Spelprogram Div 2'!U83","v":0},{"$f":"'Spelprogram Div 2'!V83","v":0},{"$f":"'Spelprogram Div 2'!W83","v":0},{"$f":"'Spelprogram Div 2'!X83","v":0},null,{"$f":"'Spelprogram Div 2'!Z83","v":0},{"$f":"'Spelprogram Div 2'!AA83","v":":"},{"$f":"'Spelprogram Div 2'!AB83","v":0},{"$f":"'Spelprogram Div 2'!AC83","v":0},{"$f":"'Spelprogram Div 2'!AD83","v":0}]
[{"$f":"IF(SUM(C$21:C$30)<1,0,IF($M28<$M27,8,IF($L28<$L27,8,IF($I28<$I27,8,$A27))))","v":0},{"$f":"'Spelprogram Div 2'!S81","v":0},{"$f":"'Spelprogram Div 2'!T81","v":0},{"$f":"'Spelprogram Div 2'!U81","v":0},{"$f":"'Spelprogram Div 2'!V81","v":0},{"$f":"'Spelprogram Div 2'!W81","v":0},{"$f":"'Spelprogram Div 2'!X81","v":0},null,{"$f":"'Spelprogram Div 2'!Z81","v":0},{"$f":"'Spelprogram Div 2'!AA81","v":":"},{"$f":"'Spelprogram Div 2'!AB81","v":0},{"$f":"'Spelprogram Div 2'!AC81","v":0},{"$f":"'Spelprogram Div 2'!AD81","v":0}]
[{"$f":"IF(SUM(C$21:C$30)<1,0,IF($M29<$M28,9,IF($L29<$L28,9,IF($I29<$I28,9,$A28))))","v":0},{"$f":"'Spelprogram Div 2'!S80","v":0},{"$f":"'Spelprogram Div 2'!T80","v":0},{"$f":"'Spelprogram Div 2'!U80","v":0},{"$f":"'Spelprogram Div 2'!V80","v":0},{"$f":"'Spelprogram Div 2'!W80","v":0},{"$f":"'Spelprogram Div 2'!X80","v":0},null,{"$f":"'Spelprogram Div 2'!Z80","v":0},{"$f":"'Spelprogram Div 2'!AA80","v":":"},{"$f":"'Spelprogram Div 2'!AB80","v":0},{"$f":"'Spelprogram Div 2'!AC80","v":0},{"$f":"'Spelprogram Div 2'!AD80","v":0}]
[{"$f":"IF(SUM(C$21:C$30)<1,0,IF($M30<$M29,10,IF($L30<$L29,10,IF($I30<$I29,10,$A29))))","v":0},{"$f":"'Spelprogram Div 2'!S79","v":"Tingsryd Hsc 1"},{"$f":"'Spelprogram Div 2'!T79","v":0},{"$f":"'Spelprogram Div 2'!U79","v":0},{"$f":"'Spelprogram Div 2'!V79","v":0},{"$f":"'Spelprogram Div 2'!W79","v":0},{"$f":"'Spelprogram Div 2'!X79","v":0},null,{"$f":"'Spelprogram Div 2'!Z79","v":0},{"$f":"'Spelprogram Div 2'!AA79","v":":"},{"$f":"'Spelprogram Div 2'!AB79","v":0},{"$f":"'Spelprogram Div 2'!AC79","v":0},{"$f":"'Spelprogram Div 2'!AD79","v":0}]

{"sheet":"Serieinformation","index":3,"n_rows":66,"n_cols":2,"rows_kept":66,"cut":false,"hidden":false,"merged":[]}
["Seriespel Div 1 / Div 2  2023/ 2024"]
["15 lag har anmält sitt intresse för seriespel."]
[]
["Den som vinner Division 1 blir lag-SM vinnare inomhus."]
["Om matcher måste flyttas skall dessa spelas innan nästa serieomgång, överträdelse medför automatiskt W.O"]
["Berörda parter(dvs. Arrangör, Gert Karlsson o Tomas Lindahl) underättas i god tid."]
["Regelboken § 10:5   Walk over i en match blir 6-0."]
["Om ett lag inte kan spela på utsatt dag bör den i första hand flyttas till ett annat speldatum dock senast innan "]
["nästa spelomgång. Laget som vill flytta en seriematch bestämmer inte spelplats utan det gör motståndarlaget. "," "]
["Vid w.o skall laget kontakta motspelarna och den som har hand om seriespelet, samt tävlingsarrangören och"]
["webbmaster på www.svhkf.se. "]
["Lagen skall meddela seriespelsansvarig och webbmaster när matchen skall avgöras."]
["Om w.o måste lämnas gäller följande: Första seriespelsomgången ingen åtgärd."]
["Andra seriespelsomgången blir det böter på 500 kr som SvHKF driver in och fördelar till berörda klubbar. "]
["Om inte detta betalas innan nästa seriespelsomgång utesluts laget ur serien. "]
["Vid w.o i en tredje seriespelsomgång så utesluts laget direkt."]
[]
[]
[]
[]
["Poängberäkning:"]
["Vinst=3 poäng ,  vinst efter 7-meterskast=2 poäng ,  förlust efter 7-meterskast=1 poäng och förlust=0 poäng "]
["Vid oavgjort 5-5 blir det omkastning på 7 meter , alla i laget kastar 5 skor var från 7 meter , skulle det "]
["fortfarande inte gå att skilja lagen åt får lagen själva utse en kastare som kastar 5 skor från 7 meter."]
["Är det fortfarande lika får de utse en ny kastare(om laget vill får de utse samma kastare)"]
["tills ett avgörande har skett."]
["Arrangör skickar in matchresultat via SMS till Tomas Lindahl direkt efter avslutade matcher "]
["Tel. 073-4004693 skriv matchnummer enligt spelprogram följt av resultatet i matchen."]
["Matchprotokollet skickas till Gert Karlsson via e-post:  gert.karlsson@svhkf.se eller ett tydligt foto"]
["på protokollet för uppdatering av rankingtabell."]
["Vid länkmatcher så är det hemmalaget som ansvarar så att resultaten skickas in."]
["Har ni inte tillgång till e-post/mobil får ni skicka protokollet till  "]
[" Gert Karlsson Hospitalsgatan 44 602 27 Norrköping."]
["Kontaktpersoner:                                                                                                                   Spelplatser"]
["Växjö Hsk 1            Thomas Dahl             070 539 12 62                                "]
["Värend Hsk 1          Ulrika Rydell             070-3161211                                                 Växjö Boulehall                                    "]
["Korpen Åseda         Gert Karlsson            073-2688029                       Brunnskyrkan  Åseda alt. Korplokalen"]
["Korpen Nybro         Leffe Henryson          072-5074399                             Korpcentrum, Kungshallsvägen 33"]
["Tingsryd Hsc  1        Johan Johansson        073-4011762                                              Tingsryd, Kurorten"]
[]
["Vaxholm Hsk          Kristian Jältsäter             070-7216721"]
["Balders Hsk 1         Pascal Letter                  079-3340868"]
["Balders Hsk 2         Jean Fredriksson Väre    070-3080849"]
["Balders Hsk 3        Martin Anjou                  073-9953811"]
["Viby HS                 Torgny Rågfeldt             070-7282126  "]
["Lanternan 1            Christer Blomgren    Tel: 0455-57668 el. 070-6316669        Boulehallen i Karlskrona"]
["Carlskrona             Leif Sundahl  0455-42963    el.  070-9690151                      Boulehallen i Karlskrona"]
["Sibbamåla              Mattias Gneupel     0455-91141    el.  070-3893099             Boulehallen i Karlskrona"]
["Jämjö Hsk             Daniel Mårtensson         070-1478538                                   Boulehallen i Karlskrona"]
[]
[]
[]
["Seriespelsupplägg 2023/2024"]
["Div 1 = 8 lag  Spelas med dubbelmöten, hemmalaget får möjlighet att se bortalagets spelaruppställning"]
[]
[]
["Div 2 =7 lag. Spelas med dubbelmöten, hemmalaget får möjlighet att se bortalagets spelaruppställning"]
[]
["Div 1"]
["Priser delas ut till de 3 främsta i serien"]
["Lag 7 och 8 åker ur till Div 2"]
[]
["Div 2"]
["Priser delas ut till de 3 främsta i serien"]
[]
["Lag 1 och 2 flyttas upp till Div 1"]