{"text_format":"1","workbook":"xlsx","n_sheets":4,"sheets":["Spelprogram Div 1","Spelprogram Div 2","Tabeller","Serieinformation"],"not_rendered":{"charts":0,"images":0,"macros":1,"external_links":0,"defined_names":4,"comments":0,"pivot_tables":0},"unopened":[],"bounds":{"document_bytes":16777216,"sheet_cells":100000,"rows_first":2000,"rows_last":500,"rows_between":2000,"halvings":0,"cell_chars":16384,"cell_head_chars":4096},"cells_cut":0,"cells_raw":0,"read":"whole","date_system":"1900"}

{"sheet":"Spelprogram Div 1","index":0,"n_rows":141,"n_cols":74,"rows_kept":141,"cut":false,"hidden":false,"merged":[]}
[null,null,null,null,null,"2021 / 2022"]
[null,null,null,null,null,"Division 1"]
["MatchNR:","Datum","Arrangör","Kl.","Bana","Hemmalag","Bortalag"]
[1,"2021-10-02","Tingsryd","10:00:00",1,"Växjö Hsk 1","Korpen Nybro",null,null,":"]
[2,"Omg 1",null,"10:00:00",2,"Tingsryd Hsc 1","Korpen Åseda",null,null,":"]
[3,null,null,"12:00:00",1,"Korpen Nybro","Korpen Åseda",null,null,":"]
[4,null,null,"12:00:00",2,"Växjö Hsk 1","Tingsryd Hsc 1",null,null,":"]
[5,"2021-10-02","Blekinge","10:00:00",1,"Carlskrona Hsc","Sibbamåla",null,null,":"]
[6,"Omg 1",null,"10:00:00",2,"Lanternan 1","Dynapac Hsc",null,null,":"]
[7,null,null,"12:00:00",1,"Dynapac Hsc","Carlskrona Hsc",null,null,":"]
[8,null,null,"12:00:00",2,"Lanternan 1","Sibbamåla",null,null,":"]
[]
[19,"2021-10-30","Nybro","10:00:00",1,"Tingsryd Hsc 1","Dynapac Hsc",null,null,":"]
[20,"Omg 2",null,"10:00:00",2,"Lanternan 1","Korpen Åseda",null,null,":"]
[21,null,null,"10:00:00",3,"Carlskrona Hsc","Växjö Hsk 1",null,null,":"]
[22,null,null,"10:00:00",4,"Sibbamåla","Korpen Nybro",null,null,":"]
[23,null,null,"12:00:00",1,"Lanternan 1","Korpen Nybro",null,null,":"]
[24,null,null,"12:00:00",2,"Dynapac Hsc","Växjö Hsk 1",null,null,":"]
[25,null,null,"12:00:00",3,"Sibbamåla","Korpen Åseda",null,null,":"]
[26,null,null,"12:00:00",4,"Carlskrona Hsc","Tingsryd Hsc 1",null,null,":"]
[]
[37,"2021-11-27","Blekinge","10:00:00",1,"Tingsryd Hsc 1","Lanternan 1",null,null,":"]
[38,"Omg 3-4",null,"10:00:00",2,"Dynapac Hsc","Korpen Nybro",null,null,":"]
[39,null,null,"10:00:00",3,"Växjö Hsk 1","Sibbamåla",null,null,":"]
[40,null,null,"10:00:00",4,"Korpen Åseda","Carlskrona Hsc",null,null,":"]
[41,null,null,"12:00:00",1,"Dynapac Hsc","Korpen Åseda",null,null,":"]
[42,null,null,"12:00:00",2,"Tingsryd Hsc 1","Sibbamåla",null,null,":"]
[43,null,null,"12:00:00",3,"Korpen Nybro","Carlskrona Hsc",null,null,":"]
[44,null,null,"12:00:00",4,"Växjö Hsk 1","Lanternan 1",null,null,":"]
[]
[65,"2022-01-22","Åseda","10:00:00",1,"Korpen Åseda","Växjö Hsk 1",null,null,":"]
[66,"Omg 5-6",null,"10:00:00",2,"Korpen Nybro","Tingsryd Hsc 1",null,null,":"]
[67,null,null,"12:00:00",1,"Korpen Nybro","Växjö Hsk 1",null,null,":"]
[68,null,null,"12:00:00",2,"Korpen Åseda","Tingsryd Hsc 1",null,null,":"]
[69,"2022-01-22","Blekinge","10:00:00",1,"Sibbamåla","Dynapac Hsc",null,null,":"]
[70,"Omg 5-6",null,"10:00:00",2,"Carlskrona Hsc","Lanternan 1",null,null,":"]
[71,null,null,"12:00:00",1,"Sibbamåla","Carlskrona Hsc",null,null,":"]
[72,null,null,"12:00:00",2,"Dynapac Hsc","Lanternan 1",null,null,":"]
[]
[91,"2022-02-19","Tingsryd","10:00:00",1,"Korpen Åseda","Korpen Nybro",null,null,":"]
[92,"Omg 7",null,"10:00:00",2,"Tingsryd Hsc 1","Växjö Hsk 1",null,null,":"]
[93,null,null,"12:00:00",1,"Växjö Hsk 1","Korpen Åseda",null,null,":"]
[94,null,null,"12:00:00",2,"Tingsryd Hsc 1","Korpen Nybro",null,null,":"]
[95,"2022-02-19","Blekinge","10:00:00",1,"Carlskrona Hsc","Dynapac Hsc",null,null,":"]
[96,"Omg 7",null,"10:00:00",2,"Sibbamåla","Lanternan 1",null,null,":"]
[97,null,null,"12:00:00",1,"Lanternan 1","Carlskrona Hsc",null,null,":"]
[98,null,null,"12:00:00",2,"Dynapac Hsc","Sibbamåla",null,null,":"]
[]
[109,"2022-03-12","Nybro","10:00:00",1,"Lanternan 1","Tingsryd Hsc 1",null,null,":"]
[110,"Omg 8",null,"10:00:00",2,"Korpen Nybro","Dynapac Hsc",null,null,":"]
[111,null,null,"10:00:00",3,"Sibbamåla","Växjö Hsk 1",null,null,":"]
[112,null,null,"10:00:00",4,"Carlskrona Hsc","Korpen Åseda",null,null,":"]
[113,null,null,"12:00:00",1,"Korpen Åseda","Dynapac Hsc",null,null,":"]
[114,null,null,"12:00:00",2,"Sibbamåla","Tingsryd Hsc 1",null,null,":"]
[115,null,null,"12:00:00",3,"Carlskrona Hsc","Korpen Nybro",null,null,":"]
[116,null,null,"12:00:00",4,"Lanternan 1","Växjö Hsk 1",null,null,":"]
[]
[127,"2022-04-02","Blekinge","10:00:00",1,"Dynapac Hsc","Tingsryd Hsc 1",null,null,":"]
[128,"Omg 9",null,"10:00:00",2,"Korpen Åseda","Lanternan 1",null,null,":"]
[129,null,null,"10:00:00",3,"Växjö Hsk 1","Carlskrona Hsc",null,null,":"]
[130,null,null,"10:00:00",4,"Korpen Nybro","Sibbamåla",null,null,":"]
[131,null,null,"12:00:00",1,"Korpen Nybro","Lanternan 1",null,null,":"]
[132,null,null,"12:00:00",2,"Växjö Hsk 1","Dynapac Hsc",null,null,":"]
[133,null,null,"12:00:00",3,"Korpen Åseda","Sibbamåla",null,null,":"]
[134,null,null,"12:00:00",4,"Tingsryd Hsc 1","Carlskrona Hsc",null,null,":"]
[]
[]
[]
[]
["OBS!!!!"]
["Arrangör skickar in matchresultat via SMS till Tomas Lindahl direkt efter avslutade matcher "]
["Tel. 073-4004693 skriv matchnummer enligt spelprogram följt av resultatet i matchen."]
["Matchprotokollet skickas till Gert Karlsson via e-post:  gert.karlsson@svhkf.se "]
["för uppdatering av rankingtabell."]
[null,null,null,null,null,null,null,null,null,null,null,null,null,null,null,null,null,null,null,null,null,null,null,null,null,null,null,null,null,null,"Sibbamåla ",null,null,null,null,"Dynapac Hsc",null,null,null,null,"Korpen Åseda",null,null,null,null,"Växjö Hsk 1",null,null,null,null,"Carlskrona Hsc",null,null,null,null,"Korpen Nybro",null,null,null,null,null,null,null,null,null,"Lanternan 1",null,null,null,null,"Tingsryd Hsc 1"]
[null,null,null,null,null,null,null,null,null,null,null,null,null,null,null,null,null,null,"Sp.m","3p","2p","1p","0p",null,null,"Matchkvot",null,null,"Poäng"]
[null,null,null,null,null,null,null,null,null,null,null,null,null,null,null,null,null,{"$f":"AE75","v":"Sibbamåla "},{"$f":"COUNT(AE77:AH151)/(2)","v":0},{"$f":"SUM(S77,-U77,-V77,-W77)","v":0},{"$f":"COUNTIF(AG77:AH151,5)","v":0},{"$f":"COUNTIF(AE77:AF151,5)","v":0},{"$f":"COUNTIF(AE77:AF151,\"<5\")","v":0},null,{"$f":"SUM(AE77:AF151)","v":0},null,{"$f":"SUM(AG77:AH151)","v":0},{"$f":"Y77-AA77","v":0},{"$f":"SUM(T77*3)+(U77*2)+(V77*1)","v":0},null,{"$f":"IF(I4=\"\",\"-\",IF(F4=\"Sibbamåla\",I4,\"-\"))","v":"-"},{"$f":"IF(K4=\"\",\"-\",IF(G4=\"Sibbamåla\",K4,\"-\"))","v":"-"},{"$f":"IF(AE77<7,K4,\"-\")","v":"-"},{"$f":"IF(AF77<7,I4,\"-\")","v":"-"},null,{"$f":"IF(I4=\"\",\"-\",IF(F4=\"Dynapac Hsc\",I4,\"-\"))","v":"-"},{"$f":"IF(K4=\"\",\"-\",IF(G4=\"Dynapac Hsc\",K4,\"-\"))","v":"-"},{"$f":"IF(AJ77<7,K4,\"-\")","v":"-"},{"$f":"IF(AK77<7,I4,\"-\")","v":"-"},null,{"$f":"IF(I4=\"\",\"-\",IF(F4=\"Korpen Åseda\",I4,\"-\"))","v":"-"},{"$f":"IF(K4=\"\",\"-\",IF(G4=\"Korpen Åseda\",K4,\"-\"))","v":"-"},{"$f":"IF(AO77<7,K4,\"-\")","v":"-"},{"$f":"IF(AP77<7,I4,\"-\")","v":"-"},null,{"$f":"IF(I4=\"\",\"-\",IF(F4=\"växjö hsk 1\",I4,\"-\"))","v":"-"},{"$f":"IF(K4=\"\",\"-\",IF(G4=\"växjö hsk 1\",K4,\"-\"))","v":"-"},{"$f":"IF(AT77<7,K4,\"-\")","v":"-"},{"$f":"IF(AU77<7,I4,\"-\")","v":"-"},null,{"$f":"IF(I4=\"\",\"-\",IF(F4=\"Carlskrona Hsc\",I4,\"-\"))","v":"-"},{"$f":"IF(K4=\"\",\"-\",IF(G4=\"Carlskrona Hsc\",K4,\"-\"))","v":"-"},{"$f":"IF(AY77<7,K4,\"-\")","v":"-"},{"$f":"IF(AZ77<7,I4,\"-\")","v":"-"},null,{"$f":"IF(I4=\"\",\"-\",IF(F4=\"Korpen Nybro\",I4,\"-\"))","v":"-"},{"$f":"IF(K4=\"\",\"-\",IF(G4=\"Korpen Nybro\",K4,\"-\"))","v":"-"},{"$f":"IF(BD77<7,K4,\"-\")","v":"-"},{"$f":"IF(BE77<7,I4,\"-\")","v":"-"},null,null,null,null,null,null,{"$f":"IF(I4=\"\",\"-\",IF(F4=\"Lanternan 1\",I4,\"-\"))","v":"-"},{"$f":"IF(K4=\"\",\"-\",IF(G4=\"Lanternan 1\",K4,\"-\"))","v":"-"},{"$f":"IF(BN77<7,K4,\"-\")","v":"-"},{"$f":"IF(BO77<7,I4,\"-\")","v":"-"},null,{"$f":"IF(I4=\"\",\"-\",IF(F4=\"Tingsryd hsc 1\",I4,\"-\"))","v":"-"},{"$f":"IF(K4=\"\",\"-\",IF(G4=\"Tingsryd hsc 1\",K4,\"-\"))","v":"-"},{"$f":"IF(BS77<7,K4,\"-\")","v":"-"},{"$f":"IF(BT77<7,I4,\"-\")","v":"-"}]
[null,null,null,null,null,null,null,null,null,null,null,null,null,null,null,null,null,{"$f":"AJ75","v":"Dynapac Hsc"},{"$f":"COUNT(AJ77:AM151)/(2)","v":0},0,{"$f":"COUNTIF(AL77:AM151,5)","v":0},{"$f":"COUNTIF(AJ77:AK151,5)","v":0},{"$f":"COUNTIF(AJ77:AK151,\"<5\")","v":0},null,{"$f":"SUM(AJ77:AK151)","v":0},null,{"$f":"SUM(AL77:AM151)","v":0},0,0,null,{"$f":"IF(I5=\"\",\"-\",IF(F5=\"Sibbamåla\",I5,\"-\"))","v":"-"},{"$f":"IF(K5=\"\",\"-\",IF(G5=\"Sibbamåla\",K5,\"-\"))","v":"-"},{"$f":"IF(AE78<7,K5,\"-\")","v":"-"},{"$f":"IF(AF78<7,I5,\"-\")","v":"-"},null,{"$f":"IF(I5=\"\",\"-\",IF(F5=\"Dynapac Hsc\",I5,\"-\"))","v":"-"},{"$f":"IF(K5=\"\",\"-\",IF(G5=\"Dynapac Hsc\",K5,\"-\"))","v":"-"},{"$f":"IF(AJ78<7,K5,\"-\")","v":"-"},{"$f":"IF(AK78<7,I5,\"-\")","v":"-"},null,{"$f":"IF(I5=\"\",\"-\",IF(F5=\"Korpen Åseda\",I5,\"-\"))","v":"-"},{"$f":"IF(K5=\"\",\"-\",IF(G5=\"Korpen Åseda\",K5,\"-\"))","v":"-"},{"$f":"IF(AO78<7,K5,\"-\")","v":"-"},{"$f":"IF(AP78<7,I5,\"-\")","v":"-"},null,{"$f":"IF(I5=\"\",\"-\",IF(F5=\"växjö hsk 1\",I5,\"-\"))","v":"-"},{"$f":"IF(K5=\"\",\"-\",IF(G5=\"växjö hsk 1\",K5,\"-\"))","v":"-"},{"$f":"IF(AT78<7,K5,\"-\")","v":"-"},{"$f":"IF(AU78<7,I5,\"-\")","v":"-"},null,{"$f":"IF(I5=\"\",\"-\",IF(F5=\"Carlskrona Hsc\",I5,\"-\"))","v":"-"},{"$f":"IF(K5=\"\",\"-\",IF(G5=\"Carlskrona Hsc\",K5,\"-\"))","v":"-"},{"$f":"IF(AY78<7,K5,\"-\")","v":"-"},{"$f":"IF(AZ78<7,I5,\"-\")","v":"-"},null,{"$f":"IF(I5=\"\",\"-\",IF(F5=\"Korpen Nybro\",I5,\"-\"))","v":"-"},{"$f":"IF(K5=\"\",\"-\",IF(G5=\"Korpen Nybro\",K5,\"-\"))","v":"-"},{"$f":"IF(BD78<7,K5,\"-\")","v":"-"},{"$f":"IF(BE78<7,I5,\"-\")","v":"-"},null,null,null,null,null,null,{"$f":"IF(I5=\"\",\"-\",IF(F5=\"Lanternan 1\",I5,\"-\"))","v":"-"},{"$f":"IF(K5=\"\",\"-\",IF(G5=\"Lanternan 1\",K5,\"-\"))","v":"-"},{"$f":"IF(BN78<7,K5,\"-\")","v":"-"},{"$f":"IF(BO78<7,I5,\"-\")","v":"-"},null,{"$f":"IF(I5=\"\",\"-\",IF(F5=\"Tingsryd hsc 1\",I5,\"-\"))","v":"-"},{"$f":"IF(K5=\"\",\"-\",IF(G5=\"Tingsryd hsc 1\",K5,\"-\"))","v":"-"},{"$f":"IF(BS78<7,K5,\"-\")","v":"-"},{"$f":"IF(BT78<7,I5,\"-\")","v":"-"}]
[null,null,null,null,null,null,null,null,null,null,null,null,null,null,null,null,null,{"$f":"AO75","v":"Korpen Åseda"},{"$f":"COUNT(AO77:AR151)/(2)","v":0},0,{"$f":"COUNTIF(AQ77:AR151,5)","v":0},{"$f":"COUNTIF(AO77:AP151,5)","v":0},{"$f":"COUNTIF(AO77:AP151,\"<5\")","v":0},null,{"$f":"SUM(AO77:AP151)","v":0},null,{"$f":"SUM(AQ77:AR151)","v":0},0,0,null,"-","-","-","-",null,"-","-","-","-",null,"-","-","-","-",null,"-","-","-","-",null,"-","-","-","-",null,"-","-","-","-",null,null,null,null,null,null,"-","-","-","-",null,"-","-","-","-"]
[null,null,null,null,null,null,null,null,null,null,null,null,null,null,null,null,null,{"$f":"AT75","v":"Växjö Hsk 1"},{"$f":"COUNT(AT77:AW151)/(2)","v":0},0,{"$f":"COUNTIF(AV77:AW151,5)","v":0},{"$f":"COUNTIF(AT77:AU151,5)","v":0},{"$f":"COUNTIF(AT77:AU151,\"<5\")","v":0},null,{"$f":"SUM(AT77:AU151)","v":0},null,{"$f":"SUM(AV77:AW151)","v":0},0,0,null,"-","-","-","-",null,"-","-","-","-",null,"-","-","-","-",null,"-","-","-","-",null,"-","-","-","-",null,"-","-","-","-",null,null,null,null,null,null,"-","-","-","-",null,"-","-","-","-"]
[null,null,null,null,null,null,null,null,null,null,null,null,null,null,null,null,null,{"$f":"AY75","v":"Carlskrona Hsc"},{"$f":"COUNT(AY77:BB151)/(2)","v":0},0,{"$f":"COUNTIF(BA77:BB151,5)","v":0},{"$f":"COUNTIF(AY77:AZ151,5)","v":0},{"$f":"COUNTIF(AY77:AZ151,\"<5\")","v":0},null,{"$f":"SUM(AY77:AZ151)","v":0},null,{"$f":"SUM(BA77:BB151)","v":0},0,0,null,"-","-","-","-",null,"-","-","-","-",null,"-","-","-","-",null,"-","-","-","-",null,"-","-","-","-",null,"-","-","-","-",null,null,null,null,null,null,"-","-","-","-",null,"-","-","-","-"]
[null,null,null,null,null,null,null,null,null,null,null,null,null,null,null,null,null,{"$f":"BD75","v":"Korpen Nybro"},{"$f":"COUNT(BD77:BG151)/(2)","v":0},0,{"$f":"COUNTIF(BF77:BG151,5)","v":0},{"$f":"COUNTIF(BD77:BE151,5)","v":0},{"$f":"COUNTIF(BD77:BE151,\"<5\")","v":0},null,{"$f":"SUM(BD77:BE151)","v":0},null,{"$f":"SUM(BF77:BG151)","v":0},0,0,null,"-","-","-","-",null,"-","-","-","-",null,"-","-","-","-",null,"-","-","-","-",null,"-","-","-","-",null,"-","-","-","-",null,null,null,null,null,null,"-","-","-","-",null,"-","-","-","-"]
[null,null,null,null,null,null,null,null,null,null,null,null,null,null,null,null,null,{"$f":"BI75","v":0},{"$f":"COUNT(BI77:BL151)/(2)","v":0},0,{"$f":"COUNTIF(BK77:BL151,5)","v":0},{"$f":"COUNTIF(BI77:BJ151,5)","v":0},{"$f":"COUNTIF(BI77:BJ151,\"<5\")","v":0},null,{"$f":"SUM(BI77:BJ151)","v":0},null,{"$f":"SUM(BK77:BL151)","v":0},0,0,null,"-","-","-","-",null,"-","-","-","-",null,"-","-","-","-",null,"-","-","-","-",null,"-","-","-","-",null,"-","-","-","-",null,null,null,null,null,null,"-","-","-","-",null,"-","-","-","-"]
[null,null,null,null,null,null,null,null,null,null,null,null,null,null,null,null,null,{"$f":"BN75","v":"Lanternan 1"},{"$f":"COUNT(BN77:BQ151)/(2)","v":0},0,{"$f":"COUNTIF(BP77:BQ151,5)","v":0},{"$f":"COUNTIF(BN77:BO151,5)","v":0},{"$f":"COUNTIF(BN77:BO151,\"<5\")","v":0},null,{"$f":"SUM(BN77:BO151)","v":0},null,{"$f":"SUM(BP77:BQ151)","v":0},0,0,null,"-","-","-","-",null,"-","-","-","-",null,"-","-","-","-",null,"-","-","-","-",null,"-","-","-","-",null,"-","-","-","-",null,null,null,null,null,null,"-","-","-","-",null,"-","-","-","-"]
[null,null,null,null,null,null,null,null,null,null,null,null,null,null,null,null,null,{"$f":"BS75","v":"Tingsryd Hsc 1"},{"$f":"COUNT(BS77:BV151)/(2)","v":0},0,{"$f":"COUNTIF(BU77:BV151,5)","v":0},{"$f":"COUNTIF(BS77:BT151,5)","v":0},{"$f":"COUNTIF(BS77:BT151,\"<5\")","v":0},null,{"$f":"SUM(BS77:BT151)","v":0},null,{"$f":"SUM(BU77:BV151)","v":0},0,0,null,"-","-","-","-",null,"-","-","-","-",null,"-","-","-","-",null,"-","-","-","-",null,"-","-","-","-",null,"-","-","-","-",null,null,null,null,null,null,"-","-","-","-",null,"-","-","-","-"]
[null,null,null,null,null,null,null,null,null,null,null,null,null,null,null,null,null,{"$f":"BX75","v":0},{"$f":"COUNT(BX77:CA151)/(2)","v":0},0,{"$f":"COUNTIF(BZ77:CA151,5)","v":0},{"$f":"COUNTIF(BX77:BY151,5)","v":0},{"$f":"COUNTIF(BX77:BY151,\"<5\")","v":0},null,{"$f":"SUM(BX77:BY151)","v":0},null,{"$f":"SUM(BZ77:CA152)","v":0},0,0,null,"-","-","-","-",null,"-","-","-","-",null,"-","-","-","-",null,"-","-","-","-",null,"-","-","-","-",null,"-","-","-","-",null,null,null,null,null,null,"-","-","-","-",null,"-","-","-","-"]
[null,null,null,null,null,null,null,null,null,null,null,null,null,null,null,null,null,null,null,null,null,null,null,null,null,null,null,null,null,null,"-","-","-","-",null,"-","-","-","-",null,"-","-","-","-",null,"-","-","-","-",null,"-","-","-","-",null,"-","-","-","-",null,null,null,null,null,null,"-","-","-","-",null,"-","-","-","-"]
[null,null,null,null,null,null,null,null,null,null,null,null,null,null,null,null,null,null,null,null,null,null,null,null,null,null,null,null,null,null,"-","-","-","-",null,"-","-","-","-",null,"-","-","-","-",null,"-","-","-","-",null,"-","-","-","-",null,"-","-","-","-",null,null,null,null,null,null,"-","-","-","-",null,"-","-","-","-"]
[null,null,null,null,null,null,null,null,null,null,null,null,null,null,null,null,null,null,null,null,null,null,null,null,null,null,null,null,null,null,"-","-","-","-",null,"-","-","-","-",null,"-","-","-","-",null,"-","-","-","-",null,"-","-","-","-",null,"-","-","-","-",null,null,null,null,null,null,"-","-","-","-",null,"-","-","-","-"]
[null,null,null,null,null,null,null,null,null,null,null,null,null,null,null,null,null,null,null,null,null,null,null,null,null,null,null,null,null,null,"-","-","-","-",null,"-","-","-","-",null,"-","-","-","-",null,"-","-","-","-",null,"-","-","-","-",null,"-","-","-","-",null,null,null,null,null,null,"-","-","-","-",null,"-","-","-","-"]
[null,null,null,null,null,null,null,null,null,null,null,null,null,null,null,null,null,null,null,null,null,null,null,null,null,null,null,null,null,null,"-","-","-","-",null,"-","-","-","-",null,"-","-","-","-",null,"-","-","-","-",null,"-","-","-","-",null,"-","-","-","-",null,null,null,null,null,null,"-","-","-","-",null,"-","-","-","-"]
[null,null,null,null,null,null,null,null,null,null,null,null,null,null,null,null,null,null,null,null,null,null,null,null,null,null,null,null,null,null,"-","-","-","-",null,"-","-","-","-",null,"-","-","-","-",null,"-","-","-","-",null,"-","-","-","-",null,"-","-","-","-",null,null,null,null,null,null,"-","-","-","-",null,"-","-","-","-"]
[null,null,null,null,null,null,null,null,null,null,null,null,null,null,null,null,null,null,null,null,null,null,null,null,null,null,null,null,null,null,"-","-","-","-",null,"-","-","-","-",null,"-","-","-","-",null,"-","-","-","-",null,"-","-","-","-",null,"-","-","-","-",null,null,null,null,null,null,"-","-","-","-",null,"-","-","-","-"]
[null,null,null,null,null,null,null,null,null,null,null,null,null,null,null,null,null,null,null,null,null,null,null,null,null,null,null,null,null,null,"-","-","-","-",null,"-","-","-","-",null,"-","-","-","-",null,"-","-","-","-",null,"-","-","-","-",null,"-","-","-","-",null,null,null,null,null,null,"-","-","-","-",null,"-","-","-","-"]
[null,null,null,null,null,null,null,null,null,null,null,null,null,null,null,null,null,null,null,null,null,null,null,null,null,null,null,null,null,null,{"$f":"IF(I22=\"\",\"-\",IF(F31=\"Sibbamåla\",I22,\"-\"))","v":"-"},{"$f":"IF(K22=\"\",\"-\",IF(G31=\"Sibbamåla\",K22,\"-\"))","v":"-"},"-","-",null,{"$f":"IF(I22=\"\",\"-\",IF(F31=\"Dynapac Hsc\",I22,\"-\"))","v":"-"},{"$f":"IF(K22=\"\",\"-\",IF(G31=\"Dynapac Hsc\",K22,\"-\"))","v":"-"},"-","-",null,{"$f":"IF(I22=\"\",\"-\",IF(F31=\"Korpen Åseda\",I22,\"-\"))","v":"-"},{"$f":"IF(K22=\"\",\"-\",IF(G31=\"Korpen Åseda\",K22,\"-\"))","v":"-"},"-","-",null,{"$f":"IF(I22=\"\",\"-\",IF(F31=\"växjö hsk 1\",I22,\"-\"))","v":"-"},{"$f":"IF(K22=\"\",\"-\",IF(G31=\"växjö hsk 1\",K22,\"-\"))","v":"-"},"-","-",null,{"$f":"IF(I22=\"\",\"-\",IF(F31=\"Carlskrona Hsc\",I22,\"-\"))","v":"-"},{"$f":"IF(K22=\"\",\"-\",IF(G31=\"Carlskrona Hsc\",K22,\"-\"))","v":"-"},"-","-",null,{"$f":"IF(I22=\"\",\"-\",IF(F31=\"Korpen Nybro\",I22,\"-\"))","v":"-"},{"$f":"IF(K22=\"\",\"-\",IF(G31=\"Korpen Nybro\",K22,\"-\"))","v":"-"},"-","-",null,null,null,null,null,null,{"$f":"IF(I22=\"\",\"-\",IF(F31=\"Lanternan 1\",I22,\"-\"))","v":"-"},{"$f":"IF(K22=\"\",\"-\",IF(G31=\"Lanternan 1\",K22,\"-\"))","v":"-"},"-","-",null,{"$f":"IF(I22=\"\",\"-\",IF(F31=\"Tingsryd hsc 1\",I22,\"-\"))","v":"-"},{"$f":"IF(K22=\"\",\"-\",IF(G31=\"Tingsryd hsc 1\",K22,\"-\"))","v":"-"},"-","-"]
[null,null,null,null,null,null,null,null,null,null,null,null,null,null,null,null,null,null,null,null,null,null,null,null,null,null,null,null,null,null,"-","-","-","-",null,"-","-","-","-",null,"-","-","-","-",null,"-","-","-","-",null,"-","-","-","-",null,"-","-","-","-",null,null,null,null,null,null,"-","-","-","-",null,"-","-","-","-"]
[null,null,null,null,null,null,null,null,null,null,null,null,null,null,null,null,null,null,null,null,null,null,null,null,null,null,null,null,null,null,"-","-","-","-",null,"-","-","-","-",null,"-","-","-","-",null,"-","-","-","-",null,"-","-","-","-",null,"-","-","-","-",null,null,null,null,null,null,"-","-","-","-",null,"-","-","-","-"]
[null,null,null,null,null,null,null,null,null,null,null,null,null,null,null,null,null,null,null,null,null,null,null,null,null,null,null,null,null,null,"-","-","-","-",null,"-","-","-","-",null,"-","-","-","-",null,"-","-","-","-",null,"-","-","-","-",null,"-","-","-","-",null,null,null,null,null,null,"-","-","-","-",null,"-","-","-","-"]
[null,null,null,null,null,null,null,null,null,null,null,null,null,null,null,null,null,null,null,null,null,null,null,null,null,null,null,null,null,null,"-","-","-","-",null,"-","-","-","-",null,"-","-","-","-",null,"-","-","-","-",null,"-","-","-","-",null,"-","-","-","-",null,null,null,null,null,null,"-","-","-","-",null,"-","-","-","-"]
[null,null,null,null,null,null,null,null,null,null,null,null,null,null,null,null,null,null,null,null,null,null,null,null,null,null,null,null,null,null,"-","-","-","-",null,"-","-","-","-",null,"-","-","-","-",null,"-","-","-","-",null,"-","-","-","-",null,"-","-","-","-",null,null,null,null,null,null,"-","-","-","-",null,"-","-","-","-"]
[null,null,null,null,null,null,null,null,null,null,null,null,null,null,null,null,null,null,null,null,null,null,null,null,null,null,null,null,null,null,"-","-","-","-",null,"-","-","-","-",null,"-","-","-","-",null,"-","-","-","-",null,"-","-","-","-",null,"-","-","-","-",null,null,null,null,null,null,"-","-","-","-",null,"-","-","-","-"]
[null,null,null,null,null,null,null,null,null,null,null,null,null,null,null,null,null,null,null,null,null,null,null,null,null,null,null,null,null,null,"-","-","-","-",null,"-","-","-","-",null,"-","-","-","-",null,"-","-","-","-",null,"-","-","-","-",null,"-","-","-","-",null,null,null,null,null,null,"-","-","-","-",null,"-","-","-","-"]
[null,null,null,null,null,null,null,null,null,null,null,null,null,null,null,null,null,null,null,null,null,null,null,null,null,null,null,null,null,null,"-","-","-","-",null,"-","-","-","-",null,"-","-","-","-",null,"-","-","-","-",null,"-","-","-","-",null,"-","-","-","-",null,null,null,null,null,null,"-","-","-","-",null,"-","-","-","-"]
[null,null,null,null,null,null,null,null,null,null,null,null,null,null,null,null,null,null,null,null,null,null,null,null,null,null,null,null,null,null,{"$f":"IF(I31=\"\",\"-\",IF(#REF!=\"Sibbamåla\",I31,\"-\"))","v":"-"},{"$f":"IF(K31=\"\",\"-\",IF(#REF!=\"Sibbamåla\",K31,\"-\"))","v":"-"},"-","-",null,{"$f":"IF(I31=\"\",\"-\",IF(#REF!=\"Dynapac Hsc\",I31,\"-\"))","v":"-"},{"$f":"IF(K31=\"\",\"-\",IF(#REF!=\"Dynapac Hsc\",K31,\"-\"))","v":"-"},"-","-",null,{"$f":"IF(I31=\"\",\"-\",IF(#REF!=\"Korpen Åseda\",I31,\"-\"))","v":"-"},{"$f":"IF(K31=\"\",\"-\",IF(#REF!=\"Korpen Åseda\",K31,\"-\"))","v":"-"},"-","-",null,{"$f":"IF(I31=\"\",\"-\",IF(#REF!=\"växjö hsk 1\",I31,\"-\"))","v":"-"},{"$f":"IF(K31=\"\",\"-\",IF(#REF!=\"växjö hsk 1\",K31,\"-\"))","v":"-"},"-","-",null,{"$f":"IF(I31=\"\",\"-\",IF(#REF!=\"Carlskrona Hsc\",I31,\"-\"))","v":"-"},{"$f":"IF(K31=\"\",\"-\",IF(#REF!=\"Carlskrona Hsc\",K31,\"-\"))","v":"-"},"-","-",null,{"$f":"IF(I31=\"\",\"-\",IF(#REF!=\"Korpen Nybro\",I31,\"-\"))","v":"-"},{"$f":"IF(K31=\"\",\"-\",IF(#REF!=\"Korpen Nybro\",K31,\"-\"))","v":"-"},"-","-",null,null,null,null,null,null,{"$f":"IF(I31=\"\",\"-\",IF(#REF!=\"Lanternan 1\",I31,\"-\"))","v":"-"},{"$f":"IF(K31=\"\",\"-\",IF(#REF!=\"Lanternan 1\",K31,\"-\"))","v":"-"},"-","-",null,{"$f":"IF(I31=\"\",\"-\",IF(#REF!=\"Tingsryd hsc 1\",I31,\"-\"))","v":"-"},{"$f":"IF(K31=\"\",\"-\",IF(#REF!=\"Tingsryd hsc 1\",K31,\"-\"))","v":"-"},"-","-"]
[null,null,null,null,null,null,null,null,null,null,null,null,null,null,null,null,null,null,null,null,null,null,null,null,null,null,null,null,null,null,{"$f":"IF(I32=\"\",\"-\",IF(#REF!=\"Sibbamåla\",I32,\"-\"))","v":"-"},{"$f":"IF(K32=\"\",\"-\",IF(#REF!=\"Sibbamåla\",K32,\"-\"))","v":"-"},"-","-",null,{"$f":"IF(I32=\"\",\"-\",IF(#REF!=\"Dynapac Hsc\",I32,\"-\"))","v":"-"},{"$f":"IF(K32=\"\",\"-\",IF(#REF!=\"Dynapac Hsc\",K32,\"-\"))","v":"-"},"-","-",null,{"$f":"IF(I32=\"\",\"-\",IF(#REF!=\"Korpen Åseda\",I32,\"-\"))","v":"-"},{"$f":"IF(K32=\"\",\"-\",IF(#REF!=\"Korpen Åseda\",K32,\"-\"))","v":"-"},"-","-",null,{"$f":"IF(I32=\"\",\"-\",IF(#REF!=\"växjö hsk 1\",I32,\"-\"))","v":"-"},{"$f":"IF(K32=\"\",\"-\",IF(#REF!=\"växjö hsk 1\",K32,\"-\"))","v":"-"},"-","-",null,{"$f":"IF(I32=\"\",\"-\",IF(#REF!=\"Carlskrona Hsc\",I32,\"-\"))","v":"-"},{"$f":"IF(K32=\"\",\"-\",IF(#REF!=\"Carlskrona Hsc\",K32,\"-\"))","v":"-"},"-","-",null,{"$f":"IF(I32=\"\",\"-\",IF(#REF!=\"Korpen Nybro\",I32,\"-\"))","v":"-"},{"$f":"IF(K32=\"\",\"-\",IF(#REF!=\"Korpen Nybro\",K32,\"-\"))","v":"-"},"-","-",null,null,null,null,null,null,{"$f":"IF(I32=\"\",\"-\",IF(#REF!=\"Lanternan 1\",I32,\"-\"))","v":"-"},{"$f":"IF(K32=\"\",\"-\",IF(#REF!=\"Lanternan 1\",K32,\"-\"))","v":"-"},"-","-",null,{"$f":"IF(I32=\"\",\"-\",IF(#REF!=\"Tingsryd hsc 1\",I32,\"-\"))","v":"-"},{"$f":"IF(K32=\"\",\"-\",IF(#REF!=\"Tingsryd hsc 1\",K32,\"-\"))","v":"-"},"-","-"]
[null,null,null,null,null,null,null,null,null,null,null,null,null,null,null,null,null,null,null,null,null,null,null,null,null,null,null,null,null,null,{"$f":"IF(I33=\"\",\"-\",IF(#REF!=\"Sibbamåla\",I33,\"-\"))","v":"-"},{"$f":"IF(K33=\"\",\"-\",IF(#REF!=\"Sibbamåla\",K33,\"-\"))","v":"-"},"-","-",null,{"$f":"IF(I33=\"\",\"-\",IF(#REF!=\"Dynapac Hsc\",I33,\"-\"))","v":"-"},{"$f":"IF(K33=\"\",\"-\",IF(#REF!=\"Dynapac Hsc\",K33,\"-\"))","v":"-"},"-","-",null,{"$f":"IF(I33=\"\",\"-\",IF(#REF!=\"Korpen Åseda\",I33,\"-\"))","v":"-"},{"$f":"IF(K33=\"\",\"-\",IF(#REF!=\"Korpen Åseda\",K33,\"-\"))","v":"-"},"-","-",null,{"$f":"IF(I33=\"\",\"-\",IF(#REF!=\"växjö hsk 1\",I33,\"-\"))","v":"-"},{"$f":"IF(K33=\"\",\"-\",IF(#REF!=\"växjö hsk 1\",K33,\"-\"))","v":"-"},"-","-",null,{"$f":"IF(I33=\"\",\"-\",IF(#REF!=\"Carlskrona Hsc\",I33,\"-\"))","v":"-"},{"$f":"IF(K33=\"\",\"-\",IF(#REF!=\"Carlskrona Hsc\",K33,\"-\"))","v":"-"},"-","-",null,{"$f":"IF(I33=\"\",\"-\",IF(#REF!=\"Korpen Nybro\",I33,\"-\"))","v":"-"},{"$f":"IF(K33=\"\",\"-\",IF(#REF!=\"Korpen Nybro\",K33,\"-\"))","v":"-"},"-","-",null,null,null,null,null,null,{"$f":"IF(I33=\"\",\"-\",IF(#REF!=\"Lanternan 1\",I33,\"-\"))","v":"-"},{"$f":"IF(K33=\"\",\"-\",IF(#REF!=\"Lanternan 1\",K33,\"-\"))","v":"-"},"-","-",null,{"$f":"IF(I33=\"\",\"-\",IF(#REF!=\"Tingsryd hsc 1\",I33,\"-\"))","v":"-"},{"$f":"IF(K33=\"\",\"-\",IF(#REF!=\"Tingsryd hsc 1\",K33,\"-\"))","v":"-"},"-","-"]
[null,null,null,null,null,null,null,null,null,null,null,null,null,null,null,null,null,null,null,null,null,null,null,null,null,null,null,null,null,null,{"$f":"IF(I34=\"\",\"-\",IF(#REF!=\"Sibbamåla\",I34,\"-\"))","v":"-"},{"$f":"IF(K34=\"\",\"-\",IF(#REF!=\"Sibbamåla\",K34,\"-\"))","v":"-"},"-","-",null,{"$f":"IF(I34=\"\",\"-\",IF(#REF!=\"Dynapac Hsc\",I34,\"-\"))","v":"-"},{"$f":"IF(K34=\"\",\"-\",IF(#REF!=\"Dynapac Hsc\",K34,\"-\"))","v":"-"},"-","-",null,{"$f":"IF(I34=\"\",\"-\",IF(#REF!=\"Korpen Åseda\",I34,\"-\"))","v":"-"},{"$f":"IF(K34=\"\",\"-\",IF(#REF!=\"Korpen Åseda\",K34,\"-\"))","v":"-"},"-","-",null,{"$f":"IF(I34=\"\",\"-\",IF(#REF!=\"växjö hsk 1\",I34,\"-\"))","v":"-"},{"$f":"IF(K34=\"\",\"-\",IF(#REF!=\"växjö hsk 1\",K34,\"-\"))","v":"-"},"-","-",null,{"$f":"IF(I34=\"\",\"-\",IF(#REF!=\"Carlskrona Hsc\",I34,\"-\"))","v":"-"},{"$f":"IF(K34=\"\",\"-\",IF(#REF!=\"Carlskrona Hsc\",K34,\"-\"))","v":"-"},"-","-",null,{"$f":"IF(I34=\"\",\"-\",IF(#REF!=\"Korpen Nybro\",I34,\"-\"))","v":"-"},{"$f":"IF(K34=\"\",\"-\",IF(#REF!=\"Korpen Nybro\",K34,\"-\"))","v":"-"},"-","-",null,null,null,null,null,null,{"$f":"IF(I34=\"\",\"-\",IF(#REF!=\"Lanternan 1\",I34,\"-\"))","v":"-"},{"$f":"IF(K34=\"\",\"-\",IF(#REF!=\"Lanternan 1\",K34,\"-\"))","v":"-"},"-","-",null,{"$f":"IF(I34=\"\",\"-\",IF(#REF!=\"Tingsryd hsc 1\",I34,\"-\"))","v":"-"},{"$f":"IF(K34=\"\",\"-\",IF(#REF!=\"Tingsryd hsc 1\",K34,\"-\"))","v":"-"},"-","-"]
[null,null,null,null,null,null,null,null,null,null,null,null,null,null,null,null,null,null,null,null,null,null,null,null,null,null,null,null,null,null,{"$f":"IF(I35=\"\",\"-\",IF(#REF!=\"Sibbamåla\",I35,\"-\"))","v":"-"},{"$f":"IF(K35=\"\",\"-\",IF(#REF!=\"Sibbamåla\",K35,\"-\"))","v":"-"},"-","-",null,{"$f":"IF(I35=\"\",\"-\",IF(#REF!=\"Dynapac Hsc\",I35,\"-\"))","v":"-"},{"$f":"IF(K35=\"\",\"-\",IF(#REF!=\"Dynapac Hsc\",K35,\"-\"))","v":"-"},"-","-",null,{"$f":"IF(I35=\"\",\"-\",IF(#REF!=\"Korpen Åseda\",I35,\"-\"))","v":"-"},{"$f":"IF(K35=\"\",\"-\",IF(#REF!=\"Korpen Åseda\",K35,\"-\"))","v":"-"},"-","-",null,{"$f":"IF(I35=\"\",\"-\",IF(#REF!=\"växjö hsk 1\",I35,\"-\"))","v":"-"},{"$f":"IF(K35=\"\",\"-\",IF(#REF!=\"växjö hsk 1\",K35,\"-\"))","v":"-"},"-","-",null,{"$f":"IF(I35=\"\",\"-\",IF(#REF!=\"Carlskrona Hsc\",I35,\"-\"))","v":"-"},{"$f":"IF(K35=\"\",\"-\",IF(#REF!=\"Carlskrona Hsc\",K35,\"-\"))","v":"-"},"-","-",null,{"$f":"IF(I35=\"\",\"-\",IF(#REF!=\"Korpen Nybro\",I35,\"-\"))","v":"-"},{"$f":"IF(K35=\"\",\"-\",IF(#REF!=\"Korpen Nybro\",K35,\"-\"))","v":"-"},"-","-",null,null,null,null,null,null,{"$f":"IF(I35=\"\",\"-\",IF(#REF!=\"Lanternan 1\",I35,\"-\"))","v":"-"},{"$f":"IF(K35=\"\",\"-\",IF(#REF!=\"Lanternan 1\",K35,\"-\"))","v":"-"},"-","-",null,{"$f":"IF(I35=\"\",\"-\",IF(#REF!=\"Tingsryd hsc 1\",I35,\"-\"))","v":"-"},{"$f":"IF(K35=\"\",\"-\",IF(#REF!=\"Tingsryd hsc 1\",K35,\"-\"))","v":"-"},"-","-"]
[null,null,null,null,null,null,null,null,null,null,null,null,null,null,null,null,null,null,null,null,null,null,null,null,null,null,null,null,null,null,{"$f":"IF(I36=\"\",\"-\",IF(#REF!=\"Sibbamåla\",I36,\"-\"))","v":"-"},{"$f":"IF(K36=\"\",\"-\",IF(#REF!=\"Sibbamåla\",K36,\"-\"))","v":"-"},"-","-",null,{"$f":"IF(I36=\"\",\"-\",IF(#REF!=\"Dynapac Hsc\",I36,\"-\"))","v":"-"},{"$f":"IF(K36=\"\",\"-\",IF(#REF!=\"Dynapac Hsc\",K36,\"-\"))","v":"-"},"-","-",null,{"$f":"IF(I36=\"\",\"-\",IF(#REF!=\"Korpen Åseda\",I36,\"-\"))","v":"-"},{"$f":"IF(K36=\"\",\"-\",IF(#REF!=\"Korpen Åseda\",K36,\"-\"))","v":"-"},"-","-",null,{"$f":"IF(I36=\"\",\"-\",IF(#REF!=\"växjö hsk 1\",I36,\"-\"))","v":"-"},{"$f":"IF(K36=\"\",\"-\",IF(#REF!=\"växjö hsk 1\",K36,\"-\"))","v":"-"},"-","-",null,{"$f":"IF(I36=\"\",\"-\",IF(#REF!=\"Carlskrona Hsc\",I36,\"-\"))","v":"-"},{"$f":"IF(K36=\"\",\"-\",IF(#REF!=\"Carlskrona Hsc\",K36,\"-\"))","v":"-"},"-","-",null,{"$f":"IF(I36=\"\",\"-\",IF(#REF!=\"Korpen Nybro\",I36,\"-\"))","v":"-"},{"$f":"IF(K36=\"\",\"-\",IF(#REF!=\"Korpen Nybro\",K36,\"-\"))","v":"-"},"-","-",null,null,null,null,null,null,{"$f":"IF(I36=\"\",\"-\",IF(#REF!=\"Lanternan 1\",I36,\"-\"))","v":"-"},{"$f":"IF(K36=\"\",\"-\",IF(#REF!=\"Lanternan 1\",K36,\"-\"))","v":"-"},"-","-",null,{"$f":"IF(I36=\"\",\"-\",IF(#REF!=\"Tingsryd hsc 1\",I36,\"-\"))","v":"-"},{"$f":"IF(K36=\"\",\"-\",IF(#REF!=\"Tingsryd hsc 1\",K36,\"-\"))","v":"-"},"-","-"]
[null,null,null,null,null,null,null,null,null,null,null,null,null,null,null,null,null,null,null,null,null,null,null,null,null,null,null,null,null,null,{"$f":"IF(I37=\"\",\"-\",IF(#REF!=\"Sibbamåla\",I37,\"-\"))","v":"-"},{"$f":"IF(K37=\"\",\"-\",IF(#REF!=\"Sibbamåla\",K37,\"-\"))","v":"-"},"-","-",null,{"$f":"IF(I37=\"\",\"-\",IF(#REF!=\"Dynapac Hsc\",I37,\"-\"))","v":"-"},{"$f":"IF(K37=\"\",\"-\",IF(#REF!=\"Dynapac Hsc\",K37,\"-\"))","v":"-"},"-","-",null,{"$f":"IF(I37=\"\",\"-\",IF(#REF!=\"Korpen Åseda\",I37,\"-\"))","v":"-"},{"$f":"IF(K37=\"\",\"-\",IF(#REF!=\"Korpen Åseda\",K37,\"-\"))","v":"-"},"-","-",null,{"$f":"IF(I37=\"\",\"-\",IF(#REF!=\"växjö hsk 1\",I37,\"-\"))","v":"-"},{"$f":"IF(K37=\"\",\"-\",IF(#REF!=\"växjö hsk 1\",K37,\"-\"))","v":"-"},"-","-",null,{"$f":"IF(I37=\"\",\"-\",IF(#REF!=\"Carlskrona Hsc\",I37,\"-\"))","v":"-"},{"$f":"IF(K37=\"\",\"-\",IF(#REF!=\"Carlskrona Hsc\",K37,\"-\"))","v":"-"},"-","-",null,{"$f":"IF(I37=\"\",\"-\",IF(#REF!=\"Korpen Nybro\",I37,\"-\"))","v":"-"},{"$f":"IF(K37=\"\",\"-\",IF(#REF!=\"Korpen Nybro\",K37,\"-\"))","v":"-"},"-","-",null,null,null,null,null,null,{"$f":"IF(I37=\"\",\"-\",IF(#REF!=\"Lanternan 1\",I37,\"-\"))","v":"-"},{"$f":"IF(K37=\"\",\"-\",IF(#REF!=\"Lanternan 1\",K37,\"-\"))","v":"-"},"-","-",null,{"$f":"IF(I37=\"\",\"-\",IF(#REF!=\"Tingsryd hsc 1\",I37,\"-\"))","v":"-"},{"$f":"IF(K37=\"\",\"-\",IF(#REF!=\"Tingsryd hsc 1\",K37,\"-\"))","v":"-"},"-","-"]
[null,null,null,null,null,null,null,null,null,null,null,null,null,null,null,null,null,null,null,null,null,null,null,null,null,null,null,null,null,null,{"$f":"IF(I38=\"\",\"-\",IF(#REF!=\"Sibbamåla\",I38,\"-\"))","v":"-"},{"$f":"IF(K38=\"\",\"-\",IF(#REF!=\"Sibbamåla\",K38,\"-\"))","v":"-"},"-","-",null,{"$f":"IF(I38=\"\",\"-\",IF(#REF!=\"Dynapac Hsc\",I38,\"-\"))","v":"-"},{"$f":"IF(K38=\"\",\"-\",IF(#REF!=\"Dynapac Hsc\",K38,\"-\"))","v":"-"},"-","-",null,{"$f":"IF(I38=\"\",\"-\",IF(#REF!=\"Korpen Åseda\",I38,\"-\"))","v":"-"},{"$f":"IF(K38=\"\",\"-\",IF(#REF!=\"Korpen Åseda\",K38,\"-\"))","v":"-"},"-","-",null,{"$f":"IF(I38=\"\",\"-\",IF(#REF!=\"växjö hsk 1\",I38,\"-\"))","v":"-"},{"$f":"IF(K38=\"\",\"-\",IF(#REF!=\"växjö hsk 1\",K38,\"-\"))","v":"-"},"-","-",null,{"$f":"IF(I38=\"\",\"-\",IF(#REF!=\"Carlskrona Hsc\",I38,\"-\"))","v":"-"},{"$f":"IF(K38=\"\",\"-\",IF(#REF!=\"Carlskrona Hsc\",K38,\"-\"))","v":"-"},"-","-",null,{"$f":"IF(I38=\"\",\"-\",IF(#REF!=\"Korpen Nybro\",I38,\"-\"))","v":"-"},{"$f":"IF(K38=\"\",\"-\",IF(#REF!=\"Korpen Nybro\",K38,\"-\"))","v":"-"},"-","-",null,null,null,null,null,null,{"$f":"IF(I38=\"\",\"-\",IF(#REF!=\"Lanternan 1\",I38,\"-\"))","v":"-"},{"$f":"IF(K38=\"\",\"-\",IF(#REF!=\"Lanternan 1\",K38,\"-\"))","v":"-"},"-","-",null,{"$f":"IF(I38=\"\",\"-\",IF(#REF!=\"Tingsryd hsc 1\",I38,\"-\"))","v":"-"},{"$f":"IF(K38=\"\",\"-\",IF(#REF!=\"Tingsryd hsc 1\",K38,\"-\"))","v":"-"},"-","-"]
[null,null,null,null,null,null,null,null,null,null,null,null,null,null,null,null,null,null,null,null,null,null,null,null,null,null,null,null,null,null,"-","-","-","-",null,"-","-","-","-",null,"-","-","-","-",null,"-","-","-","-",null,"-","-","-","-",null,"-","-","-","-",null,null,null,null,null,null,"-","-","-","-",null,"-","-","-","-"]
[null,null,null,null,null,null,null,null,null,null,null,null,null,null,null,null,null,null,null,null,null,null,null,null,null,null,null,null,null,null,"-","-","-","-",null,"-","-","-","-",null,"-","-","-","-",null,"-","-","-","-",null,"-","-","-","-",null,"-","-","-","-",null,null,null,null,null,null,"-","-","-","-",null,"-","-","-","-"]
[null,null,null,null,null,null,null,null,null,null,null,null,null,null,null,null,null,null,null,null,null,null,null,null,null,null,null,null,null,null,"-","-","-","-",null,"-","-","-","-",null,"-","-","-","-",null,"-","-","-","-",null,"-","-","-","-",null,"-","-","-","-",null,null,null,null,null,null,"-","-","-","-",null,"-","-","-","-"]
[null,null,null,null,null,null,null,null,null,null,null,null,null,null,null,null,null,null,null,null,null,null,null,null,null,null,null,null,null,null,"-","-","-","-",null,"-","-","-","-",null,"-","-","-","-",null,"-","-","-","-",null,"-","-","-","-",null,"-","-","-","-",null,null,null,null,null,null,"-","-","-","-",null,"-","-","-","-"]
[null,null,null,null,null,null,null,null,null,null,null,null,null,null,null,null,null,null,null,null,null,null,null,null,null,null,null,null,null,null,"-","-","-","-",null,"-","-","-","-",null,"-","-","-","-",null,"-","-","-","-",null,"-","-","-","-",null,"-","-","-","-",null,null,null,null,null,null,"-","-","-","-",null,"-","-","-","-"]
[null,null,null,null,null,null,null,null,null,null,null,null,null,null,null,null,null,null,null,null,null,null,null,null,null,null,null,null,null,null,"-","-","-","-",null,"-","-","-","-",null,"-","-","-","-",null,"-","-","-","-",null,"-","-","-","-",null,"-","-","-","-",null,null,null,null,null,null,"-","-","-","-",null,"-","-","-","-"]
[null,null,null,null,null,null,null,null,null,null,null,null,null,null,null,null,null,null,null,null,null,null,null,null,null,null,null,null,null,null,"-","-","-","-",null,"-","-","-","-",null,"-","-","-","-",null,"-","-","-","-",null,"-","-","-","-",null,"-","-","-","-",null,null,null,null,null,null,"-","-","-","-",null,"-","-","-","-"]
[null,null,null,null,null,null,null,null,null,null,null,null,null,null,null,null,null,null,null,null,null,null,null,null,null,null,null,null,null,null,"-","-","-","-",null,"-","-","-","-",null,"-","-","-","-",null,"-","-","-","-",null,"-","-","-","-",null,"-","-","-","-",null,null,null,null,null,null,"-","-","-","-",null,"-","-","-","-"]
[null,null,null,null,null,null,null,null,null,null,null,null,null,null,null,null,null,null,null,null,null,null,null,null,null,null,null,null,null,null,"-","-","-","-",null,"-","-","-","-",null,"-","-","-","-",null,"-","-","-","-",null,"-","-","-","-",null,"-","-","-","-",null,null,null,null,null,null,"-","-","-","-",null,"-","-","-","-"]
[null,null,null,null,null,null,null,null,null,null,null,null,null,null,null,null,null,null,null,null,null,null,null,null,null,null,null,null,null,null,"-","-","-","-",null,"-","-","-","-",null,"-","-","-","-",null,"-","-","-","-",null,"-","-","-","-",null,"-","-","-","-",null,null,null,null,null,null,"-","-","-","-",null,"-","-","-","-"]
[null,null,null,null,null,null,null,null,null,null,null,null,null,null,null,null,null,null,null,null,null,null,null,null,null,null,null,null,null,null,"-","-","-","-",null,"-","-","-","-",null,"-","-","-","-",null,"-","-","-","-",null,"-","-","-","-",null,"-","-","-","-",null,null,null,null,null,null,"-","-","-","-",null,"-","-","-","-"]
[null,null,null,null,null,null,null,null,null,null,null,null,null,null,null,null,null,null,null,null,null,null,null,null,null,null,null,null,null,null,"-","-","-","-",null,"-","-","-","-",null,"-","-","-","-",null,"-","-","-","-",null,"-","-","-","-",null,"-","-","-","-",null,null,null,null,null,null,"-","-","-","-",null,"-","-","-","-"]
[null,null,null,null,null,null,null,null,null,null,null,null,null,null,null,null,null,null,null,null,null,null,null,null,null,null,null,null,null,null,"-","-","-","-",null,"-","-","-","-",null,"-","-","-","-",null,"-","-","-","-",null,"-","-","-","-",null,"-","-","-","-",null,null,null,null,null,null,"-","-","-","-",null,"-","-","-","-"]
[null,null,null,null,null,null,null,null,null,null,null,null,null,null,null,null,null,null,null,null,null,null,null,null,null,null,null,null,null,null,"-","-","-","-",null,"-","-","-","-",null,"-","-","-","-",null,"-","-","-","-",null,"-","-","-","-",null,"-","-","-","-",null,null,null,null,null,null,"-","-","-","-",null,"-","-","-","-"]
[null,null,null,null,null,null,null,null,null,null,null,null,null,null,null,null,null,null,null,null,null,null,null,null,null,null,null,null,null,null,"-","-","-","-",null,"-","-","-","-",null,"-","-","-","-",null,"-","-","-","-",null,"-","-","-","-",null,"-","-","-","-",null,null,null,null,null,null,"-","-","-","-",null,"-","-","-","-"]
[null,null,null,null,null,null,null,null,null,null,null,null,null,null,null,null,null,null,null,null,null,null,null,null,null,null,null,null,null,null,"-","-","-","-",null,"-","-","-","-",null,"-","-","-","-",null,"-","-","-","-",null,"-","-","-","-",null,"-","-","-","-",null,null,null,null,null,null,"-","-","-","-",null,"-","-","-","-"]
[null,null,null,null,null,null,null,null,null,null,null,null,null,null,null,null,null,null,null,null,null,null,null,null,null,null,null,null,null,null,"-","-","-","-",null,"-","-","-","-",null,"-","-","-","-",null,"-","-","-","-",null,"-","-","-","-",null,"-","-","-","-",null,null,null,null,null,null,"-","-","-","-",null,"-","-","-","-"]
[null,null,null,null,null,null,null,null,null,null,null,null,null,null,null,null,null,null,null,null,null,null,null,null,null,null,null,null,null,null,"-","-","-","-",null,"-","-","-","-",null,"-","-","-","-",null,"-","-","-","-",null,"-","-","-","-",null,"-","-","-","-",null,null,null,null,null,null,"-","-","-","-",null,"-","-","-","-"]
[null,null,null,null,null,null,null,null,null,null,null,null,null,null,null,null,null,null,null,null,null,null,null,null,null,null,null,null,null,null,"-","-","-","-",null,"-","-","-","-",null,"-","-","-","-",null,"-","-","-","-",null,"-","-","-","-",null,"-","-","-","-",null,null,null,null,null,null,"-","-","-","-",null,"-","-","-","-"]
[null,null,null,null,null,null,null,null,null,null,null,null,null,null,null,null,null,null,null,null,null,null,null,null,null,null,null,null,null,null,"-","-","-","-",null,"-","-","-","-",null,"-","-","-","-",null,"-","-","-","-",null,"-","-","-","-",null,"-","-","-","-",null,null,null,null,null,null,"-","-","-","-",null,"-","-","-","-"]
[null,null,null,null,null,null,null,null,null,null,null,null,null,null,null,null,null,null,null,null,null,null,null,null,null,null,null,null,null,null,"-","-","-","-",null,"-","-","-","-",null,"-","-","-","-",null,"-","-","-","-",null,"-","-","-","-",null,"-","-","-","-",null,null,null,null,null,null,"-","-","-","-",null,"-","-","-","-"]
[null,null,null,null,null,null,null,null,null,null,null,null,null,null,null,null,null,null,null,null,null,null,null,null,null,null,null,null,null,null,"-","-","-","-",null,"-","-","-","-",null,"-","-","-","-",null,"-","-","-","-",null,"-","-","-","-",null,"-","-","-","-",null,null,null,null,null,null,"-","-","-","-",null,"-","-","-","-"]
[null,null,null,null,null,null,null,null,null,null,null,null,null,null,null,null,null,null,null,null,null,null,null,null,null,null,null,null,null,null,"-","-","-","-",null,"-","-","-","-",null,"-","-","-","-",null,"-","-","-","-",null,"-","-","-","-",null,"-","-","-","-",null,null,null,null,null,null,"-","-","-","-",null,"-","-","-","-"]
[null,null,null,null,null,null,null,null,null,null,null,null,null,null,null,null,null,null,null,null,null,null,null,null,null,null,null,null,null,null,"-","-","-","-",null,"-","-","-","-",null,"-","-","-","-",null,"-","-","-","-",null,"-","-","-","-",null,"-","-","-","-",null,null,null,null,null,null,"-","-","-","-",null,"-","-","-","-"]
[null,null,null,null,null,null,null,null,null,null,null,null,null,null,null,null,null,null,null,null,null,null,null,null,null,null,null,null,null,null,"-","-","-","-",null,"-","-","-","-",null,"-","-","-","-",null,"-","-","-","-",null,"-","-","-","-",null,"-","-","-","-",null,null,null,null,null,null,"-","-","-","-",null,"-","-","-","-"]
[null,null,null,null,null,null,null,null,null,null,null,null,null,null,null,null,null,null,null,null,null,null,null,null,null,null,null,null,null,null,"-","-","-","-",null,"-","-","-","-",null,"-","-","-","-",null,"-","-","-","-",null,"-","-","-","-",null,"-","-","-","-",null,null,null,null,null,null,"-","-","-","-",null,"-","-","-","-"]
[null,null,null,null,null,null,null,null,null,null,null,null,null,null,null,null,null,null,null,null,null,null,null,null,null,null,null,null,null,null,"-","-","-","-",null,"-","-","-","-",null,"-","-","-","-",null,"-","-","-","-",null,"-","-","-","-",null,"-","-","-","-",null,null,null,null,null,null,"-","-","-","-",null,"-","-","-","-"]
[null,null,null,null,null,null,null,null,null,null,null,null,null,null,null,null,null,null,null,null,null,null,null,null,null,null,null,null,null,null,"-","-","-","-",null,"-","-","-","-",null,"-","-","-","-",null,"-","-","-","-",null,"-","-","-","-",null,"-","-","-","-",null,null,null,null,null,null,"-","-","-","-",null,"-","-","-","-"]
[null,null,null,null,null,null,null,null,null,null,null,null,null,null,null,null,null,null,null,null,null,null,null,null,null,null,null,null,null,null,"-","-","-","-",null,"-","-","-","-",null,"-","-","-","-",null,"-","-","-","-",null,"-","-","-","-",null,"-","-","-","-",null,null,null,null,null,null,"-","-","-","-",null,"-","-","-","-"]
[null,null,null,null,null,null,null,null,null,null,null,null,null,null,null,null,null,null,null,null,null,null,null,null,null,null,null,null,null,null,"-","-","-","-",null,"-","-","-","-",null,"-","-","-","-",null,"-","-","-","-",null,"-","-","-","-",null,"-","-","-","-",null,null,null,null,null,null,"-","-","-","-",null,"-","-","-","-"]

{"sheet":"Spelprogram Div 2","index":1,"n_rows":174,"n_cols":79,"rows_kept":174,"cut":false,"hidden":false,"merged":[]}
[null,null,null,null,null,"2021 / 2022"]
[null,null,null,null,null,"Division 2"]
["MatchNR:","Datum","Arrangör","Kl.","Bana","Hemmalag","Bortalag"]
[9,"V 39-40","Kväll ??","-","-","Växjö Hsk 2","Värends Hsk 2",null,null,":"]
[10,"Omg 1",null,"-","-","Värends Hsk 1","Tingsryd Hsc 2",null,null,":"]
[11,null,null,"-","-","Värends Hsk 1","Växjö Hsk 2",null,null,":"]
[12,null,null,"-","-","Värends Hsk 2","Tingsryd Hsc 2",null,null,":"]
[13,null,"Länk","-","-","Balders Hsk 1","Jämjö Hsk",null,null,":"]
[14,null,"Länk","-","-","Balders Hsk 2","Lanternan 2",null,null,":"]
[15,null,"Kväll ","-","-","Vaxholm Hsk","Balders Hsk 3",null,null,":"]
[16,null,"Kväll ","-","-","Balders Hsk 1","Balders Hsk 2",null,null,":"]
[17,null,"Länk","-","-","Jämjö Hsk","Vaxholm Hsk",null,null,":"]
[18,null,"Länk","-","-","Balders Hsk 3","Lanternan 2",null,null,":"]
[]
[27,"2021-10-30","Tingsryd","10:00:00",1,"Jämjö Hsk","Växjö Hsk 2",null,null,":"]
[28,"Omg 2",null,"10:00:00",2,"Lanternan 2","Tingsryd Hsc 2",null,null,":"]
[29,null,null,"12:00:00",1,"Tingsryd Hsc 2","Jämjö Hsk",null,null,":"]
[30,null,null,"12:00:00",2,"Lanternan 2","Växjö Hsk 2",null,null,":"]
[31,"V 42-43","Kväll","-","-","Värends Hsk 1","Värends Hsk 2",null,null,":"]
[32,"Omg 2","Kväll","-","-","Balders Hsk 2","Balders Hsk 3",null,null,":"]
[33,null,"Kväll","-","-","Vaxholm Hsk","Balders Hsk 1",null,null,":"]
[34,null,"Länk","-","-","Värends Hsk 2","Balders Hsk 3",null,null,":"]
[35,null,"Länk","-","-","Balders Hsk 1","Värends Hsk 1",null,null,":"]
[36,null,"Kväll","-","-","Vaxholm Hsk","Balders Hsk 2",null,null,":"]
[]
[45,"2021-11-27","Blekinge","10:00:00",5,"Lanternan 2","Värends Hsk 1",null,null,":"]
[46,"Omg 3",null,"10:00:00",6,"Jämjö Hsk","Värends Hsk 2",null,null,":"]
[47,null,null,"12:00:00",5,"Värends Hsk 2","Lanternan 2",null,null,":"]
[48,null,null,"12:00:00",6,"Jämjö Hsk","Värends Hsk 1",null,null,":"]
[49,"V 46-47","Kväll","-","-","Balders Hsk 3","Balders Hsk 1",null,null,":"]
[50,"Omg 3","Länk","-","-","Växjö Hsk 2","Vaxholm Hsk",null,null,":"]
[51,null,"Länk","-","-","Balders Hsk 2","Tingsryd Hsc 2",null,null,":"]
[52,null,"Länk","-","-","Balders Hsk 3","Tingsryd Hsc 2",null,null,":"]
[53,null,"Länk","-","-","Växjö Hsk 2","Balders Hsk 1",null,null,":"]
[54,null,"Kväll","-","-","Balders Hsk 2","Vaxholm Hsk",null,null,":"]
[]
[55,"V 49-50","Kväll","-","-","Tingsryd Hsc 2","Växjö Hsk 2",null,null,":"]
[56,"Omg 4","Länk","-","-","Lanternan 2","Balders Hsk 1",null,null,":"]
[57,null,"Länk","-","-","Värends Hsk 2","Vaxholm Hsk",null,null,":"]
[58,null,"Länk","-","-","Jämjö Hsk","Balders Hsk 2",null,null,":"]
[59,null,"Länk","-","-","Balders Hsk 3","Värends Hsk 1",null,null,":"]
[60,null,"Kväll","-","-","Lanternan 2","Jämjö Hsk",null,null,":"]
[61,null,"Länk","-","-","Växjö Hsk 2","Balders Hsk 3",null,null,":"]
[62,null,"Länk","-","-","Balders Hsk 1","Värends Hsk 2",null,null,":"]
[63,null,"Länk","-","-","Tingsryd Hsc 2","Vaxholm Hsk",null,null,":"]
[64,null,"Länk","-","-","Balders Hsk 2","Värends Hsk 1",null,null,":"]
[]
[73,"V 3-4","Länk","-","-","Balders Hsk 3","Jämjö Hsk",null,null,":"]
[74,"Omg 5","Länk","-","-","Vaxholm Hsk","Lanternan 2",null,null,":"]
[75,null,"Länk","-","-","Balders Hsk 2","Värends Hsk 2",null,null,":"]
[76,null,"Länk","-","-","Tingsryd Hsc 2","Balders Hsk 1",null,null,":"]
[77,null,"Kväll","-","-","Växjö Hsk 2","Värends Hsk 1",null,null,":"]
[78,null,"Länk","-","-","Värends Hsk 1","Vaxholm Hsk",null,null,":"]
[79,null,"Länk","-","-","Växjö Hsk 2","Balders Hsk 2",null,null,":"]
[80,null,"Länk","-","-","Jämjö Hsk","Balders Hsk 1",null,null,":"]
[81,null,"Länk","-","-","Lanternan 2","Balders Hsk 3",null,null,":"]
[82,null,"Kväll","-","-","Tingsryd Hsc 2","Värends Hsk 2",null,null,":"]
[]
[145,"V 5-6","Kväll","-","-","Växjö Hsk 2","Tingsryd Hsc 2",null,null,":"]
[146,"Omg 6","Länk","-","-","Balders Hsk 1","Lanternan 2",null,null,":"]
[83,null,"Länk","-","-","Vaxholm Hsk","Jämjö Hsk",null,null,":"]
[84,null,"Länk","-","-","Värends Hsk 1","Balders Hsk 3",null,null,":"]
[85,null,"Länk","-","-","Värends Hsk 2","Balders Hsk 2",null,null,":"]
[86,null,"Kväll","-","-","Jämjö Hsk","Lanternan 2",null,null,":"]
[87,null,"Länk","-","-","Balders Hsk 3","Växjö Hsk 2",null,null,":"]
[88,null,"Länk","-","-","Värends Hsk 1","Balders Hsk 1",null,null,":"]
[89,null,"Länk","-","-","Tingsryd Hsc 2","Balders Hsk 2",null,null,":"]
[90,null,"Länk","-","-","Vaxholm Hsk","Värends Hsk 2",null,null,":"]
[]
[99,"2022-02-19","Blekinge","10:00:00",3,"Växjö Hsk 2","Jämjö Hsk",null,null,":"]
[100,"Omg 7",null,"10:00:00",4,"Tingsryd Hsc 2","Lanternan 2",null,null,":"]
[101,null,null,"12:00:00",3,"Växjö Hsk 2","Lanternan 2",null,null,":"]
[102,null,null,"12:00:00",4,"Jämjö Hsk","Tingsryd Hsc 2",null,null,":"]
[103,"V 7-8","Kväll","-","-","Balders Hsk 3","Balders Hsk 2",null,null,":"]
[104,"Omg 7","Länk","-","-","Vaxholm Hsk","Värends Hsk 1",null,null,":",null,null,null,null,null,null,null,null,null,null,null,null,null,null,null,null,null,null,null,null,"Lanternan 2",null,null,null,null,"Balders Hsk 1",null,null,null,null,"Växjö Hsk 2",null,null,null,null,"Vaxholm Hsk",null,null,null,null,"Balders Hsk 2",null,null,null,null,"Jämjö Hsk ",null,null,null,null,"Balders Hsk 3",null,null,null,null,"Värends Hsk 1 ",null,null,null,null,"Tingsryd Hsc 2",null,null,null,null,"Värends Hsk 2 "]
[105,null,"Länk","-","-","Värends Hsk 2","Balders Hsk 1",null,null,":",null,null,null,null,null,null,null,null,"Sp.m","3p","2p","1p","0p",null,null,"Matchkvot",null,null,"Poäng"]
[106,null,"Kväll","-","-","Balders Hsk 1","Vaxholm Hsk",null,null,":",null,null,null,null,null,null,null,{"$f":"AE75","v":"Lanternan 2"},{"$f":"COUNT(AE$77:AH$174)/(2)","v":0},{"$f":"SUM(S77,-U77,-V77,-W77)","v":0},{"$f":"COUNTIF(AG$77:AH$174,5)","v":0},{"$f":"COUNTIF(AE$77:AF$174,5)","v":0},{"$f":"COUNTIF(AE$77:AF$174,\"<5\")","v":0},null,{"$f":"SUM(AE$77:AF$174)","v":0},":",{"$f":"SUM(AG$77:AH$174)","v":0},{"$f":"Y77-AA77","v":0},{"$f":"SUM(T77*3)+(U77*2)+(V77*1)","v":0},null,{"$f":"IF(I4=\"\",\"-\",IF(F4=\"lanternan 2\",I4,\"-\"))","v":"-"},{"$f":"IF(K4=\"\",\"-\",IF(G4=\"lanternan 2\",K4,\"-\"))","v":"-"},{"$f":"IF(AE77<7,K4,\"-\")","v":"-"},{"$f":"IF(AF77<7,I4,\"-\")","v":"-"},null,{"$f":"IF(I4=\"\",\"-\",IF(F4=\"Balders Hsk 1\",I4,\"-\"))","v":"-"},{"$f":"IF(K4=\"\",\"-\",IF(G4=\"Balders Hsk 1\",K4,\"-\"))","v":"-"},{"$f":"IF(AJ77<7,K4,\"-\")","v":"-"},{"$f":"IF(AK77<7,I4,\"-\")","v":"-"},null,{"$f":"IF(I4=\"\",\"-\",IF(F4=\"Växjö Hsk 2\",I4,\"-\"))","v":"-"},{"$f":"IF(K4=\"\",\"-\",IF(G4=\"Växjö Hsk 2\",K4,\"-\"))","v":"-"},{"$f":"IF(AO77<7,K4,\"-\")","v":"-"},{"$f":"IF(AP77<7,I4,\"-\")","v":"-"},null,{"$f":"IF(I4=\"\",\"-\",IF(F4=\"Vaxholm Hsk\",I4,\"-\"))","v":"-"},{"$f":"IF(K4=\"\",\"-\",IF(G4=\"Vaxholm Hsk\",K4,\"-\"))","v":"-"},{"$f":"IF(AT77<7,K4,\"-\")","v":"-"},{"$f":"IF(AU77<7,I4,\"-\")","v":"-"},null,{"$f":"IF(I4=\"\",\"-\",IF(F4=\"Balders Hsk 2\",I4,\"-\"))","v":"-"},{"$f":"IF(K4=\"\",\"-\",IF(G4=\"Balders Hsk 2\",K4,\"-\"))","v":"-"},{"$f":"IF(AY77<7,K4,\"-\")","v":"-"},{"$f":"IF(AZ77<7,I4,\"-\")","v":"-"},null,{"$f":"IF(I4=\"\",\"-\",IF(F4=\"Jämjö hsk\",I4,\"-\"))","v":"-"},{"$f":"IF(K4=\"\",\"-\",IF(G4=\"Jämjö hsk\",K4,\"-\"))","v":"-"},{"$f":"IF(BD77<7,K4,\"-\")","v":"-"},{"$f":"IF(BE77<7,I4,\"-\")","v":"-"},null,{"$f":"IF(I4=\"\",\"-\",IF(F4=\"Balders Hsk 3\",I4,\"-\"))","v":"-"},{"$f":"IF(K4=\"\",\"-\",IF(G4=\"Balders Hsk 3\",K4,\"-\"))","v":"-"},{"$f":"IF(BI77<7,K4,\"-\")","v":"-"},{"$f":"IF(BJ77<7,I4,\"-\")","v":"-"},null,{"$f":"IF(I4=\"\",\"-\",IF(F4=\"Värends Hsk 1\",I4,\"-\"))","v":"-"},{"$f":"IF(K4=\"\",\"-\",IF(G4=\"Värends Hsk 1\",K4,\"-\"))","v":"-"},{"$f":"IF(BN77<7,K4,\"-\")","v":"-"},{"$f":"IF(BO77<7,I4,\"-\")","v":"-"},null,{"$f":"IF(I4=\"\",\"-\",IF(F4=\"Tingsryd Hsc 2\",I4,\"-\"))","v":"-"},{"$f":"IF(K4=\"\",\"-\",IF(G4=\"Tingsryd Hsc 2\",K4,\"-\"))","v":"-"},{"$f":"IF(BS77<7,K4,\"-\")","v":"-"},{"$f":"IF(BT77<7,I4,\"-\")","v":"-"},null,{"$f":"IF(I4=\"\",\"-\",IF(F4=\"Värends Hsk 2\",I4,\"-\"))","v":"-"},{"$f":"IF(K4=\"\",\"-\",IF(G4=\"Värends Hsk 2\",K4,\"-\"))","v":"-"},{"$f":"IF(BX77<7,K4,\"-\")","v":"-"},{"$f":"IF(BY77<7,I4,\"-\")","v":"-"}]
[107,null,"Länk","-","-","Balders Hsk 3","Värends Hsk 2",null,null,":",null,null,null,null,null,null,null,{"$f":"AJ75","v":"Balders Hsk 1"},{"$f":"COUNT(AJ$77:AM$174)/(2)","v":0},{"$f":"SUM(S78,-U78,-V78,-W78)","v":0},{"$f":"COUNTIF(AL$77:AM$174,5)","v":0},{"$f":"COUNTIF(AJ$77:AK$174,5)","v":0},{"$f":"COUNTIF(AJ$77:AK$174,\"<5\")","v":0},null,{"$f":"SUM(AJ$77:AK$174)","v":0},":",{"$f":"SUM(AL$77:AM$174)","v":0},{"$f":"Y78-AA78","v":0},{"$f":"SUM(T78*3)+(U78*2)+(V78*1)","v":0},null,"-","-","-","-",null,"-","-","-","-",null,"-","-","-","-",null,"-","-","-","-",null,"-","-","-","-",null,"-","-","-","-",null,"-","-","-","-",null,"-","-","-","-",null,"-","-","-","-",null,"-","-","-","-"]
[108,null,"Länk","-","-","Värends Hsk 1","Balders Hsk 2",null,null,":",null,null,null,null,null,null,null,{"$f":"AO75","v":"Växjö Hsk 2"},{"$f":"COUNT(AO$77:AR$174)/(2)","v":0},0,{"$f":"COUNTIF(AQ$77:AR$174,5)","v":0},{"$f":"COUNTIF(AO$77:AP$174,5)","v":0},{"$f":"COUNTIF(AO$77:AP$174,\"<5\")","v":0},null,{"$f":"SUM(AO$77:AP$174)","v":0},":",{"$f":"SUM(AQ$77:AR$174)","v":0},0,0,null,"-","-","-","-",null,"-","-","-","-",null,"-","-","-","-",null,"-","-","-","-",null,"-","-","-","-",null,"-","-","-","-",null,"-","-","-","-",null,"-","-","-","-",null,"-","-","-","-",null,"-","-","-","-"]
[null,null,null,null,null,null,null,null,null,null,null,null,null,null,null,null,null,{"$f":"AT75","v":"Vaxholm Hsk"},{"$f":"COUNT(AT$77:AW$174)/(2)","v":0},0,{"$f":"COUNTIF(AV$77:AW$174,5)","v":0},{"$f":"COUNTIF(AT$77:AU$174,5)","v":0},{"$f":"COUNTIF(AT$77:AU$174,\"<5\")","v":0},null,{"$f":"SUM(AT$77:AU$174)","v":0},":",{"$f":"SUM(AV$77:AW$174)","v":0},0,0,null,"-","-","-","-",null,"-","-","-","-",null,"-","-","-","-",null,"-","-","-","-",null,"-","-","-","-",null,"-","-","-","-",null,"-","-","-","-",null,"-","-","-","-",null,"-","-","-","-",null,"-","-","-","-"]
[117,"V 10-11","Kväll","-","-","Värends Hsk 2","Värends Hsk 1",null,null,":",null,null,null,null,null,null,null,{"$f":"AY75","v":"Balders Hsk 2"},{"$f":"COUNT(AY$77:BB$174)/(2)","v":0},0,{"$f":"COUNTIF(BA$77:BB$174,5)","v":0},{"$f":"COUNTIF(AY$77:AZ$174,5)","v":0},{"$f":"COUNTIF(AY$77:AZ$174,\"<5\")","v":0},null,{"$f":"SUM(AY$77:AZ$174)","v":0},":",{"$f":"SUM(BA$77:BB$174)","v":0},0,0,null,"-","-","-","-",null,"-","-","-","-",null,"-","-","-","-",null,"-","-","-","-",null,"-","-","-","-",null,"-","-","-","-",null,"-","-","-","-",null,"-","-","-","-",null,"-","-","-","-",null,"-","-","-","-"]
[118,"Omg 8","Länk","-","-","Lanternan 2","Balders Hsk 2",null,null,":",null,null,null,null,null,null,null,{"$f":"BD75","v":"Jämjö Hsk "},{"$f":"COUNT(BD$77:BG$174)/(2)","v":0},0,{"$f":"COUNTIF(BF$77:BG$174,5)","v":0},{"$f":"COUNTIF(BD$77:BE$174,5)","v":0},{"$f":"COUNTIF(BD$77:BE$174,\"<5\")","v":0},null,{"$f":"SUM(BD$77:BE$174)","v":0},":",{"$f":"SUM(BF$77:BG$174)","v":0},0,0,null,"-","-","-","-",null,"-","-","-","-",null,"-","-","-","-",null,"-","-","-","-",null,"-","-","-","-",null,"-","-","-","-",null,"-","-","-","-",null,"-","-","-","-",null,"-","-","-","-",null,"-","-","-","-"]
[119,null,"Länk","-","-","Jämjö Hsk","Balders Hsk 3",null,null,":",null,null,null,null,null,null,null,{"$f":"BI75","v":"Balders Hsk 3"},{"$f":"COUNT(BI$77:BL$174)/(2)","v":0},0,{"$f":"COUNTIF(BK$77:BL$174,5)","v":0},{"$f":"COUNTIF(BI$77:BJ$174,5)","v":0},{"$f":"COUNTIF(BI$77:BJ$174,\"<5\")","v":0},null,{"$f":"SUM(BI$77:BJ$174)","v":0},":",{"$f":"SUM(BK$77:BL$174)","v":0},0,0,null,"-","-","-","-",null,"-","-","-","-",null,"-","-","-","-",null,"-","-","-","-",null,"-","-","-","-",null,"-","-","-","-",null,"-","-","-","-",null,"-","-","-","-",null,"-","-","-","-",null,"-","-","-","-"]
[120,null,"Länk","-","-","Balders Hsk 1","Växjö Hsk 2",null,null,":",null,null,null,null,null,null,null,{"$f":"BN75","v":"Värends Hsk 1 "},{"$f":"COUNT(BN$77:BQ$174)/(2)","v":0},0,{"$f":"COUNTIF(BP$77:BQ$174,5)","v":0},{"$f":"COUNTIF(BN$77:BO$174,5)","v":0},{"$f":"COUNTIF(BN$77:BO$174,\"<5\")","v":0},null,{"$f":"SUM(BN$77:BO$174)","v":0},":",{"$f":"SUM(BP$77:BQ$174)","v":0},0,0,null,"-","-","-","-",null,"-","-","-","-",null,"-","-","-","-",null,"-","-","-","-",null,"-","-","-","-",null,"-","-","-","-",null,"-","-","-","-",null,"-","-","-","-",null,"-","-","-","-",null,"-","-","-","-"]
[121,null,"Länk","-","-","Vaxholm Hsk","Tingsryd Hsc 2",null,null,":",null,null,null,null,null,null,null,{"$f":"BS75","v":"Tingsryd Hsc 2"},{"$f":"COUNT(BS$77:BV$174)/(2)","v":0},0,{"$f":"COUNTIF(BU$77:BV$174,5)","v":0},{"$f":"COUNTIF(BS$77:BT$174,5)","v":0},{"$f":"COUNTIF(BS$77:BT$174,\"<5\")","v":0},null,{"$f":"SUM(BS$77:BT$174)","v":0},":",{"$f":"SUM(BU$77:BV$174)","v":0},0,0,null,"-","-","-","-",null,"-","-","-","-",null,"-","-","-","-",null,"-","-","-","-",null,"-","-","-","-",null,"-","-","-","-",null,"-","-","-","-",null,"-","-","-","-",null,"-","-","-","-",null,"-","-","-","-"]
[122,null,"Kväll","-","-","Balders Hsk 1","Balders Hsk 3",null,null,":",null,null,null,null,null,null,null,{"$f":"BX75","v":"Värends Hsk 2 "},{"$f":"COUNT(BX$77:CA$174)/(2)","v":0},0,{"$f":"COUNTIF(BZ$77:CA$174,5)","v":0},{"$f":"COUNTIF(BX$77:BY$174,5)","v":0},{"$f":"COUNTIF(BX$77:BY$174,\"<5\")","v":0},null,{"$f":"SUM(BX$77:BY$174)","v":0},":",{"$f":"SUM(BZ$77:CA$174)","v":0},0,0,null,"-","-","-","-",null,"-","-","-","-",null,"-","-","-","-",null,"-","-","-","-",null,"-","-","-","-",null,"-","-","-","-",null,"-","-","-","-",null,"-","-","-","-",null,"-","-","-","-",null,"-","-","-","-"]
[123,null,"Kväll","-","-","Värends Hsk 2","Växjö Hsk 2",null,null,":",null,null,null,null,null,null,null,null,null,null,null,null,null,null,null,null,null,null,null,null,"-","-","-","-",null,"-","-","-","-",null,"-","-","-","-",null,"-","-","-","-",null,"-","-","-","-",null,"-","-","-","-",null,"-","-","-","-",null,"-","-","-","-",null,"-","-","-","-",null,"-","-","-","-"]
[124,null,"Kväll","-","-","Tingsryd Hsc 2","Värends Hsk 1",null,null,":",null,null,null,null,null,null,null,null,null,null,null,null,null,null,null,null,null,null,null,null,"-","-","-","-",null,"-","-","-","-",null,"-","-","-","-",null,"-","-","-","-",null,"-","-","-","-",null,"-","-","-","-",null,"-","-","-","-",null,"-","-","-","-",null,"-","-","-","-",null,"-","-","-","-"]
[125,null,"Länk","-","-","Lanternan 2","Vaxholm Hsk",null,null,":",null,null,null,null,null,null,null,null,null,null,null,null,null,null,null,null,null,null,null,null,"-","-","-","-",null,"-","-","-","-",null,"-","-","-","-",null,"-","-","-","-",null,"-","-","-","-",null,"-","-","-","-",null,"-","-","-","-",null,"-","-","-","-",null,"-","-","-","-",null,"-","-","-","-"]
[126,null,"Länk","-","-","Balders Hsk 2","Jämjö Hsk",null,null,":",null,null,null,null,null,null,null,null,null,null,null,null,null,null,null,null,null,null,null,null,"-","-","-","-",null,"-","-","-","-",null,"-","-","-","-",null,"-","-","-","-",null,"-","-","-","-",null,"-","-","-","-",null,"-","-","-","-",null,"-","-","-","-",null,"-","-","-","-",null,"-","-","-","-"]
[null,null,null,null,null,null,null,null,null,null,null,null,null,null,null,null,null,null,null,null,null,null,null,null,null,null,null,null,null,null,"-","-","-","-",null,"-","-","-","-",null,"-","-","-","-",null,"-","-","-","-",null,"-","-","-","-",null,"-","-","-","-",null,"-","-","-","-",null,"-","-","-","-",null,"-","-","-","-",null,"-","-","-","-"]
[135,"2022-04-02","Blekinge","10:00:00",5,"Värends Hsk 1","Lanternan 2",null,null,":",null,null,null,null,null,null,null,null,null,null,null,null,null,null,null,null,null,null,null,null,"-","-","-","-",null,"-","-","-","-",null,"-","-","-","-",null,"-","-","-","-",null,"-","-","-","-",null,"-","-","-","-",null,"-","-","-","-",null,"-","-","-","-",null,"-","-","-","-",null,"-","-","-","-"]
[136,"Omg 9",null,"10:00:00",6,"Värends Hsk 2","Jämjö Hsk",null,null,":",null,null,null,null,null,null,null,null,null,null,null,null,null,null,null,null,null,null,null,null,"-","-","-","-",null,"-","-","-","-",null,"-","-","-","-",null,"-","-","-","-",null,"-","-","-","-",null,"-","-","-","-",null,"-","-","-","-",null,"-","-","-","-",null,"-","-","-","-",null,"-","-","-","-"]
[137,null,null,"12:00:00",5,"Värends Hsk 1","Jämjö Hsk",null,null,":",null,null,null,null,null,null,null,null,null,null,null,null,null,null,null,null,null,null,null,null,"-","-","-","-",null,"-","-","-","-",null,"-","-","-","-",null,"-","-","-","-",null,"-","-","-","-",null,"-","-","-","-",null,"-","-","-","-",null,"-","-","-","-",null,"-","-","-","-",null,"-","-","-","-"]
[138,null,null,"12:00:00",6,"Lanternan 2","Värends Hsk 2",null,null,":",null,null,null,null,null,null,null,null,null,null,null,null,null,null,null,null,null,null,null,null,"-","-","-","-",null,"-","-","-","-",null,"-","-","-","-",null,"-","-","-","-",null,"-","-","-","-",null,"-","-","-","-",null,"-","-","-","-",null,"-","-","-","-",null,"-","-","-","-",null,"-","-","-","-"]
[139,"V 12-13","Länk","-","-","Tingsryd Hsc 2","Balders Hsk 3",null,null,":",null,null,null,null,null,null,null,null,null,null,null,null,null,null,null,null,null,null,null,null,"-","-","-","-",null,"-","-","-","-",null,"-","-","-","-",null,"-","-","-","-",null,"-","-","-","-",null,"-","-","-","-",null,"-","-","-","-",null,"-","-","-","-",null,"-","-","-","-",null,"-","-","-","-"]
[140,"Senast","Länk","-","-","Vaxholm Hsk","Växjö Hsk 2",null,null,":",null,null,null,null,null,null,null,null,null,null,null,null,null,null,null,null,null,null,null,null,"-","-","-","-",null,"-","-","-","-",null,"-","-","-","-",null,"-","-","-","-",null,"-","-","-","-",null,"-","-","-","-",null,"-","-","-","-",null,"-","-","-","-",null,"-","-","-","-",null,"-","-","-","-"]
[141,"2022-04-02","Kväll","-","-","Balders Hsk 2","Balders Hsk 1",null,null,":",null,null,null,null,null,null,null,null,null,null,null,null,null,null,null,null,null,null,null,null,"-","-","-","-",null,"-","-","-","-",null,"-","-","-","-",null,"-","-","-","-",null,"-","-","-","-",null,"-","-","-","-",null,"-","-","-","-",null,"-","-","-","-",null,"-","-","-","-",null,"-","-","-","-"]
[142,"Omg 9","Länk","-","-","Balders Hsk 1","Tingsryd Hsc 2",null,null,":",null,null,null,null,null,null,null,null,null,null,null,null,null,null,null,null,null,null,null,null,"-","-","-","-",null,"-","-","-","-",null,"-","-","-","-",null,"-","-","-","-",null,"-","-","-","-",null,"-","-","-","-",null,"-","-","-","-",null,"-","-","-","-",null,"-","-","-","-",null,"-","-","-","-"]
[143,null,"Länk","-","-","Balders Hsk 2","Växjö Hsk 2",null,null,":",null,null,null,null,null,null,null,null,null,null,null,null,null,null,null,null,null,null,null,null,"-","-","-","-",null,"-","-","-","-",null,"-","-","-","-",null,"-","-","-","-",null,"-","-","-","-",null,"-","-","-","-",null,"-","-","-","-",null,"-","-","-","-",null,"-","-","-","-",null,"-","-","-","-"]
[144,null,"Kväll","-","-","Balders Hsk 3","Vaxholm Hsk",null,null,":",null,null,null,null,null,null,null,null,null,null,null,null,null,null,null,null,null,null,null,null,"-","-","-","-",null,"-","-","-","-",null,"-","-","-","-",null,"-","-","-","-",null,"-","-","-","-",null,"-","-","-","-",null,"-","-","-","-",null,"-","-","-","-",null,"-","-","-","-",null,"-","-","-","-"]
[null,null,null,null,null,null,null,null,null,null,null,null,null,null,null,null,null,null,null,null,null,null,null,null,null,null,null,null,null,null,"-","-","-","-",null,"-","-","-","-",null,"-","-","-","-",null,"-","-","-","-",null,"-","-","-","-",null,"-","-","-","-",null,"-","-","-","-",null,"-","-","-","-",null,"-","-","-","-",null,"-","-","-","-"]
[null,null,null,null,null,null,null,null,null,null,null,null,null,null,null,null,null,null,null,null,null,null,null,null,null,null,null,null,null,null,"-","-","-","-",null,"-","-","-","-",null,"-","-","-","-",null,"-","-","-","-",null,"-","-","-","-",null,"-","-","-","-",null,"-","-","-","-",null,"-","-","-","-",null,"-","-","-","-",null,"-","-","-","-"]
[null,null,null,null,null,null,null,null,null,null,null,null,null,null,null,null,null,null,null,null,null,null,null,null,null,null,null,null,null,null,"-","-","-","-",null,"-","-","-","-",null,"-","-","-","-",null,"-","-","-","-",null,"-","-","-","-",null,"-","-","-","-",null,"-","-","-","-",null,"-","-","-","-",null,"-","-","-","-",null,"-","-","-","-"]
[null,null,null,null,null,null,null,null,null,null,null,null,null,null,null,null,null,null,null,null,null,null,null,null,null,null,null,null,null,null,"-","-","-","-",null,"-","-","-","-",null,"-","-","-","-",null,"-","-","-","-",null,"-","-","-","-",null,"-","-","-","-",null,"-","-","-","-",null,"-","-","-","-",null,"-","-","-","-",null,"-","-","-","-"]
[null,null,null,null,null,null,null,null,null,null,null,null,null,null,null,null,null,null,null,null,null,null,null,null,null,null,null,null,null,null,"-","-","-","-",null,"-","-","-","-",null,"-","-","-","-",null,"-","-","-","-",null,"-","-","-","-",null,"-","-","-","-",null,"-","-","-","-",null,"-","-","-","-",null,"-","-","-","-",null,"-","-","-","-"]
[null,null,null,null,null,null,null,null,null,null,null,null,null,null,null,null,null,null,null,null,null,null,null,null,null,null,null,null,null,null,"-","-","-","-",null,"-","-","-","-",null,"-","-","-","-",null,"-","-","-","-",null,"-","-","-","-",null,"-","-","-","-",null,"-","-","-","-",null,"-","-","-","-",null,"-","-","-","-",null,"-","-","-","-"]
[null,null,null,null,null,null,null,null,null,null,null,null,null,null,null,null,null,null,null,null,null,null,null,null,null,null,null,null,null,null,"-","-","-","-",null,"-","-","-","-",null,"-","-","-","-",null,"-","-","-","-",null,"-","-","-","-",null,"-","-","-","-",null,"-","-","-","-",null,"-","-","-","-",null,"-","-","-","-",null,"-","-","-","-"]
[null,null,null,null,null,null,null,null,null,null,null,null,null,null,null,null,null,null,null,null,null,null,null,null,null,null,null,null,null,"b",{"$f":"IF(I36=\"\",\"-\",IF(F36=\"lanternan 2\",I36,\"-\"))","v":"-"},{"$f":"IF(K36=\"\",\"-\",IF(G36=\"lanternan 2\",K36,\"-\"))","v":"-"},{"$f":"IF(AE109<7,K36,\"-\")","v":"-"},{"$f":"IF(AF109<7,I36,\"-\")","v":"-"},null,{"$f":"IF(I36=\"\",\"-\",IF(F36=\"Balders Hsk 1\",I36,\"-\"))","v":"-"},{"$f":"IF(K36=\"\",\"-\",IF(G36=\"Balders Hsk 1\",K36,\"-\"))","v":"-"},{"$f":"IF(AJ109<7,K36,\"-\")","v":"-"},{"$f":"IF(AK109<7,I36,\"-\")","v":"-"},null,{"$f":"IF(I36=\"\",\"-\",IF(F36=\"Växjö Hsk 2\",I36,\"-\"))","v":"-"},{"$f":"IF(K36=\"\",\"-\",IF(G36=\"Växjö Hsk 2\",K36,\"-\"))","v":"-"},{"$f":"IF(AO109<7,K36,\"-\")","v":"-"},{"$f":"IF(AP109<7,I36,\"-\")","v":"-"},null,{"$f":"IF(I36=\"\",\"-\",IF(F36=\"Vaxholm Hsk\",I36,\"-\"))","v":"-"},{"$f":"IF(K36=\"\",\"-\",IF(G36=\"Vaxholm Hsk\",K36,\"-\"))","v":"-"},{"$f":"IF(AT109<7,K36,\"-\")","v":"-"},{"$f":"IF(AU109<7,I36,\"-\")","v":"-"},null,{"$f":"IF(I36=\"\",\"-\",IF(F36=\"Balders Hsk 2\",I36,\"-\"))","v":"-"},{"$f":"IF(K36=\"\",\"-\",IF(G36=\"Balders Hsk 2\",K36,\"-\"))","v":"-"},{"$f":"IF(AY109<7,K36,\"-\")","v":"-"},{"$f":"IF(AZ109<7,I36,\"-\")","v":"-"},null,{"$f":"IF(I36=\"\",\"-\",IF(F36=\"Jämjö hsk\",I36,\"-\"))","v":"-"},{"$f":"IF(K36=\"\",\"-\",IF(G36=\"Jämjö hsk\",K36,\"-\"))","v":"-"},{"$f":"IF(BD109<7,K36,\"-\")","v":"-"},{"$f":"IF(BE109<7,I36,\"-\")","v":"-"},null,{"$f":"IF(I36=\"\",\"-\",IF(F36=\"Balders Hsk 3\",I36,\"-\"))","v":"-"},{"$f":"IF(K36=\"\",\"-\",IF(G36=\"Balders Hsk 3\",K36,\"-\"))","v":"-"},{"$f":"IF(BI109<7,K36,\"-\")","v":"-"},{"$f":"IF(BJ109<7,I36,\"-\")","v":"-"},null,{"$f":"IF(I36=\"\",\"-\",IF(F36=\"Värends Hsk 1\",I36,\"-\"))","v":"-"},{"$f":"IF(K36=\"\",\"-\",IF(G36=\"Värends Hsk 1\",K36,\"-\"))","v":"-"},{"$f":"IF(BN109<7,K36,\"-\")","v":"-"},{"$f":"IF(BO109<7,I36,\"-\")","v":"-"},null,{"$f":"IF(I36=\"\",\"-\",IF(F36=\"Tingsryd Hsc 2\",I36,\"-\"))","v":"-"},{"$f":"IF(K36=\"\",\"-\",IF(G36=\"Tingsryd Hsc 2\",K36,\"-\"))","v":"-"},{"$f":"IF(BS109<7,K36,\"-\")","v":"-"},{"$f":"IF(BT109<7,I36,\"-\")","v":"-"},null,{"$f":"IF(I36=\"\",\"-\",IF(F36=\"Värends Hsk 2\",I36,\"-\"))","v":"-"},{"$f":"IF(K36=\"\",\"-\",IF(G36=\"Värends Hsk 2\",K36,\"-\"))","v":"-"},{"$f":"IF(BX109<7,K36,\"-\")","v":"-"},{"$f":"IF(BY109<7,I36,\"-\")","v":"-"}]
[null,null,null,null,null,null,null,null,null,null,null,null,null,null,null,null,null,null,null,null,null,null,null,null,null,null,null,null,null,null,{"$f":"IF(I37=\"\",\"-\",IF(F37=\"lanternan 2\",I37,\"-\"))","v":"-"},{"$f":"IF(K37=\"\",\"-\",IF(G37=\"lanternan 2\",K37,\"-\"))","v":"-"},{"$f":"IF(AE110<7,K37,\"-\")","v":"-"},{"$f":"IF(AF110<7,I37,\"-\")","v":"-"},null,{"$f":"IF(I37=\"\",\"-\",IF(F37=\"Balders Hsk 1\",I37,\"-\"))","v":"-"},{"$f":"IF(K37=\"\",\"-\",IF(G37=\"Balders Hsk 1\",K37,\"-\"))","v":"-"},{"$f":"IF(AJ110<7,K37,\"-\")","v":"-"},{"$f":"IF(AK110<7,I37,\"-\")","v":"-"},null,{"$f":"IF(I37=\"\",\"-\",IF(F37=\"Växjö Hsk 2\",I37,\"-\"))","v":"-"},{"$f":"IF(K37=\"\",\"-\",IF(G37=\"Växjö Hsk 2\",K37,\"-\"))","v":"-"},{"$f":"IF(AO110<7,K37,\"-\")","v":"-"},{"$f":"IF(AP110<7,I37,\"-\")","v":"-"},null,{"$f":"IF(I37=\"\",\"-\",IF(F37=\"Vaxholm Hsk\",I37,\"-\"))","v":"-"},{"$f":"IF(K37=\"\",\"-\",IF(G37=\"Vaxholm Hsk\",K37,\"-\"))","v":"-"},{"$f":"IF(AT110<7,K37,\"-\")","v":"-"},{"$f":"IF(AU110<7,I37,\"-\")","v":"-"},null,{"$f":"IF(I37=\"\",\"-\",IF(F37=\"Balders Hsk 2\",I37,\"-\"))","v":"-"},{"$f":"IF(K37=\"\",\"-\",IF(G37=\"Balders Hsk 2\",K37,\"-\"))","v":"-"},{"$f":"IF(AY110<7,K37,\"-\")","v":"-"},{"$f":"IF(AZ110<7,I37,\"-\")","v":"-"},null,{"$f":"IF(I37=\"\",\"-\",IF(F37=\"Jämjö hsk\",I37,\"-\"))","v":"-"},{"$f":"IF(K37=\"\",\"-\",IF(G37=\"Jämjö hsk\",K37,\"-\"))","v":"-"},{"$f":"IF(BD110<7,K37,\"-\")","v":"-"},{"$f":"IF(BE110<7,I37,\"-\")","v":"-"},null,{"$f":"IF(I37=\"\",\"-\",IF(F37=\"Balders Hsk 3\",I37,\"-\"))","v":"-"},{"$f":"IF(K37=\"\",\"-\",IF(G37=\"Balders Hsk 3\",K37,\"-\"))","v":"-"},{"$f":"IF(BI110<7,K37,\"-\")","v":"-"},{"$f":"IF(BJ110<7,I37,\"-\")","v":"-"},null,{"$f":"IF(I37=\"\",\"-\",IF(F37=\"Värends Hsk 1\",I37,\"-\"))","v":"-"},{"$f":"IF(K37=\"\",\"-\",IF(G37=\"Värends Hsk 1\",K37,\"-\"))","v":"-"},{"$f":"IF(BN110<7,K37,\"-\")","v":"-"},{"$f":"IF(BO110<7,I37,\"-\")","v":"-"},null,{"$f":"IF(I37=\"\",\"-\",IF(F37=\"Tingsryd Hsc 2\",I37,\"-\"))","v":"-"},{"$f":"IF(K37=\"\",\"-\",IF(G37=\"Tingsryd Hsc 2\",K37,\"-\"))","v":"-"},{"$f":"IF(BS110<7,K37,\"-\")","v":"-"},{"$f":"IF(BT110<7,I37,\"-\")","v":"-"},null,{"$f":"IF(I37=\"\",\"-\",IF(F37=\"Värends Hsk 2\",I37,\"-\"))","v":"-"},{"$f":"IF(K37=\"\",\"-\",IF(G37=\"Värends Hsk 2\",K37,\"-\"))","v":"-"},{"$f":"IF(BX110<7,K37,\"-\")","v":"-"},{"$f":"IF(BY110<7,I37,\"-\")","v":"-"}]
[null,null,null,null,null,null,null,null,null,null,null,null,null,null,null,null,null,null,null,null,null,null,null,null,null,null,null,null,null,null,"-","-","-","-",null,"-","-","-","-",null,"-","-","-","-",null,"-","-","-","-",null,"-","-","-","-",null,"-","-","-","-",null,"-","-","-","-",null,"-","-","-","-",null,"-","-","-","-",null,"-","-","-","-"]
[null,null,null,null,null,null,null,null,null,null,null,null,null,null,null,null,null,null,null,null,null,null,null,null,null,null,null,null,null,null,"-","-","-","-",null,"-","-","-","-",null,"-","-","-","-",null,"-","-","-","-",null,"-","-","-","-",null,"-","-","-","-",null,"-","-","-","-",null,"-","-","-","-",null,"-","-","-","-",null,"-","-","-","-"]
[null,null,null,null,null,null,null,null,null,null,null,null,null,null,null,null,null,null,null,null,null,null,null,null,null,null,null,null,null,null,"-","-","-","-",null,"-","-","-","-",null,"-","-","-","-",null,"-","-","-","-",null,"-","-","-","-",null,"-","-","-","-",null,"-","-","-","-",null,"-","-","-","-",null,"-","-","-","-",null,"-","-","-","-"]
[null,null,null,null,null,null,null,null,null,null,null,null,null,null,null,null,null,null,null,null,null,null,null,null,null,null,null,null,null,null,"-","-","-","-",null,"-","-","-","-",null,"-","-","-","-",null,"-","-","-","-",null,"-","-","-","-",null,"-","-","-","-",null,"-","-","-","-",null,"-","-","-","-",null,"-","-","-","-",null,"-","-","-","-"]
[null,null,null,null,null,null,null,null,null,null,null,null,null,null,null,null,null,null,null,null,null,null,null,null,null,null,null,null,null,null,"-","-","-","-",null,"-","-","-","-",null,"-","-","-","-",null,"-","-","-","-",null,"-","-","-","-",null,"-","-","-","-",null,"-","-","-","-",null,"-","-","-","-",null,"-","-","-","-",null,"-","-","-","-"]
[null,null,null,null,null,null,null,null,null,null,null,null,null,null,null,null,null,null,null,null,null,null,null,null,null,null,null,null,null,null,"-","-","-","-",null,"-","-","-","-",null,"-","-","-","-",null,"-","-","-","-",null,"-","-","-","-",null,"-","-","-","-",null,"-","-","-","-",null,"-","-","-","-",null,"-","-","-","-",null,"-","-","-","-"]
[null,null,null,null,null,null,null,null,null,null,null,null,null,null,null,null,null,null,null,null,null,null,null,null,null,null,null,null,null,null,"-","-","-","-",null,"-","-","-","-",null,"-","-","-","-",null,"-","-","-","-",null,"-","-","-","-",null,"-","-","-","-",null,"-","-","-","-",null,"-","-","-","-",null,"-","-","-","-",null,"-","-","-","-"]
["OBS!!!!",null,null,null,null,null,null,null,null,null,null,null,null,null,null,null,null,null,null,null,null,null,null,null,null,null,null,null,null,null,"-","-","-","-",null,"-","-","-","-",null,"-","-","-","-",null,"-","-","-","-",null,"-","-","-","-",null,"-","-","-","-",null,"-","-","-","-",null,"-","-","-","-",null,"-","-","-","-",null,"-","-","-","-"]
["Arrangör skickar in matchresultat via SMS till Tomas Lindahl direkt efter avslutade matcher ",null,null,null,null,null,null,null,null,null,null,null,null,null,null,null,null,null,null,null,null,null,null,null,null,null,null,null,null,null,"-","-","-","-",null,"-","-","-","-",null,"-","-","-","-",null,"-","-","-","-",null,"-","-","-","-",null,"-","-","-","-",null,"-","-","-","-",null,"-","-","-","-",null,"-","-","-","-",null,"-","-","-","-"]
["Tel. 073-4004693 skriv matchnummer enligt spelprogram följt av resultatet i matchen.",null,null,null,null,null,null,null,null,null,null,null,null,null,null,null,null,null,null,null,null,null,null,null,null,null,null,null,null,null,"-","-","-","-",null,"-","-","-","-",null,"-","-","-","-",null,"-","-","-","-",null,"-","-","-","-",null,"-","-","-","-",null,"-","-","-","-",null,"-","-","-","-",null,"-","-","-","-",null,"-","-","-","-"]
["Matchprotokollet skickas till Gert Karlsson via e-post:  gert.karlsson@svhkf.se ",null,null,null,null,null,null,null,null,null,null,null,null,null,null,null,null,null,null,null,null,null,null,null,null,null,null,null,null,null,"-","-","-","-",null,"-","-","-","-",null,"-","-","-","-",null,"-","-","-","-",null,"-","-","-","-",null,"-","-","-","-",null,"-","-","-","-",null,"-","-","-","-",null,"-","-","-","-",null,"-","-","-","-"]
["för uppdatering av rankingtabell.",null,null,null,null,null,null,null,null,null,null,null,null,null,null,null,null,null,null,null,null,null,null,null,null,null,null,null,null,null,"-","-","-","-",null,"-","-","-","-",null,"-","-","-","-",null,"-","-","-","-",null,"-","-","-","-",null,"-","-","-","-",null,"-","-","-","-",null,"-","-","-","-",null,"-","-","-","-",null,"-","-","-","-"]
[null,null,null,null,null,null,null,null,null,null,null,null,null,null,null,null,null,null,null,null,null,null,null,null,null,null,null,null,null,null,"-","-","-","-",null,"-","-","-","-",null,"-","-","-","-",null,"-","-","-","-",null,"-","-","-","-",null,"-","-","-","-",null,"-","-","-","-",null,"-","-","-","-",null,"-","-","-","-",null,"-","-","-","-"]
[null,null,null,null,null,null,null,null,null,null,null,null,null,null,null,null,null,null,null,null,null,null,null,null,null,null,null,null,null,null,"-","-","-","-",null,"-","-","-","-",null,"-","-","-","-",null,"-","-","-","-",null,"-","-","-","-",null,"-","-","-","-",null,"-","-","-","-",null,"-","-","-","-",null,"-","-","-","-",null,"-","-","-","-"]
[null,null,null,null,null,null,null,null,null,null,null,null,null,null,null,null,null,null,null,null,null,null,null,null,null,null,null,null,null,null,"-","-","-","-",null,"-","-","-","-",null,"-","-","-","-",null,"-","-","-","-",null,"-","-","-","-",null,"-","-","-","-",null,"-","-","-","-",null,"-","-","-","-",null,"-","-","-","-",null,"-","-","-","-"]
[null,null,null,null,null,null,null,null,null,null,null,null,null,null,null,null,null,null,null,null,null,null,null,null,null,null,null,null,null,null,"-","-","-","-",null,"-","-","-","-",null,"-","-","-","-",null,"-","-","-","-",null,"-","-","-","-",null,"-","-","-","-",null,"-","-","-","-",null,"-","-","-","-",null,"-","-","-","-",null,"-","-","-","-"]
[null,null,null,null,null,null,null,null,null,null,null,null,null,null,null,null,null,null,null,null,null,null,null,null,null,null,null,null,null,null,"-","-","-","-",null,"-","-","-","-",null,"-","-","-","-",null,"-","-","-","-",null,"-","-","-","-",null,"-","-","-","-",null,"-","-","-","-",null,"-","-","-","-",null,"-","-","-","-",null,"-","-","-","-"]
[null,null,null,null,null,null,null,null,null,null,null,null,null,null,null,null,null,null,null,null,null,null,null,null,null,null,null,null,null,null,"-","-","-","-",null,"-","-","-","-",null,"-","-","-","-",null,"-","-","-","-",null,"-","-","-","-",null,"-","-","-","-",null,"-","-","-","-",null,"-","-","-","-",null,"-","-","-","-",null,"-","-","-","-"]
[null,null,null,null,null,null,null,null,null,null,null,null,null,null,null,null,null,null,null,null,null,null,null,null,null,null,null,null,null,null,"-","-","-","-",null,"-","-","-","-",null,"-","-","-","-",null,"-","-","-","-",null,"-","-","-","-",null,"-","-","-","-",null,"-","-","-","-",null,"-","-","-","-",null,"-","-","-","-",null,"-","-","-","-"]
[null,null,null,null,null,null,null,null,null,null,null,null,null,null,null,null,null,null,null,null,null,null,null,null,null,null,null,null,null,null,"-","-","-","-",null,"-","-","-","-",null,"-","-","-","-",null,"-","-","-","-",null,"-","-","-","-",null,"-","-","-","-",null,"-","-","-","-",null,"-","-","-","-",null,"-","-","-","-",null,"-","-","-","-"]
[null,null,null,null,null,null,null,null,null,null,null,null,null,null,null,null,null,null,null,null,null,null,null,null,null,null,null,null,null,null,"-","-","-","-",null,"-","-","-","-",null,"-","-","-","-",null,"-","-","-","-",null,"-","-","-","-",null,"-","-","-","-",null,"-","-","-","-",null,"-","-","-","-",null,"-","-","-","-",null,"-","-","-","-"]
[null,null,null,null,null,null,null,null,null,null,null,null,null,null,null,null,null,null,null,null,null,null,null,null,null,null,null,null,null,null,"-","-","-","-",null,"-","-","-","-",null,"-","-","-","-",null,"-","-","-","-",null,"-","-","-","-",null,"-","-","-","-",null,"-","-","-","-",null,"-","-","-","-",null,"-","-","-","-",null,"-","-","-","-"]
[null,null,null,null,null,null,null,null,null,null,null,null,null,null,null,null,null,null,null,null,null,null,null,null,null,null,null,null,null,null,"-","-","-","-",null,"-","-","-","-",null,"-","-","-","-",null,"-","-","-","-",null,"-","-","-","-",null,"-","-","-","-",null,"-","-","-","-",null,"-","-","-","-",null,"-","-","-","-",null,"-","-","-","-"]
[null,null,null,null,null,null,null,null,null,null,null,null,null,null,null,null,null,null,null,null,null,null,null,null,null,null,null,null,null,null,"-","-","-","-",null,"-","-","-","-",null,"-","-","-","-",null,"-","-","-","-",null,"-","-","-","-",null,"-","-","-","-",null,"-","-","-","-",null,"-","-","-","-",null,"-","-","-","-",null,"-","-","-","-"]
[null,null,null,null,null,null,null,null,null,null,null,null,null,null,null,null,null,null,null,null,null,null,null,null,null,null,null,null,null,null,"-","-","-","-",null,"-","-","-","-",null,"-","-","-","-",null,"-","-","-","-",null,"-","-","-","-",null,"-","-","-","-",null,"-","-","-","-",null,"-","-","-","-",null,"-","-","-","-",null,"-","-","-","-"]
[null,null,null,null,null,null,null,null,null,null,null,null,null,null,null,null,null,null,null,null,null,null,null,null,null,null,null,null,null,null,"-","-","-","-",null,"-","-","-","-",null,"-","-","-","-",null,"-","-","-","-",null,"-","-","-","-",null,"-","-","-","-",null,"-","-","-","-",null,"-","-","-","-",null,"-","-","-","-",null,"-","-","-","-"]
[null,null,null,null,null,null,null,null,null,null,null,null,null,null,null,null,null,null,null,null,null,null,null,null,null,null,null,null,null,null,"-","-","-","-",null,"-","-","-","-",null,"-","-","-","-",null,"-","-","-","-",null,"-","-","-","-",null,"-","-","-","-",null,"-","-","-","-",null,"-","-","-","-",null,"-","-","-","-",null,"-","-","-","-"]
[null,null,null,null,null,null,null,null,null,null,null,null,null,null,null,null,null,null,null,null,null,null,null,null,null,null,null,null,null,null,"-","-","-","-",null,"-","-","-","-",null,"-","-","-","-",null,"-","-","-","-",null,"-","-","-","-",null,"-","-","-","-",null,"-","-","-","-",null,"-","-","-","-",null,"-","-","-","-",null,"-","-","-","-"]
[null,null,null,null,null,null,null,null,null,null,null,null,null,null,null,null,null,null,null,null,null,null,null,null,null,null,null,null,null,null,"-","-","-","-",null,"-","-","-","-",null,"-","-","-","-",null,"-","-","-","-",null,"-","-","-","-",null,"-","-","-","-",null,"-","-","-","-",null,"-","-","-","-",null,"-","-","-","-",null,"-","-","-","-"]
[null,null,null,null,null,null,null,null,null,null,null,null,null,null,null,null,null,null,null,null,null,null,null,null,null,null,null,null,null,null,"-","-","-","-",null,"-","-","-","-",null,"-","-","-","-",null,"-","-","-","-",null,"-","-","-","-",null,"-","-","-","-",null,"-","-","-","-",null,"-","-","-","-",null,"-","-","-","-",null,"-","-","-","-"]
[null,null,null,null,null,null,null,null,null,null,null,null,null,null,null,null,null,null,null,null,null,null,null,null,null,null,null,null,null,null,"-","-","-","-",null,"-","-","-","-",null,"-","-","-","-",null,"-","-","-","-",null,"-","-","-","-",null,"-","-","-","-",null,"-","-","-","-",null,"-","-","-","-",null,"-","-","-","-",null,"-","-","-","-"]
[null,null,null,null,null,null,null,null,null,null,null,null,null,null,null,null,null,null,null,null,null,null,null,null,null,null,null,null,null,null,"-","-","-","-",null,"-","-","-","-",null,"-","-","-","-",null,"-","-","-","-",null,"-","-","-","-",null,"-","-","-","-",null,"-","-","-","-",null,"-","-","-","-",null,"-","-","-","-",null,"-","-","-","-"]
[null,null,null,null,null,null,null,null,null,null,null,null,null,null,null,null,null,null,null,null,null,null,null,null,null,null,null,null,null,null,"-","-","-","-",null,"-","-","-","-",null,"-","-","-","-",null,"-","-","-","-",null,"-","-","-","-",null,"-","-","-","-",null,"-","-","-","-",null,"-","-","-","-",null,"-","-","-","-",null,"-","-","-","-"]
[null,null,null,null,null,null,null,null,null,null,null,null,null,null,null,null,null,null,null,null,null,null,null,null,null,null,null,null,null,null,"-","-","-","-",null,"-","-","-","-",null,"-","-","-","-",null,"-","-","-","-",null,"-","-","-","-",null,"-","-","-","-",null,"-","-","-","-",null,"-","-","-","-",null,"-","-","-","-",null,"-","-","-","-"]
[null,null,null,null,null,null,null,null,null,null,null,null,null,null,null,null,null,null,null,null,null,null,null,null,null,null,null,null,null,null,"-","-","-","-",null,"-","-","-","-",null,"-","-","-","-",null,"-","-","-","-",null,"-","-","-","-",null,"-","-","-","-",null,"-","-","-","-",null,"-","-","-","-",null,"-","-","-","-",null,"-","-","-","-"]
[null,null,null,null,null,null,null,null,null,null,null,null,null,null,null,null,null,null,null,null,null,null,null,null,null,null,null,null,null,null,"-","-","-","-",null,"-","-","-","-",null,"-","-","-","-",null,"-","-","-","-",null,"-","-","-","-",null,"-","-","-","-",null,"-","-","-","-",null,"-","-","-","-",null,"-","-","-","-",null,"-","-","-","-"]
[null,null,null,null,null,null,null,null,null,null,null,null,null,null,null,null,null,null,null,null,null,null,null,null,null,null,null,null,null,null,"-","-","-","-",null,"-","-","-","-",null,"-","-","-","-",null,"-","-","-","-",null,"-","-","-","-",null,"-","-","-","-",null,"-","-","-","-",null,"-","-","-","-",null,"-","-","-","-",null,"-","-","-","-"]
[null,null,null,null,null,null,null,null,null,null,null,null,null,null,null,null,null,null,null,null,null,null,null,null,null,null,null,null,null,null,"-","-","-","-",null,"-","-","-","-",null,"-","-","-","-",null,"-","-","-","-",null,"-","-","-","-",null,"-","-","-","-",null,"-","-","-","-",null,"-","-","-","-",null,"-","-","-","-",null,"-","-","-","-"]
[null,null,null,null,null,null,null,null,null,null,null,null,null,null,null,null,null,null,null,null,null,null,null,null,null,null,null,null,null,null,"-","-","-","-",null,"-","-","-","-",null,"-","-","-","-",null,"-","-","-","-",null,"-","-","-","-",null,"-","-","-","-",null,"-","-","-","-",null,"-","-","-","-",null,"-","-","-","-",null,"-","-","-","-"]
[null,null,null,null,null,null,null,null,null,null,null,null,null,null,null,null,null,null,null,null,null,null,null,null,null,null,null,null,null,null,"-","-","-","-",null,"-","-","-","-",null,"-","-","-","-",null,"-","-","-","-",null,"-","-","-","-",null,"-","-","-","-",null,"-","-","-","-",null,"-","-","-","-",null,"-","-","-","-",null,"-","-","-","-"]
[null,null,null,null,null,null,null,null,null,null,null,null,null,null,null,null,null,null,null,null,null,null,null,null,null,null,null,null,null,null,"-","-","-","-",null,"-","-","-","-",null,"-","-","-","-",null,"-","-","-","-",null,"-","-","-","-",null,"-","-","-","-",null,"-","-","-","-",null,"-","-","-","-",null,"-","-","-","-",null,"-","-","-","-"]
[null,null,null,null,null,null,null,null,null,null,null,null,null,null,null,null,null,null,null,null,null,null,null,null,null,null,null,null,null,null,"-","-","-","-",null,"-","-","-","-",null,"-","-","-","-",null,"-","-","-","-",null,"-","-","-","-",null,"-","-","-","-",null,"-","-","-","-",null,"-","-","-","-",null,"-","-","-","-",null,"-","-","-","-"]
[null,null,null,null,null,null,null,null,null,null,null,null,null,null,null,null,null,null,null,null,null,null,null,null,null,null,null,null,null,null,"-","-","-","-",null,"-","-","-","-",null,"-","-","-","-",null,"-","-","-","-",null,"-","-","-","-",null,"-","-","-","-",null,"-","-","-","-",null,"-","-","-","-",null,"-","-","-","-",null,"-","-","-","-"]
[null,null,null,null,null,null,null,null,null,null,null,null,null,null,null,null,null,null,null,null,null,null,null,null,null,null,null,null,null,null,"-","-","-","-",null,"-","-","-","-",null,"-","-","-","-",null,"-","-","-","-",null,"-","-","-","-",null,"-","-","-","-",null,"-","-","-","-",null,"-","-","-","-",null,"-","-","-","-",null,"-","-","-","-"]
[null,null,null,null,null,null,null,null,null,null,null,null,null,null,null,null,null,null,null,null,null,null,null,null,null,null,null,null,null,null,"-","-","-","-",null,"-","-","-","-",null,"-","-","-","-",null,"-","-","-","-",null,"-","-","-","-",null,"-","-","-","-",null,"-","-","-","-",null,"-","-","-","-",null,"-","-","-","-",null,"-","-","-","-"]
[null,null,null,null,null,null,null,null,null,null,null,null,null,null,null,null,null,null,null,null,null,null,null,null,null,null,null,null,null,null,"-","-","-","-",null,"-","-","-","-",null,"-","-","-","-",null,"-","-","-","-",null,"-","-","-","-",null,"-","-","-","-",null,"-","-","-","-",null,"-","-","-","-",null,"-","-","-","-",null,"-","-","-","-"]
[null,null,null,null,null,null,null,null,null,null,null,null,null,null,null,null,null,null,null,null,null,null,null,null,null,null,null,null,null,null,"-","-","-","-",null,"-","-","-","-",null,"-","-","-","-",null,"-","-","-","-",null,"-","-","-","-",null,"-","-","-","-",null,"-","-","-","-",null,"-","-","-","-",null,"-","-","-","-",null,"-","-","-","-"]
[null,null,null,null,null,null,null,null,null,null,null,null,null,null,null,null,null,null,null,null,null,null,null,null,null,null,null,null,null,null,"-","-","-","-",null,"-","-","-","-",null,"-","-","-","-",null,"-","-","-","-",null,"-","-","-","-",null,"-","-","-","-",null,"-","-","-","-",null,"-","-","-","-",null,"-","-","-","-",null,"-","-","-","-"]
[null,null,null,null,null,null,null,null,null,null,null,null,null,null,null,null,null,null,null,null,null,null,null,null,null,null,null,null,null,null,"-","-","-","-",null,"-","-","-","-",null,"-","-","-","-",null,"-","-","-","-",null,"-","-","-","-",null,"-","-","-","-",null,"-","-","-","-",null,"-","-","-","-",null,"-","-","-","-",null,"-","-","-","-"]
[null,null,null,null,null,null,null,null,null,null,null,null,null,null,null,null,null,null,null,null,null,null,null,null,null,null,null,null,null,null,"-","-","-","-",null,"-","-","-","-",null,"-","-","-","-",null,"-","-","-","-",null,"-","-","-","-",null,"-","-","-","-",null,"-","-","-","-",null,"-","-","-","-",null,"-","-","-","-",null,"-","-","-","-"]
[null,null,null,null,null,null,null,null,null,null,null,null,null,null,null,null,null,null,null,null,null,null,null,null,null,null,null,null,null,null,"-","-","-","-",null,"-","-","-","-",null,"-","-","-","-",null,"-","-","-","-",null,"-","-","-","-",null,"-","-","-","-",null,"-","-","-","-",null,"-","-","-","-",null,"-","-","-","-",null,"-","-","-","-"]
[null,null,null,null,null,null,null,null,null,null,null,null,null,null,null,null,null,null,null,null,null,null,null,null,null,null,null,null,null,null,"-","-","-","-",null,"-","-","-","-",null,"-","-","-","-",null,"-","-","-","-",null,"-","-","-","-",null,"-","-","-","-",null,"-","-","-","-",null,"-","-","-","-",null,"-","-","-","-",null,"-","-","-","-"]
[null,null,null,null,null,null,null,null,null,null,null,null,null,null,null,null,null,null,null,null,null,null,null,null,null,null,null,null,null,null,"-","-","-","-",null,"-","-","-","-",null,"-","-","-","-",null,"-","-","-","-",null,"-","-","-","-",null,"-","-","-","-",null,"-","-","-","-",null,"-","-","-","-",null,"-","-","-","-",null,"-","-","-","-"]
[null,null,null,null,null,null,null,null,null,null,null,null,null,null,null,null,null,null,null,null,null,null,null,null,null,null,null,null,null,null,"-","-","-","-",null,"-","-","-","-",null,"-","-","-","-",null,"-","-","-","-",null,"-","-","-","-",null,"-","-","-","-",null,"-","-","-","-",null,"-","-","-","-",null,"-","-","-","-",null,"-","-","-","-"]
[null,null,null,null,null,null,null,null,null,null,null,null,null,null,null,null,null,null,null,null,null,null,null,null,null,null,null,null,null,null,"-","-","-","-",null,"-","-","-","-",null,"-","-","-","-",null,"-","-","-","-",null,"-","-","-","-",null,"-","-","-","-",null,"-","-","-","-",null,"-","-","-","-",null,"-","-","-","-",null,"-","-","-","-"]
[null,null,null,null,null,null,null,null,null,null,null,null,null,null,null,null,null,null,null,null,null,null,null,null,null,null,null,null,null,null,"-","-","-","-",null,"-","-","-","-",null,"-","-","-","-",null,"-","-","-","-",null,"-","-","-","-",null,"-","-","-","-",null,"-","-","-","-",null,"-","-","-","-",null,"-","-","-","-",null,"-","-","-","-"]
[null,null,null,null,null,null,null,null,null,null,null,null,null,null,null,null,null,null,null,null,null,null,null,null,null,null,null,null,null,null,"-","-","-","-",null,"-","-","-","-",null,"-","-","-","-",null,"-","-","-","-",null,"-","-","-","-",null,"-","-","-","-",null,"-","-","-","-",null,"-","-","-","-",null,"-","-","-","-",null,"-","-","-","-"]
[null,null,null,null,null,null,null,null,null,null,null,null,null,null,null,null,null,null,null,null,null,null,null,null,null,null,null,null,null,null,"-","-","-","-",null,"-","-","-","-",null,"-","-","-","-",null,"-","-","-","-",null,"-","-","-","-",null,"-","-","-","-",null,"-","-","-","-",null,"-","-","-","-",null,"-","-","-","-",null,"-","-","-","-"]
[null,null,null,null,null,null,null,null,null,null,null,null,null,null,null,null,null,null,null,null,null,null,null,null,null,null,null,null,null,null,"-","-","-","-",null,"-","-","-","-",null,"-","-","-","-",null,"-","-","-","-",null,"-","-","-","-",null,"-","-","-","-",null,"-","-","-","-",null,"-","-","-","-",null,"-","-","-","-",null,"-","-","-","-"]
[null,null,null,null,null,null,null,null,null,null,null,null,null,null,null,null,null,null,null,null,null,null,null,null,null,null,null,null,null,null,"-","-","-","-",null,"-","-","-","-",null,"-","-","-","-",null,"-","-","-","-",null,"-","-","-","-",null,"-","-","-","-",null,"-","-","-","-",null,"-","-","-","-",null,"-","-","-","-",null,"-","-","-","-"]
[null,null,null,null,null,null,null,null,null,null,null,null,null,null,null,null,null,null,null,null,null,null,null,null,null,null,null,null,null,null,"-","-","-","-",null,"-","-","-","-",null,"-","-","-","-",null,"-","-","-","-",null,"-","-","-","-",null,"-","-","-","-",null,"-","-","-","-",null,"-","-","-","-",null,"-","-","-","-",null,"-","-","-","-"]
[null,null,null,null,null,null,null,null,null,null,null,null,null,null,null,null,null,null,null,null,null,null,null,null,null,null,null,null,null,null,"-","-","-","-",null,"-","-","-","-",null,"-","-","-","-",null,"-","-","-","-",null,"-","-","-","-",null,"-","-","-","-",null,"-","-","-","-",null,"-","-","-","-",null,"-","-","-","-",null,"-","-","-","-"]
[null,null,null,null,null,null,null,null,null,null,null,null,null,null,null,null,null,null,null,null,null,null,null,null,null,null,null,null,null,null,"-","-","-","-",null,"-","-","-","-",null,"-","-","-","-",null,"-","-","-","-",null,"-","-","-","-",null,"-","-","-","-",null,"-","-","-","-",null,"-","-","-","-",null,"-","-","-","-",null,"-","-","-","-"]
[null,null,null,null,null,null,null,null,null,null,null,null,null,null,null,null,null,null,null,null,null,null,null,null,null,null,null,null,null,null,{"$f":"IF(I101=\"\",\"-\",IF(F101=\"lanternan 2\",I101,\"-\"))","v":"-"},{"$f":"IF(K101=\"\",\"-\",IF(G101=\"lanternan 2\",K101,\"-\"))","v":"-"},{"$f":"IF(AE174<7,K101,\"-\")","v":"-"},{"$f":"IF(AF174<7,I101,\"-\")","v":"-"},null,{"$f":"IF(I101=\"\",\"-\",IF(F101=\"Balders Hsk 1\",I101,\"-\"))","v":"-"},{"$f":"IF(K101=\"\",\"-\",IF(G101=\"Balders Hsk 1\",K101,\"-\"))","v":"-"},{"$f":"IF(AJ174<7,K101,\"-\")","v":"-"},{"$f":"IF(AK174<7,I101,\"-\")","v":"-"},null,{"$f":"IF(I101=\"\",\"-\",IF(F101=\"Växjö Hsk 2\",I101,\"-\"))","v":"-"},{"$f":"IF(K101=\"\",\"-\",IF(G101=\"Växjö Hsk 2\",K101,\"-\"))","v":"-"},{"$f":"IF(AO174<7,K101,\"-\")","v":"-"},{"$f":"IF(AP174<7,I101,\"-\")","v":"-"},null,{"$f":"IF(I101=\"\",\"-\",IF(F101=\"Vaxholm Hsk\",I101,\"-\"))","v":"-"},{"$f":"IF(K101=\"\",\"-\",IF(G101=\"Vaxholm Hsk\",K101,\"-\"))","v":"-"},{"$f":"IF(AT174<7,K101,\"-\")","v":"-"},{"$f":"IF(AU174<7,I101,\"-\")","v":"-"},null,{"$f":"IF(I101=\"\",\"-\",IF(F101=\"Balders Hsk 2\",I101,\"-\"))","v":"-"},{"$f":"IF(K101=\"\",\"-\",IF(G101=\"Balders Hsk 2\",K101,\"-\"))","v":"-"},{"$f":"IF(AY174<7,K101,\"-\")","v":"-"},{"$f":"IF(AZ174<7,I101,\"-\")","v":"-"},null,{"$f":"IF(I101=\"\",\"-\",IF(F101=\"Jämjö hsk\",I101,\"-\"))","v":"-"},{"$f":"IF(K101=\"\",\"-\",IF(G101=\"Jämjö hsk\",K101,\"-\"))","v":"-"},{"$f":"IF(BD174<7,K101,\"-\")","v":"-"},{"$f":"IF(BE174<7,I101,\"-\")","v":"-"},null,{"$f":"IF(I101=\"\",\"-\",IF(F101=\"Balders Hsk 3\",I101,\"-\"))","v":"-"},{"$f":"IF(K101=\"\",\"-\",IF(G101=\"Balders Hsk 3\",K101,\"-\"))","v":"-"},{"$f":"IF(BI174<7,K101,\"-\")","v":"-"},{"$f":"IF(BJ174<7,I101,\"-\")","v":"-"},null,{"$f":"IF(I101=\"\",\"-\",IF(F101=\"Värends Hsk 1\",I101,\"-\"))","v":"-"},{"$f":"IF(K101=\"\",\"-\",IF(G101=\"Värends Hsk 1\",K101,\"-\"))","v":"-"},{"$f":"IF(BN174<7,K101,\"-\")","v":"-"},{"$f":"IF(BO174<7,I101,\"-\")","v":"-"},null,{"$f":"IF(I101=\"\",\"-\",IF(F101=\"Tingsryd Hsc 2\",I101,\"-\"))","v":"-"},{"$f":"IF(K101=\"\",\"-\",IF(G101=\"Tingsryd Hsc 2\",K101,\"-\"))","v":"-"},{"$f":"IF(BS174<7,K101,\"-\")","v":"-"},{"$f":"IF(BT174<7,I101,\"-\")","v":"-"},null,{"$f":"IF(I101=\"\",\"-\",IF(F101=\"Värends Hsk 2\",I101,\"-\"))","v":"-"},{"$f":"IF(K101=\"\",\"-\",IF(G101=\"Värends Hsk 2\",K101,\"-\"))","v":"-"},{"$f":"IF(BX174<7,K101,\"-\")","v":"-"},{"$f":"IF(BY174<7,I101,\"-\")","v":"-"}]

{"sheet":"Tabeller","index":2,"n_rows":30,"n_cols":13,"rows_kept":30,"cut":false,"hidden":false,"merged":[]}
[null,"Seriespel säsongen 2021/ 2022"]
[null,"Division 1"]
["Plac",null,"Sp.m","3p","2p","1p","0p",null,null,"Matchkvot",null,"(+/-)","Poäng"]
[{"$f":"IF(SUM(C$4:C$13)<1,0,1)","v":0},{"$f":"'Spelprogram Div 1'!R81","v":"Carlskrona Hsc"},{"$f":"'Spelprogram Div 1'!S81","v":0},{"$f":"'Spelprogram Div 1'!T81","v":0},{"$f":"'Spelprogram Div 1'!U81","v":0},{"$f":"'Spelprogram Div 1'!V81","v":0},{"$f":"'Spelprogram Div 1'!W81","v":0},null,{"$f":"'Spelprogram Div 1'!Y81","v":0},":",{"$f":"'Spelprogram Div 1'!AA81","v":0},{"$f":"'Spelprogram Div 1'!AB81","v":0},{"$f":"'Spelprogram Div 1'!AC81","v":0}]
[{"$f":"IF(SUM(C$4:C$13)<1,0,IF($M5<$M4,2,IF($L5<$L4,2,IF($I5<$I4,2,$A4))))","v":0},{"$f":"'Spelprogram Div 1'!R78","v":"Dynapac Hsc"},{"$f":"'Spelprogram Div 1'!S78","v":0},{"$f":"'Spelprogram Div 1'!T78","v":0},{"$f":"'Spelprogram Div 1'!U78","v":0},{"$f":"'Spelprogram Div 1'!V78","v":0},{"$f":"'Spelprogram Div 1'!W78","v":0},null,{"$f":"'Spelprogram Div 1'!Y78","v":0},":",{"$f":"'Spelprogram Div 1'!AA78","v":0},{"$f":"'Spelprogram Div 1'!AB78","v":0},{"$f":"'Spelprogram Div 1'!AC78","v":0}]
[{"$f":"IF(SUM(C$4:C$13)<1,0,IF($M6<$M5,3,IF($L6<$L5,3,IF($I6<$I5,3,$A5))))","v":0},{"$f":"'Spelprogram Div 1'!R85","v":"Tingsryd Hsc 1"},{"$f":"'Spelprogram Div 1'!S85","v":0},{"$f":"'Spelprogram Div 1'!T85","v":0},{"$f":"'Spelprogram Div 1'!U85","v":0},{"$f":"'Spelprogram Div 1'!V85","v":0},{"$f":"'Spelprogram Div 1'!W85","v":0},null,{"$f":"'Spelprogram Div 1'!Y85","v":0},":",{"$f":"'Spelprogram Div 1'!AA85","v":0},{"$f":"'Spelprogram Div 1'!AB85","v":0},{"$f":"'Spelprogram Div 1'!AC85","v":0}]
[{"$f":"IF(SUM(C$4:C$13)<1,0,IF($M7<$M6,4,IF($L7<$L6,4,IF($I7<$I6,4,$A6))))","v":0},{"$f":"'Spelprogram Div 1'!R80","v":"Växjö Hsk 1"},{"$f":"'Spelprogram Div 1'!S80","v":0},{"$f":"'Spelprogram Div 1'!T80","v":0},{"$f":"'Spelprogram Div 1'!U80","v":0},{"$f":"'Spelprogram Div 1'!V80","v":0},{"$f":"'Spelprogram Div 1'!W80","v":0},null,{"$f":"'Spelprogram Div 1'!Y80","v":0},":",{"$f":"'Spelprogram Div 1'!AA80","v":0},{"$f":"'Spelprogram Div 1'!AB80","v":0},{"$f":"'Spelprogram Div 1'!AC80","v":0}]
[{"$f":"IF(SUM(C$4:C$13)<1,0,IF($M8<$M7,5,IF($L8<$L7,5,IF($I8<$I7,5,$A7))))","v":0},{"$f":"'Spelprogram Div 1'!R79","v":"Korpen Åseda"},{"$f":"'Spelprogram Div 1'!S79","v":0},{"$f":"'Spelprogram Div 1'!T79","v":0},{"$f":"'Spelprogram Div 1'!U79","v":0},{"$f":"'Spelprogram Div 1'!V79","v":0},{"$f":"'Spelprogram Div 1'!W79","v":0},null,{"$f":"'Spelprogram Div 1'!Y79","v":0},":",{"$f":"'Spelprogram Div 1'!AA79","v":0},{"$f":"'Spelprogram Div 1'!AB79","v":0},{"$f":"'Spelprogram Div 1'!AC79","v":0}]
[{"$f":"IF(SUM(C$4:C$13)<1,0,IF($M9<$M8,6,IF($L9<$L8,6,IF($I9<$I8,6,$A8))))","v":0},{"$f":"'Spelprogram Div 1'!R82","v":"Korpen Nybro"},{"$f":"'Spelprogram Div 1'!S82","v":0},{"$f":"'Spelprogram Div 1'!T82","v":0},{"$f":"'Spelprogram Div 1'!U82","v":0},{"$f":"'Spelprogram Div 1'!V82","v":0},{"$f":"'Spelprogram Div 1'!W82","v":0},null,{"$f":"'Spelprogram Div 1'!Y82","v":0},":",{"$f":"'Spelprogram Div 1'!AA82","v":0},{"$f":"'Spelprogram Div 1'!AB82","v":0},{"$f":"'Spelprogram Div 1'!AC82","v":0}]
[{"$f":"IF(SUM(C$4:C$13)<1,0,IF($M10<$M9,7,IF($L10<$L9,7,IF($I10<$I9,7,$A9))))","v":0},{"$f":"'Spelprogram Div 1'!R84","v":"Lanternan 1"},{"$f":"'Spelprogram Div 1'!S84","v":0},{"$f":"'Spelprogram Div 1'!T84","v":0},{"$f":"'Spelprogram Div 1'!U84","v":0},{"$f":"'Spelprogram Div 1'!V84","v":0},{"$f":"'Spelprogram Div 1'!W84","v":0},null,{"$f":"'Spelprogram Div 1'!Y84","v":0},":",{"$f":"'Spelprogram Div 1'!AA84","v":0},{"$f":"'Spelprogram Div 1'!AB84","v":0},{"$f":"'Spelprogram Div 1'!AC84","v":0}]
[{"$f":"IF(SUM(C$4:C$13)<1,0,IF($M11<$M10,8,IF($L11<$L10,8,IF($I11<$I10,8,$A10))))","v":0},{"$f":"'Spelprogram Div 1'!R77","v":"Sibbamåla "},{"$f":"'Spelprogram Div 1'!S77","v":0},{"$f":"'Spelprogram Div 1'!T77","v":0},{"$f":"'Spelprogram Div 1'!U77","v":0},{"$f":"'Spelprogram Div 1'!V77","v":0},{"$f":"'Spelprogram Div 1'!W77","v":0},null,{"$f":"'Spelprogram Div 1'!Y77","v":0},":",{"$f":"'Spelprogram Div 1'!AA77","v":0},{"$f":"'Spelprogram Div 1'!AB77","v":0},{"$f":"'Spelprogram Div 1'!AC77","v":0}]
[]
[]
[]
[]
[]
[]
[]
[null,"Division 2"]
["Plac",null,"Sp.m","3p","2p","1p","0p",null,null,"Matchkvot",null,"(+/-)","Poäng"]
[{"$f":"IF(SUM(C$21:C$30)<1,0,1)","v":0},{"$f":"'Spelprogram Div 2'!R80","v":"Vaxholm Hsk"},{"$f":"'Spelprogram Div 2'!S80","v":0},{"$f":"'Spelprogram Div 2'!T80","v":0},{"$f":"'Spelprogram Div 2'!U80","v":0},{"$f":"'Spelprogram Div 2'!V80","v":0},{"$f":"'Spelprogram Div 2'!W80","v":0},null,{"$f":"'Spelprogram Div 2'!Y80","v":0},{"$f":"'Spelprogram Div 2'!Z80","v":":"},{"$f":"'Spelprogram Div 2'!AA80","v":0},{"$f":"'Spelprogram Div 2'!AB80","v":0},{"$f":"'Spelprogram Div 2'!AC80","v":0}]
[{"$f":"IF(SUM(C$21:C$30)<1,0,IF($M22<$M21,2,IF($L22<$L21,2,IF($I22<$I21,2,$A21))))","v":0},{"$f":"'Spelprogram Div 2'!R84","v":"Värends Hsk 1 "},{"$f":"'Spelprogram Div 2'!S84","v":0},{"$f":"'Spelprogram Div 2'!T84","v":0},{"$f":"'Spelprogram Div 2'!U84","v":0},{"$f":"'Spelprogram Div 2'!V84","v":0},{"$f":"'Spelprogram Div 2'!W84","v":0},null,{"$f":"'Spelprogram Div 2'!Y84","v":0},{"$f":"'Spelprogram Div 2'!Z84","v":":"},{"$f":"'Spelprogram Div 2'!AA84","v":0},{"$f":"'Spelprogram Div 2'!AB84","v":0},{"$f":"'Spelprogram Div 2'!AC84","v":0}]
[{"$f":"IF(SUM(C$21:C$30)<1,0,IF($M23<$M22,3,IF($L23<$L22,3,IF($I23<$I22,3,$A22))))","v":0},{"$f":"'Spelprogram Div 2'!R78","v":"Balders Hsk 1"},{"$f":"'Spelprogram Div 2'!S78","v":0},{"$f":"'Spelprogram Div 2'!T78","v":0},{"$f":"'Spelprogram Div 2'!U78","v":0},{"$f":"'Spelprogram Div 2'!V78","v":0},{"$f":"'Spelprogram Div 2'!W78","v":0},null,{"$f":"'Spelprogram Div 2'!Y78","v":0},{"$f":"'Spelprogram Div 2'!Z78","v":":"},{"$f":"'Spelprogram Div 2'!AA78","v":0},{"$f":"'Spelprogram Div 2'!AB78","v":0},{"$f":"'Spelprogram Div 2'!AC78","v":0}]
[{"$f":"IF(SUM(C$21:C$30)<1,0,IF($M24<$M23,4,IF($L24<$L23,4,IF($I24<$I23,4,$A23))))","v":0},{"$f":"'Spelprogram Div 2'!R77","v":"Lanternan 2"},{"$f":"'Spelprogram Div 2'!S77","v":0},{"$f":"'Spelprogram Div 2'!T77","v":0},{"$f":"'Spelprogram Div 2'!U77","v":0},{"$f":"'Spelprogram Div 2'!V77","v":0},{"$f":"'Spelprogram Div 2'!W77","v":0},null,{"$f":"'Spelprogram Div 2'!Y77","v":0},{"$f":"'Spelprogram Div 2'!Z77","v":":"},{"$f":"'Spelprogram Div 2'!AA77","v":0},{"$f":"'Spelprogram Div 2'!AB77","v":0},{"$f":"'Spelprogram Div 2'!AC77","v":0}]
[{"$f":"IF(SUM(C$21:C$30)<1,0,IF($M25<$M24,5,IF($L25<$L24,5,IF($I25<$I24,5,$A24))))","v":0},{"$f":"'Spelprogram Div 2'!R81","v":"Balders Hsk 2"},{"$f":"'Spelprogram Div 2'!S81","v":0},{"$f":"'Spelprogram Div 2'!T81","v":0},{"$f":"'Spelprogram Div 2'!U81","v":0},{"$f":"'Spelprogram Div 2'!V81","v":0},{"$f":"'Spelprogram Div 2'!W81","v":0},null,{"$f":"'Spelprogram Div 2'!Y81","v":0},{"$f":"'Spelprogram Div 2'!Z81","v":":"},{"$f":"'Spelprogram Div 2'!AA81","v":0},{"$f":"'Spelprogram Div 2'!AB81","v":0},{"$f":"'Spelprogram Div 2'!AC81","v":0}]
[{"$f":"IF(SUM(C$21:C$30)<1,0,IF($M26<$M25,6,IF($L26<$L25,6,IF($I26<$I25,6,$A25))))","v":0},{"$f":"'Spelprogram Div 2'!R82","v":"Jämjö Hsk "},{"$f":"'Spelprogram Div 2'!S82","v":0},{"$f":"'Spelprogram Div 2'!T82","v":0},{"$f":"'Spelprogram Div 2'!U82","v":0},{"$f":"'Spelprogram Div 2'!V82","v":0},{"$f":"'Spelprogram Div 2'!W82","v":0},null,{"$f":"'Spelprogram Div 2'!Y82","v":0},{"$f":"'Spelprogram Div 2'!Z82","v":":"},{"$f":"'Spelprogram Div 2'!AA82","v":0},{"$f":"'Spelprogram Div 2'!AB82","v":0},{"$f":"'Spelprogram Div 2'!AC82","v":0}]
[{"$f":"IF(SUM(C$21:C$30)<1,0,IF($M27<$M26,7,IF($L27<$L26,7,IF($I27<$I26,7,$A26))))","v":0},{"$f":"'Spelprogram Div 2'!R86","v":"Värends Hsk 2 "},{"$f":"'Spelprogram Div 2'!S86","v":0},{"$f":"'Spelprogram Div 2'!T86","v":0},{"$f":"'Spelprogram Div 2'!U86","v":0},{"$f":"'Spelprogram Div 2'!V86","v":0},{"$f":"'Spelprogram Div 2'!W86","v":0},null,{"$f":"'Spelprogram Div 2'!Y86","v":0},{"$f":"'Spelprogram Div 2'!Z86","v":":"},{"$f":"'Spelprogram Div 2'!AA86","v":0},{"$f":"'Spelprogram Div 2'!AB86","v":0},{"$f":"'Spelprogram Div 2'!AC86","v":0}]
[{"$f":"IF(SUM(C$21:C$30)<1,0,IF($M28<$M27,8,IF($L28<$L27,8,IF($I28<$I27,8,$A27))))","v":0},{"$f":"'Spelprogram Div 2'!R85","v":"Tingsryd Hsc 2"},{"$f":"'Spelprogram Div 2'!S85","v":0},{"$f":"'Spelprogram Div 2'!T85","v":0},{"$f":"'Spelprogram Div 2'!U85","v":0},{"$f":"'Spelprogram Div 2'!V85","v":0},{"$f":"'Spelprogram Div 2'!W85","v":0},null,{"$f":"'Spelprogram Div 2'!Y85","v":0},{"$f":"'Spelprogram Div 2'!Z80","v":":"},{"$f":"'Spelprogram Div 2'!AA85","v":0},{"$f":"'Spelprogram Div 2'!AB85","v":0},{"$f":"'Spelprogram Div 2'!AC85","v":0}]
[{"$f":"IF(SUM(C$21:C$30)<1,0,IF($M29<$M28,9,IF($L29<$L28,9,IF($I29<$I28,9,$A28))))","v":0},{"$f":"'Spelprogram Div 2'!R83","v":"Balders Hsk 3"},{"$f":"'Spelprogram Div 2'!S83","v":0},{"$f":"'Spelprogram Div 2'!T83","v":0},{"$f":"'Spelprogram Div 2'!U83","v":0},{"$f":"'Spelprogram Div 2'!V83","v":0},{"$f":"'Spelprogram Div 2'!W83","v":0},null,{"$f":"'Spelprogram Div 2'!Y83","v":0},{"$f":"'Spelprogram Div 2'!Z83","v":":"},{"$f":"'Spelprogram Div 2'!AA83","v":0},{"$f":"'Spelprogram Div 2'!AB83","v":0},{"$f":"'Spelprogram Div 2'!AC83","v":0}]
[{"$f":"IF(SUM(C$21:C$30)<1,0,IF($M30<$M29,10,IF($L30<$L29,10,IF($I30<$I29,10,$A29))))","v":0},{"$f":"'Spelprogram Div 2'!R79","v":"Växjö Hsk 2"},{"$f":"'Spelprogram Div 2'!S79","v":0},{"$f":"'Spelprogram Div 2'!T79","v":0},{"$f":"'Spelprogram Div 2'!U79","v":0},{"$f":"'Spelprogram Div 2'!V79","v":0},{"$f":"'Spelprogram Div 2'!W79","v":0},null,{"$f":"'Spelprogram Div 2'!Y79","v":0},{"$f":"'Spelprogram Div 2'!Z79","v":":"},{"$f":"'Spelprogram Div 2'!AA79","v":0},{"$f":"'Spelprogram Div 2'!AB79","v":0},{"$f":"'Spelprogram Div 2'!AC79","v":0}]

{"sheet":"Serieinformation","index":3,"n_rows":65,"n_cols":2,"rows_kept":65,"cut":false,"hidden":false,"merged":[]}
["Seriespel Div 1 / Div 2  2021/ 2022"]
["18 lag har anmält sitt intresse för seriespel."]
[]
["Den som vinner Division 1 blir lag-SM vinnare inomhus."]
["Om matcher måste flyttas skall dessa spelas innan nästa serieomgång, överträdelse medför automatiskt W.O"]
["Berörda parter(dvs. Arrangör, Gert Karlsson o Tomas Lindahl) underättas i god tid."]
["Regelboken § 10:5   Walk over i en match blir 6-0."]
["Om ett lag inte kan spela på utsatt dag bör den i första hand flyttas till ett annat speldatum dock senast innan "]
["nästa spelomgång. Laget som vill flytta en seriematch bestämmer inte spelplats utan det gör motståndarlaget. "," "]
["Vid w.o skall laget kontakta motspelarna och den som har hand om seriespelet, samt tävlingsarrangören och"]
["webbmaster på www.svhkf.se. Lagen skall meddela seriespelsansvarig och webbmaster när matchen skall avgöras."]
["Om w.o måste lämnas gäller följande: Första seriespelsomgången ingen åtgärd."]
["Andra seriespelsomgången blir det böter på 500 kr som SvHKF driver in och fördelar till berörda klubbar. "]
["Om inte detta betalas innan nästa seriespelsomgång utesluts laget ur serien. "]
["Vid w.o i en tredje seriespelsomgång så utesluts laget direkt."]
[]
["OBS!! Eftersom det är fler omgångar i div 2 än i div 1 så gäller följande,  "]
["för de tre klubbar som har lag i bägge divisionerna, att de kastare som har kastat i div 1 omg 3 respektive 5"]
["ej har rätt att kasta i div 2 omg 4 respektive 6."]
[]
["Poängberäkning:"]
["Vinst=3 poäng ,  vinst efter 7-meterskast=2 poäng ,  förlust efter 7-meterskast=1 poäng och förlust=0 poäng "]
["Vid oavgjort 5-5 blir det omkastning på 7 meter , alla i laget kastar 5 skor var från 7 meter , skulle det "]
["fortfarande inte gå att skilja lagen åt får lagen själva utse en kastare som kastar 5 skor från 7 meter."]
["Är det fortfarande lika får de utse en ny kastare(om laget vill får de utse samma kastare) tills ett avgörande har skett."]
[]
["Arrangör skickar in matchresultat via SMS till Tomas Lindahl direkt efter avslutade matcher "]
["Tel. 073-4004693 skriv matchnummer enligt spelprogram följt av resultatet i matchen."]
["Matchprotokollet skickas till Gert Karlsson via e-post:  gert.karlsson@svhkf.se eller ett tydligt foto"]
["på protokollet för uppdatering av rankingtabell."]
["Har ni inte tillgång till e-post/mobil får ni skicka protokollet till  Gert Karlsson Hospitalsgatan 44 602 27 N-köping."]
[]
["Kontaktpersoner:                                                                                                                   Spelplatser"]
["Växjö Hsk 1 o 2       Thomas Dahl     070 539 12 62                                "]
["Värend Hsk 1 o 2     Lars-Åke Brincner     073-0304542                                                  Växjö Boulehall                                    "]
["Korpen Åseda         Gert Karlsson            073-2688029                                                 Åseda, Brunnskyrkan"]
["Korpen Nybro         Kjell Rydh 073-8024233                                                Korpcentrum, Kungshallsvägen 33"]
["Tingsryd Hsc  1        Johan Johansson        073-4011762                                              Tingsryd, Kurorten"]
["Tingsryd Hsc  2        Janne Johansson             076-1121963                                         Tingsryd, Kurorten"]
["Vaxholm                  Kristian Jältsäter                  070-7216721"]
["Balders Hsk 1         Pascal Letter                  079-3340868"]
["Balders Hsk 2         Jean Fredriksson Väre    070-3080849"]
["Balders Hsk 3        Martin Anjou                  073-9953811"]
["Dynapac                  Peter Olsson          0455-21660  el. 070-8359208              Boulehallen i Karlskrona"]
["Lanternan 1 o 2      Christer Blomgren    Tel: 0455-57668 el. 070-6316669        Boulehallen i Karlskrona"]
["Carlskrona             Leif Sundahl  0455-42963    el.  070-9690151                      Boulehallen i Karlskrona"]
["Sibbamåla              Mattias Gneupel     0455-91141    el.  070-3893099             Boulehallen i Karlskrona"]
["Jämjö Hsk             Daniel Mårtensson         070-1478538                                   Boulehallen i Karlskrona"]
[]
[]
[]
["Seriespelsupplägg 2021/2022"]
["Div 1 = 8 lag  Spelas med dubbelmöten, hemmalaget får möjlighet att se bortalagets spelaruppställning"]
[]
[]
["Div 2 =10 lag. Spelas med dubbelmöten, hemmalaget får möjlighet att se bortalagets spelaruppställning"]
[]
["Div 1"]
["Priser delas ut till de 3 främsta i serien"]
["Lag 7 och 8 åker ur till Div 2"]
[]
["Div 2"]
["Priser delas ut till de 3 främsta i serien"]
[]
["Lag 1 och 2 flyttas upp till Div 1"]